Back to Multiple platform build/check report for BioC 3.13 experimental data
ABCDEFGHIJKLM[N]OPQRSTUVWXYZ

BUILD report for NGScopyData on riesling1

This page was generated on 2021-01-14 15:59:10 -0500 (Thu, 14 Jan 2021).

TO THE DEVELOPERS/MAINTAINERS OF THE NGScopyData PACKAGE: Please make sure to use the following settings in order to reproduce any error or warning you see on this page.
Package 250/385HostnameOS / ArchINSTALLBUILDCHECK
NGScopyData 1.11.0
Xiaobei Zhao
Snapshot Date: 2021-01-14 09:00:13 -0500 (Thu, 14 Jan 2021)
URL: https://git.bioconductor.org/packages/NGScopyData
Branch: master
Last Commit: 0e1ad8d
Last Changed Date: 2020-10-27 10:10:21 -0500 (Tue, 27 Oct 2020)
malbec2 Linux (Ubuntu 20.04.1 LTS) / x86_64  OK  OK  OK UNNEEDED, same version exists in internal repository
riesling1 Windows Server 2019 Standard / x64  OK [ OK ] OK 

Summary

Package: NGScopyData
Version: 1.11.0
Command: chmod a+r NGScopyData -R && D:\biocbuild\bbs-3.13-bioc\R\bin\R.exe CMD build --keep-empty-dirs --no-resave-data NGScopyData
StartedAt: 2021-01-14 10:48:32 -0500 (Thu, 14 Jan 2021)
EndedAt: 2021-01-14 10:48:36 -0500 (Thu, 14 Jan 2021)
EllapsedTime: 3.4 seconds
RetCode: 0
Status:  OK  
PackageFile: NGScopyData_1.11.0.tar.gz
PackageFileSize: 37 MiB

Command output

##############################################################################
##############################################################################
###
### Running command:
###
###   chmod a+r NGScopyData -R && D:\biocbuild\bbs-3.13-bioc\R\bin\R.exe CMD build --keep-empty-dirs --no-resave-data NGScopyData
###
##############################################################################
##############################################################################


* checking for file 'NGScopyData/DESCRIPTION' ... OK
* preparing 'NGScopyData':
* checking DESCRIPTION meta-information ... OK
* checking for LF line-endings in source and make files and shell scripts
* checking for empty or unneeded directories
* building 'NGScopyData_1.11.0.tar.gz'