Back to Multiple platform build/check report for BioC 3.13 experimental data
ABCDEFGHIJKL[M]NOPQRSTUVWXYZ

INSTALL report for MouseGastrulationData on riesling1

This page was generated on 2021-01-14 15:59:09 -0500 (Thu, 14 Jan 2021).

TO THE DEVELOPERS/MAINTAINERS OF THE MouseGastrulationData PACKAGE: Please make sure to use the following settings in order to reproduce any error or warning you see on this page.
Package 234/385HostnameOS / ArchINSTALLBUILDCHECK
MouseGastrulationData 1.5.4
Jonathan Griffiths
Snapshot Date: 2021-01-14 09:00:13 -0500 (Thu, 14 Jan 2021)
URL: https://git.bioconductor.org/packages/MouseGastrulationData
Branch: master
Last Commit: bfebe1f
Last Changed Date: 2021-01-13 14:15:54 -0500 (Wed, 13 Jan 2021)
malbec2 Linux (Ubuntu 20.04.1 LTS) / x86_64  OK  OK  OK YES, new version is higher than in internal repository
riesling1 Windows Server 2019 Standard / x64 [ OK ] OK  OK 

Summary

Package: MouseGastrulationData
Version: 1.5.4
Command: C:\cygwin\bin\curl.exe -O http://172.29.0.4/BBS/3.13/data-experiment/src/contrib/MouseGastrulationData_1.5.4.tar.gz && rm -rf MouseGastrulationData.buildbin-libdir && mkdir MouseGastrulationData.buildbin-libdir && D:\biocbuild\bbs-3.13-bioc\R\bin\R.exe CMD INSTALL --merge-multiarch --build --library=MouseGastrulationData.buildbin-libdir MouseGastrulationData_1.5.4.tar.gz && D:\biocbuild\bbs-3.13-bioc\R\bin\R.exe CMD INSTALL MouseGastrulationData_1.5.4.zip && rm MouseGastrulationData_1.5.4.tar.gz MouseGastrulationData_1.5.4.zip
StartedAt: 2021-01-14 10:09:29 -0500 (Thu, 14 Jan 2021)
EndedAt: 2021-01-14 10:09:56 -0500 (Thu, 14 Jan 2021)
EllapsedTime: 27.1 seconds
RetCode: 0
Status:  OK  

Command output

##############################################################################
##############################################################################
###
### Running command:
###
###   C:\cygwin\bin\curl.exe -O http://172.29.0.4/BBS/3.13/data-experiment/src/contrib/MouseGastrulationData_1.5.4.tar.gz && rm -rf MouseGastrulationData.buildbin-libdir && mkdir MouseGastrulationData.buildbin-libdir && D:\biocbuild\bbs-3.13-bioc\R\bin\R.exe CMD INSTALL --merge-multiarch --build --library=MouseGastrulationData.buildbin-libdir MouseGastrulationData_1.5.4.tar.gz && D:\biocbuild\bbs-3.13-bioc\R\bin\R.exe CMD INSTALL MouseGastrulationData_1.5.4.zip && rm MouseGastrulationData_1.5.4.tar.gz MouseGastrulationData_1.5.4.zip
###
##############################################################################
##############################################################################


  % Total    % Received % Xferd  Average Speed   Time    Time     Time  Current
                                 Dload  Upload   Total   Spent    Left  Speed

  0     0    0     0    0     0      0      0 --:--:-- --:--:-- --:--:--     0
100 44783  100 44783    0     0  4859k      0 --:--:-- --:--:-- --:--:-- 5466k

install for i386

* installing *source* package 'MouseGastrulationData' ...
** using staged installation
** R
** inst
** byte-compile and prepare package for lazy loading
** help
*** installing help indices
  converting help for package 'MouseGastrulationData'
    finding HTML links ... done
    AtlasSampleMetadata                     html  
REDIRECT:topic	 AtlasSampleMetadata -> AtlasSampleMetadata.html [ SUCCESS ]
    BPSATACData                             html  
REDIRECT:topic	 BPSATACData -> BPSATACData.html [ SUCCESS ]
    finding level-2 HTML links ... done

    EmbryoAtlasData                         html  
REDIRECT:topic	 EmbryoAtlasData -> EmbryoAtlasData.html [ SUCCESS ]
    EmbryoCelltypeColours                   html  
REDIRECT:topic	 EmbryoCelltypeColours -> EmbryoCelltypeColours.html [ SUCCESS ]
    GuibentifExtraData                      html  
REDIRECT:topic	 GuibentifExtraData -> GuibentifExtraData.html [ SUCCESS ]
    LohoffSeqFISHData                       html  
REDIRECT:topic	 LohoffSeqFISHData -> LohoffSeqFISHData.html [ SUCCESS ]
    MouseGastrulationData-package           html  
REDIRECT:topic	 MouseGastrulationData-package -> MouseGastrulationData-package.html [ SUCCESS ]
REDIRECT:topic	 MouseGastrulationData -> MouseGastrulationData-package.html [ SUCCESS ]
    TChimeraData                            html  
REDIRECT:topic	 TChimeraData -> TChimeraData.html [ SUCCESS ]
    Tal1ChimeraData                         html  
REDIRECT:topic	 Tal1ChimeraData -> Tal1ChimeraData.html [ SUCCESS ]
    WTChimeraData                           html  
REDIRECT:topic	 WTChimeraData -> WTChimeraData.html [ SUCCESS ]
** building package indices
** installing vignettes
** testing if installed package can be loaded from temporary location
** testing if installed package can be loaded from final location
** testing if installed package keeps a record of temporary installation path

install for x64

* installing *source* package 'MouseGastrulationData' ...
** testing if installed package can be loaded
* MD5 sums
packaged installation of 'MouseGastrulationData' as MouseGastrulationData_1.5.4.zip
* DONE (MouseGastrulationData)
* installing to library 'D:/biocbuild/bbs-3.13-bioc/R/library'
package 'MouseGastrulationData' successfully unpacked and MD5 sums checked