Back to Multiple platform build/check report for BioC 3.13 experimental data
ABCDEFGHIJKL[M]NOPQRSTUVWXYZ

BUILD report for MouseGastrulationData on riesling1

This page was generated on 2021-01-21 16:01:31 -0500 (Thu, 21 Jan 2021).

TO THE DEVELOPERS/MAINTAINERS OF THE MouseGastrulationData PACKAGE: Please make sure to use the following settings in order to reproduce any error or warning you see on this page.
Package 234/386HostnameOS / ArchINSTALLBUILDCHECK
MouseGastrulationData 1.5.5
Jonathan Griffiths
Snapshot Date: 2021-01-21 09:00:14 -0500 (Thu, 21 Jan 2021)
URL: https://git.bioconductor.org/packages/MouseGastrulationData
Branch: master
Last Commit: 1f56913
Last Changed Date: 2021-01-17 10:22:59 -0500 (Sun, 17 Jan 2021)
malbec2 Linux (Ubuntu 20.04.1 LTS) / x86_64  OK  OK  OK UNNEEDED, same version exists in internal repository
riesling1 Windows Server 2019 Standard / x64  OK [ OK ] OK 

Summary

Package: MouseGastrulationData
Version: 1.5.5
Command: chmod a+r MouseGastrulationData -R && D:\biocbuild\bbs-3.13-bioc\R\bin\R.exe CMD build --keep-empty-dirs --no-resave-data MouseGastrulationData
StartedAt: 2021-01-21 10:51:20 -0500 (Thu, 21 Jan 2021)
EndedAt: 2021-01-21 10:52:35 -0500 (Thu, 21 Jan 2021)
EllapsedTime: 74.7 seconds
RetCode: 0
Status:  OK  
PackageFile: MouseGastrulationData_1.5.5.tar.gz
PackageFileSize: 358.4 KiB

Command output

##############################################################################
##############################################################################
###
### Running command:
###
###   chmod a+r MouseGastrulationData -R && D:\biocbuild\bbs-3.13-bioc\R\bin\R.exe CMD build --keep-empty-dirs --no-resave-data MouseGastrulationData
###
##############################################################################
##############################################################################


* checking for file 'MouseGastrulationData/DESCRIPTION' ... OK
* preparing 'MouseGastrulationData':
* checking DESCRIPTION meta-information ... OK
* installing the package to process help pages
* saving partial Rd database
* creating vignettes ... OK
* checking for LF line-endings in source and make files and shell scripts
* checking for empty or unneeded directories
* building 'MouseGastrulationData_1.5.5.tar.gz'