Back to Multiple platform build/check report for BioC 3.13 experimental data
ABCDEFGHIJKL[M]NOPQRSTUVWXYZ

INSTALL report for MethylSeqData on riesling1

This page was generated on 2021-01-21 16:01:31 -0500 (Thu, 21 Jan 2021).

TO THE DEVELOPERS/MAINTAINERS OF THE MethylSeqData PACKAGE: Please make sure to use the following settings in order to reproduce any error or warning you see on this page.
Package 221/386HostnameOS / ArchINSTALLBUILDCHECK
MethylSeqData 1.1.1
Peter Hickey
Snapshot Date: 2021-01-21 09:00:14 -0500 (Thu, 21 Jan 2021)
URL: https://git.bioconductor.org/packages/MethylSeqData
Branch: master
Last Commit: c1b2572
Last Changed Date: 2020-11-24 19:59:48 -0500 (Tue, 24 Nov 2020)
malbec2 Linux (Ubuntu 20.04.1 LTS) / x86_64  OK  OK  OK UNNEEDED, same version exists in internal repository
riesling1 Windows Server 2019 Standard / x64 [ OK ] OK  OK 

Summary

Package: MethylSeqData
Version: 1.1.1
Command: C:\cygwin\bin\curl.exe -O http://172.29.0.4/BBS/3.13/data-experiment/src/contrib/MethylSeqData_1.1.1.tar.gz && rm -rf MethylSeqData.buildbin-libdir && mkdir MethylSeqData.buildbin-libdir && D:\biocbuild\bbs-3.13-bioc\R\bin\R.exe CMD INSTALL --merge-multiarch --build --library=MethylSeqData.buildbin-libdir MethylSeqData_1.1.1.tar.gz && D:\biocbuild\bbs-3.13-bioc\R\bin\R.exe CMD INSTALL MethylSeqData_1.1.1.zip && rm MethylSeqData_1.1.1.tar.gz MethylSeqData_1.1.1.zip
StartedAt: 2021-01-21 10:12:56 -0500 (Thu, 21 Jan 2021)
EndedAt: 2021-01-21 10:13:33 -0500 (Thu, 21 Jan 2021)
EllapsedTime: 36.9 seconds
RetCode: 0
Status:  OK  

Command output

##############################################################################
##############################################################################
###
### Running command:
###
###   C:\cygwin\bin\curl.exe -O http://172.29.0.4/BBS/3.13/data-experiment/src/contrib/MethylSeqData_1.1.1.tar.gz && rm -rf MethylSeqData.buildbin-libdir && mkdir MethylSeqData.buildbin-libdir && D:\biocbuild\bbs-3.13-bioc\R\bin\R.exe CMD INSTALL --merge-multiarch --build --library=MethylSeqData.buildbin-libdir MethylSeqData_1.1.1.tar.gz && D:\biocbuild\bbs-3.13-bioc\R\bin\R.exe CMD INSTALL MethylSeqData_1.1.1.zip && rm MethylSeqData_1.1.1.tar.gz MethylSeqData_1.1.1.zip
###
##############################################################################
##############################################################################


  % Total    % Received % Xferd  Average Speed   Time    Time     Time  Current
                                 Dload  Upload   Total   Spent    Left  Speed

  0     0    0     0    0     0      0      0 --:--:-- --:--:-- --:--:--     0
100 12365  100 12365    0     0   805k      0 --:--:-- --:--:-- --:--:--  805k

install for i386

* installing *source* package 'MethylSeqData' ...
** using staged installation
** R
** inst
** byte-compile and prepare package for lazy loading
** help
*** installing help indices
  converting help for package 'MethylSeqData'
    finding HTML links ... done
    ChenMammaryData                         html  
REDIRECT:topic	 ChenMammaryData -> ChenMammaryData.html [ SUCCESS ]
    finding level-2 HTML links ... done

    RizzardiHickeyBrain                     html  
REDIRECT:topic	 RizzardiHickeyBrain -> RizzardiHickeyBrain.html [ SUCCESS ]
    listDatasets                            html  
REDIRECT:topic	 listDatasets -> listDatasets.html [ SUCCESS ]
** building package indices
** installing vignettes
** testing if installed package can be loaded from temporary location
** testing if installed package can be loaded from final location
** testing if installed package keeps a record of temporary installation path

install for x64

* installing *source* package 'MethylSeqData' ...
** testing if installed package can be loaded
* MD5 sums
packaged installation of 'MethylSeqData' as MethylSeqData_1.1.1.zip
* DONE (MethylSeqData)
* installing to library 'D:/biocbuild/bbs-3.13-bioc/R/library'
package 'MethylSeqData' successfully unpacked and MD5 sums checked