Back to Multiple platform build/check report for BioC 3.13 experimental data |
|
This page was generated on 2021-01-21 16:01:31 -0500 (Thu, 21 Jan 2021).
TO THE DEVELOPERS/MAINTAINERS OF THE MethylSeqData PACKAGE: Please make sure to use the following settings in order to reproduce any error or warning you see on this page. |
Package 221/386 | Hostname | OS / Arch | INSTALL | BUILD | CHECK | ||||||
MethylSeqData 1.1.1 Peter Hickey
| malbec2 | Linux (Ubuntu 20.04.1 LTS) / x86_64 | OK | OK | OK | ![]() | |||||
riesling1 | Windows Server 2019 Standard / x64 | OK | OK | [ OK ] |
Package: MethylSeqData |
Version: 1.1.1 |
Command: D:\biocbuild\bbs-3.13-bioc\R\bin\R.exe CMD check --force-multiarch --install=check:MethylSeqData.install-out.txt --library=D:\biocbuild\bbs-3.13-bioc\R\library --no-vignettes --timings MethylSeqData_1.1.1.tar.gz |
StartedAt: 2021-01-21 11:32:54 -0500 (Thu, 21 Jan 2021) |
EndedAt: 2021-01-21 11:36:58 -0500 (Thu, 21 Jan 2021) |
EllapsedTime: 244.8 seconds |
RetCode: 0 |
Status: OK |
CheckDir: MethylSeqData.Rcheck |
Warnings: 0 |
############################################################################## ############################################################################## ### ### Running command: ### ### D:\biocbuild\bbs-3.13-bioc\R\bin\R.exe CMD check --force-multiarch --install=check:MethylSeqData.install-out.txt --library=D:\biocbuild\bbs-3.13-bioc\R\library --no-vignettes --timings MethylSeqData_1.1.1.tar.gz ### ############################################################################## ############################################################################## * using log directory 'D:/biocbuild/bbs-3.13-data-experiment/meat/MethylSeqData.Rcheck' * using R Under development (unstable) (2020-12-30 r79736) * using platform: x86_64-w64-mingw32 (64-bit) * using session charset: ISO8859-1 * using option '--no-vignettes' * checking for file 'MethylSeqData/DESCRIPTION' ... OK * this is package 'MethylSeqData' version '1.1.1' * package encoding: UTF-8 * checking package namespace information ... OK * checking package dependencies ... OK * checking if this is a source package ... OK * checking if there is a namespace ... OK * checking for hidden files and directories ... OK * checking for portable file names ... OK * checking whether package 'MethylSeqData' can be installed ... OK * checking installed package size ... OK * checking package directory ... OK * checking 'build' directory ... OK * checking DESCRIPTION meta-information ... OK * checking top-level files ... OK * checking for left-over files ... OK * checking index information ... OK * checking package subdirectories ... OK * checking R files for non-ASCII characters ... OK * checking R files for syntax errors ... OK * loading checks for arch 'i386' ** checking whether the package can be loaded ... OK ** checking whether the package can be loaded with stated dependencies ... OK ** checking whether the package can be unloaded cleanly ... OK ** checking whether the namespace can be loaded with stated dependencies ... OK ** checking whether the namespace can be unloaded cleanly ... OK * loading checks for arch 'x64' ** checking whether the package can be loaded ... OK ** checking whether the package can be loaded with stated dependencies ... OK ** checking whether the package can be unloaded cleanly ... OK ** checking whether the namespace can be loaded with stated dependencies ... OK ** checking whether the namespace can be unloaded cleanly ... OK * checking dependencies in R code ... OK * checking S3 generic/method consistency ... OK * checking replacement functions ... OK * checking foreign function calls ... OK * checking R code for possible problems ... OK * checking Rd files ... OK * checking Rd metadata ... OK * checking Rd cross-references ... OK * checking for missing documentation entries ... OK * checking for code/documentation mismatches ... OK * checking Rd \usage sections ... OK * checking Rd contents ... OK * checking for unstated dependencies in examples ... OK * checking files in 'vignettes' ... OK * checking examples ... ** running examples for arch 'i386' ... OK Examples with CPU (user + system) or elapsed time > 5s user system elapsed RizzardiHickeyBrain 8.50 1.30 10.08 ChenMammaryData 4.45 0.84 5.99 ** running examples for arch 'x64' ... OK Examples with CPU (user + system) or elapsed time > 5s user system elapsed RizzardiHickeyBrain 9.54 1.20 11.14 ChenMammaryData 4.53 0.82 5.90 * checking for unstated dependencies in vignettes ... OK * checking package vignettes in 'inst/doc' ... OK * checking running R code from vignettes ... SKIPPED * checking re-building of vignette outputs ... SKIPPED * checking PDF version of manual ... OK * DONE Status: OK
MethylSeqData.Rcheck/00install.out
############################################################################## ############################################################################## ### ### Running command: ### ### C:\cygwin\bin\curl.exe -O http://172.29.0.4/BBS/3.13/data-experiment/src/contrib/MethylSeqData_1.1.1.tar.gz && rm -rf MethylSeqData.buildbin-libdir && mkdir MethylSeqData.buildbin-libdir && D:\biocbuild\bbs-3.13-bioc\R\bin\R.exe CMD INSTALL --merge-multiarch --build --library=MethylSeqData.buildbin-libdir MethylSeqData_1.1.1.tar.gz && D:\biocbuild\bbs-3.13-bioc\R\bin\R.exe CMD INSTALL MethylSeqData_1.1.1.zip && rm MethylSeqData_1.1.1.tar.gz MethylSeqData_1.1.1.zip ### ############################################################################## ############################################################################## % Total % Received % Xferd Average Speed Time Time Time Current Dload Upload Total Spent Left Speed 0 0 0 0 0 0 0 0 --:--:-- --:--:-- --:--:-- 0 100 12365 100 12365 0 0 805k 0 --:--:-- --:--:-- --:--:-- 805k install for i386 * installing *source* package 'MethylSeqData' ... ** using staged installation ** R ** inst ** byte-compile and prepare package for lazy loading ** help *** installing help indices converting help for package 'MethylSeqData' finding HTML links ... done ChenMammaryData html REDIRECT:topic ChenMammaryData -> ChenMammaryData.html [ SUCCESS ] finding level-2 HTML links ... done RizzardiHickeyBrain html REDIRECT:topic RizzardiHickeyBrain -> RizzardiHickeyBrain.html [ SUCCESS ] listDatasets html REDIRECT:topic listDatasets -> listDatasets.html [ SUCCESS ] ** building package indices ** installing vignettes ** testing if installed package can be loaded from temporary location ** testing if installed package can be loaded from final location ** testing if installed package keeps a record of temporary installation path install for x64 * installing *source* package 'MethylSeqData' ... ** testing if installed package can be loaded * MD5 sums packaged installation of 'MethylSeqData' as MethylSeqData_1.1.1.zip * DONE (MethylSeqData) * installing to library 'D:/biocbuild/bbs-3.13-bioc/R/library' package 'MethylSeqData' successfully unpacked and MD5 sums checked
MethylSeqData.Rcheck/examples_i386/MethylSeqData-Ex.timings
|
MethylSeqData.Rcheck/examples_x64/MethylSeqData-Ex.timings
|