Back to Multiple platform build/check report for BioC 3.13 experimental data
ABCDEFGHIJKL[M]NOPQRSTUVWXYZ

INSTALL report for MethylAidData on riesling1

This page was generated on 2021-01-18 15:58:48 -0500 (Mon, 18 Jan 2021).

TO THE DEVELOPERS/MAINTAINERS OF THE MethylAidData PACKAGE: Please make sure to use the following settings in order to reproduce any error or warning you see on this page.
Package 220/385HostnameOS / ArchINSTALLBUILDCHECK
MethylAidData 1.23.0
M. van Iterson
Snapshot Date: 2021-01-18 09:00:15 -0500 (Mon, 18 Jan 2021)
URL: https://git.bioconductor.org/packages/MethylAidData
Branch: master
Last Commit: 5980a97
Last Changed Date: 2020-10-27 10:12:16 -0500 (Tue, 27 Oct 2020)
malbec2 Linux (Ubuntu 20.04.1 LTS) / x86_64  OK  OK  OK UNNEEDED, same version exists in internal repository
riesling1 Windows Server 2019 Standard / x64 [ OK ] OK  OK 

Summary

Package: MethylAidData
Version: 1.23.0
Command: C:\cygwin\bin\curl.exe -O http://172.29.0.4/BBS/3.13/data-experiment/src/contrib/MethylAidData_1.23.0.tar.gz && rm -rf MethylAidData.buildbin-libdir && mkdir MethylAidData.buildbin-libdir && D:\biocbuild\bbs-3.13-bioc\R\bin\R.exe CMD INSTALL --merge-multiarch --build --library=MethylAidData.buildbin-libdir MethylAidData_1.23.0.tar.gz && D:\biocbuild\bbs-3.13-bioc\R\bin\R.exe CMD INSTALL MethylAidData_1.23.0.zip && rm MethylAidData_1.23.0.tar.gz MethylAidData_1.23.0.zip
StartedAt: 2021-01-18 10:17:59 -0500 (Mon, 18 Jan 2021)
EndedAt: 2021-01-18 10:18:37 -0500 (Mon, 18 Jan 2021)
EllapsedTime: 37.9 seconds
RetCode: 0
Status:  OK  

Command output

##############################################################################
##############################################################################
###
### Running command:
###
###   C:\cygwin\bin\curl.exe -O http://172.29.0.4/BBS/3.13/data-experiment/src/contrib/MethylAidData_1.23.0.tar.gz && rm -rf MethylAidData.buildbin-libdir && mkdir MethylAidData.buildbin-libdir && D:\biocbuild\bbs-3.13-bioc\R\bin\R.exe CMD INSTALL --merge-multiarch --build --library=MethylAidData.buildbin-libdir MethylAidData_1.23.0.tar.gz && D:\biocbuild\bbs-3.13-bioc\R\bin\R.exe CMD INSTALL MethylAidData_1.23.0.zip && rm MethylAidData_1.23.0.tar.gz MethylAidData_1.23.0.zip
###
##############################################################################
##############################################################################


  % Total    % Received % Xferd  Average Speed   Time    Time     Time  Current
                                 Dload  Upload   Total   Spent    Left  Speed

  0     0    0     0    0     0      0      0 --:--:-- --:--:-- --:--:--     0
  0 20.9M    0  1213    0     0   1150      0  5:18:29  0:00:01  5:18:28  1150
  2 20.9M    2  531k    0     0   304k      0  0:01:10  0:00:01  0:01:09  304k
 74 20.9M   74 15.6M    0     0  5850k      0  0:00:03  0:00:02  0:00:01 5848k
100 20.9M  100 20.9M    0     0  7177k      0  0:00:02  0:00:02 --:--:-- 7177k

install for i386

* installing *source* package 'MethylAidData' ...
** using staged installation
** data
** help
*** installing help indices
  converting help for package 'MethylAidData'
    finding HTML links ... done
    MethylAidDataEPIC                       html  
REDIRECT:topic	 MethylAidDataEPIC -> MethylAidDataEPIC.html [ SUCCESS ]
    exampleDataLarge                        html  
REDIRECT:topic	 exampleDataLarge -> exampleDataLarge.html [ SUCCESS ]
** building package indices
** installing vignettes
** testing if installed package can be loaded from temporary location
** testing if installed package can be loaded from final location
** testing if installed package keeps a record of temporary installation path

install for x64

* installing *source* package 'MethylAidData' ...
** testing if installed package can be loaded
* MD5 sums
packaged installation of 'MethylAidData' as MethylAidData_1.23.0.zip
* DONE (MethylAidData)
* installing to library 'D:/biocbuild/bbs-3.13-bioc/R/library'
package 'MethylAidData' successfully unpacked and MD5 sums checked