Back to Multiple platform build/check report for BioC 3.13 experimental data
ABCDEFGHIJKL[M]NOPQRSTUVWXYZ

CHECK report for MethylAidData on riesling1

This page was generated on 2021-01-11 15:59:32 -0500 (Mon, 11 Jan 2021).

TO THE DEVELOPERS/MAINTAINERS OF THE MethylAidData PACKAGE: Please make sure to use the following settings in order to reproduce any error or warning you see on this page.
Package 220/385HostnameOS / ArchINSTALLBUILDCHECK
MethylAidData 1.23.0
M. van Iterson
Snapshot Date: 2021-01-11 09:00:09 -0500 (Mon, 11 Jan 2021)
URL: https://git.bioconductor.org/packages/MethylAidData
Branch: master
Last Commit: 5980a97
Last Changed Date: 2020-10-27 10:12:16 -0500 (Tue, 27 Oct 2020)
malbec2 Linux (Ubuntu 20.04.1 LTS) / x86_64  OK  OK  OK UNNEEDED, same version exists in internal repository
riesling1 Windows Server 2019 Standard / x64  OK  OK [ OK ]

Summary

Package: MethylAidData
Version: 1.23.0
Command: D:\biocbuild\bbs-3.13-bioc\R\bin\R.exe CMD check --force-multiarch --install=check:MethylAidData.install-out.txt --library=D:\biocbuild\bbs-3.13-bioc\R\library --no-vignettes --timings MethylAidData_1.23.0.tar.gz
StartedAt: 2021-01-11 11:33:13 -0500 (Mon, 11 Jan 2021)
EndedAt: 2021-01-11 11:37:03 -0500 (Mon, 11 Jan 2021)
EllapsedTime: 229.2 seconds
RetCode: 0
Status:  OK  
CheckDir: MethylAidData.Rcheck
Warnings: 0

Command output

##############################################################################
##############################################################################
###
### Running command:
###
###   D:\biocbuild\bbs-3.13-bioc\R\bin\R.exe CMD check --force-multiarch --install=check:MethylAidData.install-out.txt --library=D:\biocbuild\bbs-3.13-bioc\R\library --no-vignettes --timings MethylAidData_1.23.0.tar.gz
###
##############################################################################
##############################################################################


* using log directory 'D:/biocbuild/bbs-3.13-data-experiment/meat/MethylAidData.Rcheck'
* using R Under development (unstable) (2020-12-30 r79736)
* using platform: x86_64-w64-mingw32 (64-bit)
* using session charset: ISO8859-1
* using option '--no-vignettes'
* checking for file 'MethylAidData/DESCRIPTION' ... OK
* checking extension type ... Package
* this is package 'MethylAidData' version '1.23.0'
* checking package namespace information ... OK
* checking package dependencies ... OK
* checking if this is a source package ... OK
* checking if there is a namespace ... OK
* checking for hidden files and directories ... OK
* checking for portable file names ... OK
* checking whether package 'MethylAidData' can be installed ... OK
* checking installed package size ... NOTE
  installed size is 20.9Mb
  sub-directories of 1Mb or more:
    data  20.8Mb
* checking package directory ... OK
* checking 'build' directory ... OK
* checking DESCRIPTION meta-information ... OK
* checking top-level files ... OK
* checking for left-over files ... OK
* checking index information ... OK
* checking package subdirectories ... OK
* loading checks for arch 'i386'
** checking whether the package can be loaded ... OK
** checking whether the package can be loaded with stated dependencies ... OK
** checking whether the package can be unloaded cleanly ... OK
** checking whether the namespace can be loaded with stated dependencies ... OK
** checking whether the namespace can be unloaded cleanly ... OK
* loading checks for arch 'x64'
** checking whether the package can be loaded ... OK
** checking whether the package can be loaded with stated dependencies ... OK
** checking whether the package can be unloaded cleanly ... OK
** checking whether the namespace can be loaded with stated dependencies ... OK
** checking whether the namespace can be unloaded cleanly ... OK
* checking Rd files ... OK
* checking Rd metadata ... OK
* checking Rd cross-references ... OK
* checking for missing documentation entries ... OK
* checking for code/documentation mismatches ... OK
* checking Rd \usage sections ... OK
* checking Rd contents ... OK
* checking for unstated dependencies in examples ... OK
* checking contents of 'data' directory ... OK
* checking data for non-ASCII characters ... OK
* checking data for ASCII and uncompressed saves ... OK
* checking files in 'vignettes' ... OK
* checking examples ...
** running examples for arch 'i386' ... OK
Examples with CPU (user + system) or elapsed time > 5s
                   user system elapsed
MethylAidDataEPIC 20.91    0.9   21.87
exampleDataLarge  19.84    0.9   20.83
** running examples for arch 'x64' ... OK
Examples with CPU (user + system) or elapsed time > 5s
                   user system elapsed
MethylAidDataEPIC 21.63   1.15   22.77
exampleDataLarge  18.76   0.93   19.71
* checking for unstated dependencies in vignettes ... OK
* checking package vignettes in 'inst/doc' ... OK
* checking running R code from vignettes ... SKIPPED
* checking re-building of vignette outputs ... SKIPPED
* checking PDF version of manual ... OK
* DONE

Status: 1 NOTE
See
  'D:/biocbuild/bbs-3.13-data-experiment/meat/MethylAidData.Rcheck/00check.log'
for details.



Installation output

MethylAidData.Rcheck/00install.out

##############################################################################
##############################################################################
###
### Running command:
###
###   C:\cygwin\bin\curl.exe -O http://172.29.0.4/BBS/3.13/data-experiment/src/contrib/MethylAidData_1.23.0.tar.gz && rm -rf MethylAidData.buildbin-libdir && mkdir MethylAidData.buildbin-libdir && D:\biocbuild\bbs-3.13-bioc\R\bin\R.exe CMD INSTALL --merge-multiarch --build --library=MethylAidData.buildbin-libdir MethylAidData_1.23.0.tar.gz && D:\biocbuild\bbs-3.13-bioc\R\bin\R.exe CMD INSTALL MethylAidData_1.23.0.zip && rm MethylAidData_1.23.0.tar.gz MethylAidData_1.23.0.zip
###
##############################################################################
##############################################################################


  % Total    % Received % Xferd  Average Speed   Time    Time     Time  Current
                                 Dload  Upload   Total   Spent    Left  Speed

  0     0    0     0    0     0      0      0 --:--:-- --:--:-- --:--:--     0
100 20.9M  100 20.9M    0     0  54.4M      0 --:--:-- --:--:-- --:--:-- 54.4M

install for i386

* installing *source* package 'MethylAidData' ...
** using staged installation
** data
** help
*** installing help indices
  converting help for package 'MethylAidData'
    finding HTML links ... done
    MethylAidDataEPIC                       html  
REDIRECT:topic	 MethylAidDataEPIC -> MethylAidDataEPIC.html [ SUCCESS ]
    exampleDataLarge                        html  
REDIRECT:topic	 exampleDataLarge -> exampleDataLarge.html [ SUCCESS ]
** building package indices
** installing vignettes
** testing if installed package can be loaded from temporary location
** testing if installed package can be loaded from final location
** testing if installed package keeps a record of temporary installation path

install for x64

* installing *source* package 'MethylAidData' ...
** testing if installed package can be loaded
* MD5 sums
packaged installation of 'MethylAidData' as MethylAidData_1.23.0.zip
* DONE (MethylAidData)
* installing to library 'D:/biocbuild/bbs-3.13-bioc/R/library'
package 'MethylAidData' successfully unpacked and MD5 sums checked

Tests output


Example timings

MethylAidData.Rcheck/examples_i386/MethylAidData-Ex.timings

nameusersystemelapsed
MethylAidDataEPIC20.91 0.9021.87
exampleDataLarge19.84 0.9020.83

MethylAidData.Rcheck/examples_x64/MethylAidData-Ex.timings

nameusersystemelapsed
MethylAidDataEPIC21.63 1.1522.77
exampleDataLarge18.76 0.9319.71