Back to Multiple platform build/check report for BioC 3.13 experimental data
ABCDEFGHIJKL[M]NOPQRSTUVWXYZ

INSTALL report for MetaGxPancreas on riesling1

This page was generated on 2021-01-14 15:59:09 -0500 (Thu, 14 Jan 2021).

TO THE DEVELOPERS/MAINTAINERS OF THE MetaGxPancreas PACKAGE: Please make sure to use the following settings in order to reproduce any error or warning you see on this page.
Package 218/385HostnameOS / ArchINSTALLBUILDCHECK
MetaGxPancreas 1.11.0
Michael Zon
Snapshot Date: 2021-01-14 09:00:13 -0500 (Thu, 14 Jan 2021)
URL: https://git.bioconductor.org/packages/MetaGxPancreas
Branch: master
Last Commit: 73feea8
Last Changed Date: 2020-10-27 10:26:36 -0500 (Tue, 27 Oct 2020)
malbec2 Linux (Ubuntu 20.04.1 LTS) / x86_64  OK  OK  OK UNNEEDED, same version exists in internal repository
riesling1 Windows Server 2019 Standard / x64 [ OK ] OK  OK 

Summary

Package: MetaGxPancreas
Version: 1.11.0
Command: C:\cygwin\bin\curl.exe -O http://172.29.0.4/BBS/3.13/data-experiment/src/contrib/MetaGxPancreas_1.11.0.tar.gz && rm -rf MetaGxPancreas.buildbin-libdir && mkdir MetaGxPancreas.buildbin-libdir && D:\biocbuild\bbs-3.13-bioc\R\bin\R.exe CMD INSTALL --merge-multiarch --build --library=MetaGxPancreas.buildbin-libdir MetaGxPancreas_1.11.0.tar.gz && D:\biocbuild\bbs-3.13-bioc\R\bin\R.exe CMD INSTALL MetaGxPancreas_1.11.0.zip && rm MetaGxPancreas_1.11.0.tar.gz MetaGxPancreas_1.11.0.zip
StartedAt: 2021-01-14 10:11:08 -0500 (Thu, 14 Jan 2021)
EndedAt: 2021-01-14 10:12:05 -0500 (Thu, 14 Jan 2021)
EllapsedTime: 57.2 seconds
RetCode: 0
Status:  OK  

Command output

##############################################################################
##############################################################################
###
### Running command:
###
###   C:\cygwin\bin\curl.exe -O http://172.29.0.4/BBS/3.13/data-experiment/src/contrib/MetaGxPancreas_1.11.0.tar.gz && rm -rf MetaGxPancreas.buildbin-libdir && mkdir MetaGxPancreas.buildbin-libdir && D:\biocbuild\bbs-3.13-bioc\R\bin\R.exe CMD INSTALL --merge-multiarch --build --library=MetaGxPancreas.buildbin-libdir MetaGxPancreas_1.11.0.tar.gz && D:\biocbuild\bbs-3.13-bioc\R\bin\R.exe CMD INSTALL MetaGxPancreas_1.11.0.zip && rm MetaGxPancreas_1.11.0.tar.gz MetaGxPancreas_1.11.0.zip
###
##############################################################################
##############################################################################


  % Total    % Received % Xferd  Average Speed   Time    Time     Time  Current
                                 Dload  Upload   Total   Spent    Left  Speed

  0     0    0     0    0     0      0      0 --:--:-- --:--:-- --:--:--     0
100  8013  100  8013    0     0   300k      0 --:--:-- --:--:-- --:--:--  300k

install for i386

* installing *source* package 'MetaGxPancreas' ...
** using staged installation
** R
** inst
** byte-compile and prepare package for lazy loading
** help
*** installing help indices
  converting help for package 'MetaGxPancreas'
    finding HTML links ... done
    loadPancreasDatasets                    html  
REDIRECT:topic	 loadPancreasDatasets -> loadPancreasDatasets.html [ SUCCESS ]
** building package indices
** installing vignettes
** testing if installed package can be loaded from temporary location
** testing if installed package can be loaded from final location
** testing if installed package keeps a record of temporary installation path

install for x64

* installing *source* package 'MetaGxPancreas' ...
** testing if installed package can be loaded
* MD5 sums
packaged installation of 'MetaGxPancreas' as MetaGxPancreas_1.11.0.zip
* DONE (MetaGxPancreas)
* installing to library 'D:/biocbuild/bbs-3.13-bioc/R/library'
package 'MetaGxPancreas' successfully unpacked and MD5 sums checked