Back to Multiple platform build/check report for BioC 3.13 experimental data
ABCDEFGHIJKL[M]NOPQRSTUVWXYZ

CHECK report for MetaGxPancreas on riesling1

This page was generated on 2021-01-21 16:01:31 -0500 (Thu, 21 Jan 2021).

TO THE DEVELOPERS/MAINTAINERS OF THE MetaGxPancreas PACKAGE: Please make sure to use the following settings in order to reproduce any error or warning you see on this page.
Package 218/386HostnameOS / ArchINSTALLBUILDCHECK
MetaGxPancreas 1.11.0
Michael Zon
Snapshot Date: 2021-01-21 09:00:14 -0500 (Thu, 21 Jan 2021)
URL: https://git.bioconductor.org/packages/MetaGxPancreas
Branch: master
Last Commit: 73feea8
Last Changed Date: 2020-10-27 10:26:36 -0500 (Tue, 27 Oct 2020)
malbec2 Linux (Ubuntu 20.04.1 LTS) / x86_64  OK  OK  OK UNNEEDED, same version exists in internal repository
riesling1 Windows Server 2019 Standard / x64  OK  OK [ OK ]

Summary

Package: MetaGxPancreas
Version: 1.11.0
Command: D:\biocbuild\bbs-3.13-bioc\R\bin\R.exe CMD check --force-multiarch --install=check:MetaGxPancreas.install-out.txt --library=D:\biocbuild\bbs-3.13-bioc\R\library --no-vignettes --timings MetaGxPancreas_1.11.0.tar.gz
StartedAt: 2021-01-21 11:32:14 -0500 (Thu, 21 Jan 2021)
EndedAt: 2021-01-21 11:36:39 -0500 (Thu, 21 Jan 2021)
EllapsedTime: 265.5 seconds
RetCode: 0
Status:  OK  
CheckDir: MetaGxPancreas.Rcheck
Warnings: 0

Command output

##############################################################################
##############################################################################
###
### Running command:
###
###   D:\biocbuild\bbs-3.13-bioc\R\bin\R.exe CMD check --force-multiarch --install=check:MetaGxPancreas.install-out.txt --library=D:\biocbuild\bbs-3.13-bioc\R\library --no-vignettes --timings MetaGxPancreas_1.11.0.tar.gz
###
##############################################################################
##############################################################################


* using log directory 'D:/biocbuild/bbs-3.13-data-experiment/meat/MetaGxPancreas.Rcheck'
* using R Under development (unstable) (2020-12-30 r79736)
* using platform: x86_64-w64-mingw32 (64-bit)
* using session charset: ISO8859-1
* using option '--no-vignettes'
* checking for file 'MetaGxPancreas/DESCRIPTION' ... OK
* this is package 'MetaGxPancreas' version '1.11.0'
* package encoding: UTF-8
* checking package namespace information ... OK
* checking package dependencies ... OK
* checking if this is a source package ... OK
* checking if there is a namespace ... OK
* checking for hidden files and directories ... OK
* checking for portable file names ... OK
* checking whether package 'MetaGxPancreas' can be installed ... OK
* checking installed package size ... OK
* checking package directory ... OK
* checking 'build' directory ... OK
* checking DESCRIPTION meta-information ... OK
* checking top-level files ... OK
* checking for left-over files ... OK
* checking index information ... OK
* checking package subdirectories ... OK
* checking R files for non-ASCII characters ... OK
* checking R files for syntax errors ... OK
* loading checks for arch 'i386'
** checking whether the package can be loaded ... OK
** checking whether the package can be loaded with stated dependencies ... OK
** checking whether the package can be unloaded cleanly ... OK
** checking whether the namespace can be loaded with stated dependencies ... OK
** checking whether the namespace can be unloaded cleanly ... OK
* loading checks for arch 'x64'
** checking whether the package can be loaded ... OK
** checking whether the package can be loaded with stated dependencies ... OK
** checking whether the package can be unloaded cleanly ... OK
** checking whether the namespace can be loaded with stated dependencies ... OK
** checking whether the namespace can be unloaded cleanly ... OK
* checking dependencies in R code ... OK
* checking S3 generic/method consistency ... OK
* checking replacement functions ... OK
* checking foreign function calls ... OK
* checking R code for possible problems ... OK
* checking Rd files ... OK
* checking Rd metadata ... OK
* checking Rd cross-references ... OK
* checking for missing documentation entries ... OK
* checking for code/documentation mismatches ... OK
* checking Rd \usage sections ... OK
* checking Rd contents ... OK
* checking for unstated dependencies in examples ... OK
* checking files in 'vignettes' ... OK
* checking examples ...
** running examples for arch 'i386' ... OK
Examples with CPU (user + system) or elapsed time > 5s
                      user system elapsed
loadPancreasDatasets 32.59   2.37   39.77
** running examples for arch 'x64' ... OK
Examples with CPU (user + system) or elapsed time > 5s
                      user system elapsed
loadPancreasDatasets 33.14   2.79   40.19
* checking for unstated dependencies in 'tests' ... OK
* checking tests ...
** running tests for arch 'i386' ...
  Running 'required.R'
 OK
** running tests for arch 'x64' ...
  Running 'required.R'
 OK
* checking for unstated dependencies in vignettes ... OK
* checking package vignettes in 'inst/doc' ... OK
* checking running R code from vignettes ... SKIPPED
* checking re-building of vignette outputs ... SKIPPED
* checking PDF version of manual ... OK
* DONE

Status: OK


Installation output

MetaGxPancreas.Rcheck/00install.out

##############################################################################
##############################################################################
###
### Running command:
###
###   C:\cygwin\bin\curl.exe -O http://172.29.0.4/BBS/3.13/data-experiment/src/contrib/MetaGxPancreas_1.11.0.tar.gz && rm -rf MetaGxPancreas.buildbin-libdir && mkdir MetaGxPancreas.buildbin-libdir && D:\biocbuild\bbs-3.13-bioc\R\bin\R.exe CMD INSTALL --merge-multiarch --build --library=MetaGxPancreas.buildbin-libdir MetaGxPancreas_1.11.0.tar.gz && D:\biocbuild\bbs-3.13-bioc\R\bin\R.exe CMD INSTALL MetaGxPancreas_1.11.0.zip && rm MetaGxPancreas_1.11.0.tar.gz MetaGxPancreas_1.11.0.zip
###
##############################################################################
##############################################################################


  % Total    % Received % Xferd  Average Speed   Time    Time     Time  Current
                                 Dload  Upload   Total   Spent    Left  Speed

  0     0    0     0    0     0      0      0 --:--:-- --:--:-- --:--:--     0
100  8013  100  8013    0     0  3912k      0 --:--:-- --:--:-- --:--:-- 7825k

install for i386

* installing *source* package 'MetaGxPancreas' ...
** using staged installation
** R
** inst
** byte-compile and prepare package for lazy loading
** help
*** installing help indices
  converting help for package 'MetaGxPancreas'
    finding HTML links ... done
    loadPancreasDatasets                    html  
REDIRECT:topic	 loadPancreasDatasets -> loadPancreasDatasets.html [ SUCCESS ]
** building package indices
** installing vignettes
** testing if installed package can be loaded from temporary location
** testing if installed package can be loaded from final location
** testing if installed package keeps a record of temporary installation path

install for x64

* installing *source* package 'MetaGxPancreas' ...
** testing if installed package can be loaded
* MD5 sums
packaged installation of 'MetaGxPancreas' as MetaGxPancreas_1.11.0.zip
* DONE (MetaGxPancreas)
* installing to library 'D:/biocbuild/bbs-3.13-bioc/R/library'
package 'MetaGxPancreas' successfully unpacked and MD5 sums checked

Tests output

MetaGxPancreas.Rcheck/tests_i386/required.Rout


R Under development (unstable) (2020-12-30 r79736) -- "Unsuffered Consequences"
Copyright (C) 2020 The R Foundation for Statistical Computing
Platform: i386-w64-mingw32/i386 (32-bit)

R is free software and comes with ABSOLUTELY NO WARRANTY.
You are welcome to redistribute it under certain conditions.
Type 'license()' or 'licence()' for distribution details.

R is a collaborative project with many contributors.
Type 'contributors()' for more information and
'citation()' on how to cite R or R packages in publications.

Type 'demo()' for some demos, 'help()' for on-line help, or
'help.start()' for an HTML browser interface to help.
Type 'q()' to quit R.

> #
> 
> proc.time()
   user  system elapsed 
   0.07    0.04    0.10 

MetaGxPancreas.Rcheck/tests_x64/required.Rout


R Under development (unstable) (2020-12-30 r79736) -- "Unsuffered Consequences"
Copyright (C) 2020 The R Foundation for Statistical Computing
Platform: x86_64-w64-mingw32/x64 (64-bit)

R is free software and comes with ABSOLUTELY NO WARRANTY.
You are welcome to redistribute it under certain conditions.
Type 'license()' or 'licence()' for distribution details.

R is a collaborative project with many contributors.
Type 'contributors()' for more information and
'citation()' on how to cite R or R packages in publications.

Type 'demo()' for some demos, 'help()' for on-line help, or
'help.start()' for an HTML browser interface to help.
Type 'q()' to quit R.

> #
> 
> proc.time()
   user  system elapsed 
   0.09    0.03    0.11 

Example timings

MetaGxPancreas.Rcheck/examples_i386/MetaGxPancreas-Ex.timings

nameusersystemelapsed
loadPancreasDatasets32.59 2.3739.77

MetaGxPancreas.Rcheck/examples_x64/MetaGxPancreas-Ex.timings

nameusersystemelapsed
loadPancreasDatasets33.14 2.7940.19