Back to Multiple platform build/check report for BioC 3.13 experimental data
ABCDEFGHIJKL[M]NOPQRSTUVWXYZ

BUILD report for MetaGxPancreas on riesling1

This page was generated on 2021-03-01 15:56:10 -0500 (Mon, 01 Mar 2021).

To the developers/maintainers of the MetaGxPancreas package:
Please make sure to use the following settings in order to reproduce any error or warning you see on this page.
Package 220/391HostnameOS / ArchINSTALLBUILDCHECK
MetaGxPancreas 1.11.0
Michael Zon
Snapshot Date: 2021-03-01 09:00:05 -0500 (Mon, 01 Mar 2021)
URL: https://git.bioconductor.org/packages/MetaGxPancreas
Branch: master
Last Commit: 73feea8
Last Changed Date: 2020-10-27 10:26:36 -0500 (Tue, 27 Oct 2020)
rex3Linux (Ubuntu 20.04.2 LTS) / x86_64  OK    OK    OK  UNNEEDED, same version exists in internal repository
riesling1Windows Server 2019 Standard / x64  OK    OK    OK  

Summary

Package: MetaGxPancreas
Version: 1.11.0
Command: chmod a+r MetaGxPancreas -R && D:\biocbuild\bbs-3.13-bioc\R\bin\R.exe CMD build --keep-empty-dirs --no-resave-data MetaGxPancreas
StartedAt: 2021-03-01 11:00:55 -0500 (Mon, 01 Mar 2021)
EndedAt: 2021-03-01 11:02:05 -0500 (Mon, 01 Mar 2021)
EllapsedTime: 70.6 seconds
RetCode: 0
Status:   OK   
PackageFile: MetaGxPancreas_1.11.0.tar.gz
PackageFileSize: 16.8 KiB

Command output

##############################################################################
##############################################################################
###
### Running command:
###
###   chmod a+r MetaGxPancreas -R && D:\biocbuild\bbs-3.13-bioc\R\bin\R.exe CMD build --keep-empty-dirs --no-resave-data MetaGxPancreas
###
##############################################################################
##############################################################################


* checking for file 'MetaGxPancreas/DESCRIPTION' ... OK
* preparing 'MetaGxPancreas':
* checking DESCRIPTION meta-information ... OK
* installing the package to build vignettes
* creating vignettes ... OK
* checking for LF line-endings in source and make files and shell scripts
* checking for empty or unneeded directories
* building 'MetaGxPancreas_1.11.0.tar.gz'