Back to Multiple platform build/check report for BioC 3.13 experimental data
ABCDEFGHIJKL[M]NOPQRSTUVWXYZ

BUILD report for MetaGxBreast on riesling1

This page was generated on 2021-01-11 15:59:31 -0500 (Mon, 11 Jan 2021).

TO THE DEVELOPERS/MAINTAINERS OF THE MetaGxBreast PACKAGE: Please make sure to use the following settings in order to reproduce any error or warning you see on this page.
Package 216/385HostnameOS / ArchINSTALLBUILDCHECK
MetaGxBreast 1.11.0
Michael Zon
Snapshot Date: 2021-01-11 09:00:09 -0500 (Mon, 11 Jan 2021)
URL: https://git.bioconductor.org/packages/MetaGxBreast
Branch: master
Last Commit: 51a013c
Last Changed Date: 2020-10-27 10:26:22 -0500 (Tue, 27 Oct 2020)
malbec2 Linux (Ubuntu 20.04.1 LTS) / x86_64  OK  OK  OK UNNEEDED, same version exists in internal repository
riesling1 Windows Server 2019 Standard / x64  OK [ OK ] OK 

Summary

Package: MetaGxBreast
Version: 1.11.0
Command: chmod a+r MetaGxBreast -R && D:\biocbuild\bbs-3.13-bioc\R\bin\R.exe CMD build --keep-empty-dirs --no-resave-data MetaGxBreast
StartedAt: 2021-01-11 10:51:16 -0500 (Mon, 11 Jan 2021)
EndedAt: 2021-01-11 10:52:15 -0500 (Mon, 11 Jan 2021)
EllapsedTime: 58.7 seconds
RetCode: 0
Status:  OK  
PackageFile: MetaGxBreast_1.11.0.tar.gz
PackageFileSize: 166.5 KiB

Command output

##############################################################################
##############################################################################
###
### Running command:
###
###   chmod a+r MetaGxBreast -R && D:\biocbuild\bbs-3.13-bioc\R\bin\R.exe CMD build --keep-empty-dirs --no-resave-data MetaGxBreast
###
##############################################################################
##############################################################################


* checking for file 'MetaGxBreast/DESCRIPTION' ... OK
* preparing 'MetaGxBreast':
* checking DESCRIPTION meta-information ... OK
* installing the package to build vignettes
* creating vignettes ... OK
* checking for LF line-endings in source and make files and shell scripts
* checking for empty or unneeded directories
* building 'MetaGxBreast_1.11.0.tar.gz'