Back to Multiple platform build/check report for BioC 3.13 experimental data
ABCDEFGHIJKL[M]NOPQRSTUVWXYZ

INSTALL report for MUGAExampleData on riesling1

This page was generated on 2021-01-14 15:59:10 -0500 (Thu, 14 Jan 2021).

TO THE DEVELOPERS/MAINTAINERS OF THE MUGAExampleData PACKAGE: Please make sure to use the following settings in order to reproduce any error or warning you see on this page.
Package 242/385HostnameOS / ArchINSTALLBUILDCHECK
MUGAExampleData 1.11.0
Daniel Gatti
Snapshot Date: 2021-01-14 09:00:13 -0500 (Thu, 14 Jan 2021)
URL: https://git.bioconductor.org/packages/MUGAExampleData
Branch: master
Last Commit: eae8f71
Last Changed Date: 2020-10-27 10:09:20 -0500 (Tue, 27 Oct 2020)
malbec2 Linux (Ubuntu 20.04.1 LTS) / x86_64  OK  OK  OK UNNEEDED, same version exists in internal repository
riesling1 Windows Server 2019 Standard / x64 [ OK ] OK  WARNINGS 

Summary

Package: MUGAExampleData
Version: 1.11.0
Command: C:\cygwin\bin\curl.exe -O http://172.29.0.4/BBS/3.13/data-experiment/src/contrib/MUGAExampleData_1.11.0.tar.gz && rm -rf MUGAExampleData.buildbin-libdir && mkdir MUGAExampleData.buildbin-libdir && D:\biocbuild\bbs-3.13-bioc\R\bin\R.exe CMD INSTALL --merge-multiarch --build --library=MUGAExampleData.buildbin-libdir MUGAExampleData_1.11.0.tar.gz && D:\biocbuild\bbs-3.13-bioc\R\bin\R.exe CMD INSTALL MUGAExampleData_1.11.0.zip && rm MUGAExampleData_1.11.0.tar.gz MUGAExampleData_1.11.0.zip
StartedAt: 2021-01-14 10:13:04 -0500 (Thu, 14 Jan 2021)
EndedAt: 2021-01-14 10:13:35 -0500 (Thu, 14 Jan 2021)
EllapsedTime: 30.8 seconds
RetCode: 0
Status:  OK  

Command output

##############################################################################
##############################################################################
###
### Running command:
###
###   C:\cygwin\bin\curl.exe -O http://172.29.0.4/BBS/3.13/data-experiment/src/contrib/MUGAExampleData_1.11.0.tar.gz && rm -rf MUGAExampleData.buildbin-libdir && mkdir MUGAExampleData.buildbin-libdir && D:\biocbuild\bbs-3.13-bioc\R\bin\R.exe CMD INSTALL --merge-multiarch --build --library=MUGAExampleData.buildbin-libdir MUGAExampleData_1.11.0.tar.gz && D:\biocbuild\bbs-3.13-bioc\R\bin\R.exe CMD INSTALL MUGAExampleData_1.11.0.zip && rm MUGAExampleData_1.11.0.tar.gz MUGAExampleData_1.11.0.zip
###
##############################################################################
##############################################################################


  % Total    % Received % Xferd  Average Speed   Time    Time     Time  Current
                                 Dload  Upload   Total   Spent    Left  Speed

  0     0    0     0    0     0      0      0 --:--:-- --:--:-- --:--:--     0
 73 88.4M   73 64.7M    0     0  78.7M      0  0:00:01 --:--:--  0:00:01 78.7M
100 88.4M  100 88.4M    0     0  84.7M      0  0:00:01  0:00:01 --:--:-- 84.7M

install for i386

* installing *source* package 'MUGAExampleData' ...
** using staged installation
** data
** help
*** installing help indices
  converting help for package 'MUGAExampleData'
    finding HTML links ... done
    FinalReport1                            html  
REDIRECT:topic	 FinalReport1 -> FinalReport1.html [ SUCCESS ]
    FinalReport2                            html  
REDIRECT:topic	 FinalReport2 -> FinalReport2.html [ SUCCESS ]
    MUGAExampleData-package                 html  
REDIRECT:topic	 MUGAExampleData -> MUGAExampleData-package.html [ SUCCESS ]
REDIRECT:topic	 MUGAExampleData -> MUGAExampleData-package.html [ SUCCESS ]
REDIRECT:file	 MUGAExampleData-package.html -> MUGAExampleData-package.html [ SUCCESS ]
Rd warning: Previous alias or file overwritten by alias: MUGAExampleData
    Samples1                                html  
REDIRECT:topic	 Samples1 -> Samples1.html [ SUCCESS ]
    Samples2                                html  
REDIRECT:topic	 Samples2 -> Samples2.html [ SUCCESS ]
    call.rate.batch                         html  
REDIRECT:topic	 call.rate.batch -> call.rate.batch.html [ SUCCESS ]
    geno                                    html  
REDIRECT:topic	 geno -> geno.html [ SUCCESS ]
    model.probs                             html  
REDIRECT:topic	 model.probs -> model.probs.html [ SUCCESS ]
    pheno                                   html  
REDIRECT:topic	 pheno -> pheno.html [ SUCCESS ]
    x                                       html  
REDIRECT:topic	 x -> x.html [ SUCCESS ]
    y                                       html  
REDIRECT:topic	 y -> y.html [ SUCCESS ]
** building package indices
** installing vignettes
** testing if installed package can be loaded from temporary location
** testing if installed package can be loaded from final location
** testing if installed package keeps a record of temporary installation path

install for x64

* installing *source* package 'MUGAExampleData' ...
** testing if installed package can be loaded
* MD5 sums
packaged installation of 'MUGAExampleData' as MUGAExampleData_1.11.0.zip
* DONE (MUGAExampleData)
* installing to library 'D:/biocbuild/bbs-3.13-bioc/R/library'
package 'MUGAExampleData' successfully unpacked and MD5 sums checked