Back to Multiple platform build/check report for BioC 3.13 experimental data
ABCDEFGHIJKL[M]NOPQRSTUVWXYZ

INSTALL report for MSstatsBioData on riesling1

This page was generated on 2021-01-14 15:59:09 -0500 (Thu, 14 Jan 2021).

TO THE DEVELOPERS/MAINTAINERS OF THE MSstatsBioData PACKAGE: Please make sure to use the following settings in order to reproduce any error or warning you see on this page.
Package 240/385HostnameOS / ArchINSTALLBUILDCHECK
MSstatsBioData 1.13.0
Meena Choi
Snapshot Date: 2021-01-14 09:00:13 -0500 (Thu, 14 Jan 2021)
URL: https://git.bioconductor.org/packages/MSstatsBioData
Branch: master
Last Commit: 026711e
Last Changed Date: 2020-10-27 10:23:13 -0500 (Tue, 27 Oct 2020)
malbec2 Linux (Ubuntu 20.04.1 LTS) / x86_64  OK  OK  WARNINGS UNNEEDED, same version exists in internal repository
riesling1 Windows Server 2019 Standard / x64 [ OK ] OK  WARNINGS 

Summary

Package: MSstatsBioData
Version: 1.13.0
Command: C:\cygwin\bin\curl.exe -O http://172.29.0.4/BBS/3.13/data-experiment/src/contrib/MSstatsBioData_1.13.0.tar.gz && rm -rf MSstatsBioData.buildbin-libdir && mkdir MSstatsBioData.buildbin-libdir && D:\biocbuild\bbs-3.13-bioc\R\bin\R.exe CMD INSTALL --merge-multiarch --build --library=MSstatsBioData.buildbin-libdir MSstatsBioData_1.13.0.tar.gz && D:\biocbuild\bbs-3.13-bioc\R\bin\R.exe CMD INSTALL MSstatsBioData_1.13.0.zip && rm MSstatsBioData_1.13.0.tar.gz MSstatsBioData_1.13.0.zip
StartedAt: 2021-01-14 09:48:24 -0500 (Thu, 14 Jan 2021)
EndedAt: 2021-01-14 09:48:32 -0500 (Thu, 14 Jan 2021)
EllapsedTime: 8.3 seconds
RetCode: 0
Status:  OK  

Command output

##############################################################################
##############################################################################
###
### Running command:
###
###   C:\cygwin\bin\curl.exe -O http://172.29.0.4/BBS/3.13/data-experiment/src/contrib/MSstatsBioData_1.13.0.tar.gz && rm -rf MSstatsBioData.buildbin-libdir && mkdir MSstatsBioData.buildbin-libdir && D:\biocbuild\bbs-3.13-bioc\R\bin\R.exe CMD INSTALL --merge-multiarch --build --library=MSstatsBioData.buildbin-libdir MSstatsBioData_1.13.0.tar.gz && D:\biocbuild\bbs-3.13-bioc\R\bin\R.exe CMD INSTALL MSstatsBioData_1.13.0.zip && rm MSstatsBioData_1.13.0.tar.gz MSstatsBioData_1.13.0.zip
###
##############################################################################
##############################################################################


  % Total    % Received % Xferd  Average Speed   Time    Time     Time  Current
                                 Dload  Upload   Total   Spent    Left  Speed

  0     0    0     0    0     0      0      0 --:--:-- --:--:-- --:--:--     0
  0 2861k    0 15815    0     0  29071      0  0:01:40 --:--:--  0:01:40 29018
 57 2861k   57 1639k    0     0  1115k      0  0:00:02  0:00:01  0:00:01 1114k
100 2861k  100 2861k    0     0  1368k      0  0:00:02  0:00:02 --:--:-- 1368k

install for i386

* installing *source* package 'MSstatsBioData' ...
** using staged installation
** data
*** moving datasets to lazyload DB
** inst
** help
*** installing help indices
  converting help for package 'MSstatsBioData'
    finding HTML links ... done
    DDA_cardio                              html  
REDIRECT:topic	 data:DDA_cardio -> DDA_cardio.html [ FAIL ]
REDIRECT:topic	 DDA_cardio -> DDA_cardio.html [ SUCCESS ]
    MSstatsBioData-package                  html  
REDIRECT:topic	 MSstatsBioData-package -> MSstatsBioData-package.html [ SUCCESS ]
REDIRECT:topic	 MSstatsBioData -> MSstatsBioData-package.html [ SUCCESS ]
    SRM_crc_training                        html  
REDIRECT:topic	 data:SRM_crc_training -> SRM_crc_training.html [ FAIL ]
REDIRECT:topic	 SRM_crc_training -> SRM_crc_training.html [ SUCCESS ]
    SRM_crc_validation                      html  
REDIRECT:topic	 data:SRM_crc_validation -> SRM_crc_validation.html [ FAIL ]
REDIRECT:topic	 SRM_crc_validation -> SRM_crc_validation.html [ SUCCESS ]
    SRM_mpm_training                        html  
REDIRECT:topic	 data:SRM_mpm_training -> SRM_mpm_training.html [ FAIL ]
REDIRECT:topic	 SRM_mpm_training -> SRM_mpm_training.html [ SUCCESS ]
    SRM_mpm_validation                      html  
REDIRECT:topic	 data:SRM_mpm_validation -> SRM_mpm_validation.html [ FAIL ]
REDIRECT:topic	 SRM_mpm_validation -> SRM_mpm_validation.html [ SUCCESS ]
    SRM_ovarian                             html  
REDIRECT:topic	 data:SRM_ovarian -> SRM_ovarian.html [ FAIL ]
REDIRECT:topic	 SRM_ovarian -> SRM_ovarian.html [ SUCCESS ]
    SRM_yeast                               html  
REDIRECT:topic	 data:SRM_yeast -> SRM_yeast.html [ FAIL ]
REDIRECT:topic	 SRM_yeast -> SRM_yeast.html [ SUCCESS ]
** building package indices
** installing vignettes
** testing if installed package can be loaded from temporary location
** testing if installed package can be loaded from final location
** testing if installed package keeps a record of temporary installation path

install for x64

* installing *source* package 'MSstatsBioData' ...
** testing if installed package can be loaded
* MD5 sums
packaged installation of 'MSstatsBioData' as MSstatsBioData_1.13.0.zip
* DONE (MSstatsBioData)
* installing to library 'D:/biocbuild/bbs-3.13-bioc/R/library'
package 'MSstatsBioData' successfully unpacked and MD5 sums checked