Back to Multiple platform build/check report for BioC 3.13 experimental data
ABCDEFGHIJKL[M]NOPQRSTUVWXYZ

INSTALL report for MSMB on riesling1

This page was generated on 2021-01-14 15:59:09 -0500 (Thu, 14 Jan 2021).

TO THE DEVELOPERS/MAINTAINERS OF THE MSMB PACKAGE: Please make sure to use the following settings in order to reproduce any error or warning you see on this page.
Package 237/385HostnameOS / ArchINSTALLBUILDCHECK
MSMB 1.9.0
Wolfgang Huber
Snapshot Date: 2021-01-14 09:00:13 -0500 (Thu, 14 Jan 2021)
URL: https://git.bioconductor.org/packages/MSMB
Branch: master
Last Commit: 47c031e
Last Changed Date: 2020-10-27 10:26:58 -0500 (Tue, 27 Oct 2020)
malbec2 Linux (Ubuntu 20.04.1 LTS) / x86_64  OK  OK  WARNINGS UNNEEDED, same version exists in internal repository
riesling1 Windows Server 2019 Standard / x64 [ OK ] OK  WARNINGS 

Summary

Package: MSMB
Version: 1.9.0
Command: C:\cygwin\bin\curl.exe -O http://172.29.0.4/BBS/3.13/data-experiment/src/contrib/MSMB_1.9.0.tar.gz && rm -rf MSMB.buildbin-libdir && mkdir MSMB.buildbin-libdir && D:\biocbuild\bbs-3.13-bioc\R\bin\R.exe CMD INSTALL --merge-multiarch --build --library=MSMB.buildbin-libdir MSMB_1.9.0.tar.gz && D:\biocbuild\bbs-3.13-bioc\R\bin\R.exe CMD INSTALL MSMB_1.9.0.zip && rm MSMB_1.9.0.tar.gz MSMB_1.9.0.zip
StartedAt: 2021-01-14 10:01:03 -0500 (Thu, 14 Jan 2021)
EndedAt: 2021-01-14 10:01:40 -0500 (Thu, 14 Jan 2021)
EllapsedTime: 36.7 seconds
RetCode: 0
Status:  OK  

Command output

##############################################################################
##############################################################################
###
### Running command:
###
###   C:\cygwin\bin\curl.exe -O http://172.29.0.4/BBS/3.13/data-experiment/src/contrib/MSMB_1.9.0.tar.gz && rm -rf MSMB.buildbin-libdir && mkdir MSMB.buildbin-libdir && D:\biocbuild\bbs-3.13-bioc\R\bin\R.exe CMD INSTALL --merge-multiarch --build --library=MSMB.buildbin-libdir MSMB_1.9.0.tar.gz && D:\biocbuild\bbs-3.13-bioc\R\bin\R.exe CMD INSTALL MSMB_1.9.0.zip && rm MSMB_1.9.0.tar.gz MSMB_1.9.0.zip
###
##############################################################################
##############################################################################


  % Total    % Received % Xferd  Average Speed   Time    Time     Time  Current
                                 Dload  Upload   Total   Spent    Left  Speed

  0     0    0     0    0     0      0      0 --:--:-- --:--:-- --:--:--     0
100 4998k  100 4998k    0     0  15.1M      0 --:--:-- --:--:-- --:--:-- 15.1M

install for i386

* installing *source* package 'MSMB' ...
** using staged installation
** data
** inst
** help
No man pages found in package  'MSMB' 
*** installing help indices
** building package indices
** installing vignettes
** testing if installed package can be loaded from temporary location
** testing if installed package can be loaded from final location
** testing if installed package keeps a record of temporary installation path

install for x64

* installing *source* package 'MSMB' ...
** testing if installed package can be loaded
* MD5 sums
packaged installation of 'MSMB' as MSMB_1.9.0.zip
* DONE (MSMB)
* installing to library 'D:/biocbuild/bbs-3.13-bioc/R/library'
package 'MSMB' successfully unpacked and MD5 sums checked