Back to Multiple platform build/check report for BioC 3.13 experimental data
ABCDEFGHIJKL[M]NOPQRSTUVWXYZ

INSTALL report for MOFAdata on riesling1

This page was generated on 2021-01-14 15:59:09 -0500 (Thu, 14 Jan 2021).

TO THE DEVELOPERS/MAINTAINERS OF THE MOFAdata PACKAGE: Please make sure to use the following settings in order to reproduce any error or warning you see on this page.
Package 231/385HostnameOS / ArchINSTALLBUILDCHECK
MOFAdata 1.7.0
Britta Velten
Snapshot Date: 2021-01-14 09:00:13 -0500 (Thu, 14 Jan 2021)
URL: https://git.bioconductor.org/packages/MOFAdata
Branch: master
Last Commit: 4f579fc
Last Changed Date: 2020-10-27 10:29:48 -0500 (Tue, 27 Oct 2020)
malbec2 Linux (Ubuntu 20.04.1 LTS) / x86_64  OK  OK  OK UNNEEDED, same version exists in internal repository
riesling1 Windows Server 2019 Standard / x64 [ OK ] OK  OK 

Summary

Package: MOFAdata
Version: 1.7.0
Command: C:\cygwin\bin\curl.exe -O http://172.29.0.4/BBS/3.13/data-experiment/src/contrib/MOFAdata_1.7.0.tar.gz && rm -rf MOFAdata.buildbin-libdir && mkdir MOFAdata.buildbin-libdir && D:\biocbuild\bbs-3.13-bioc\R\bin\R.exe CMD INSTALL --merge-multiarch --build --library=MOFAdata.buildbin-libdir MOFAdata_1.7.0.tar.gz && D:\biocbuild\bbs-3.13-bioc\R\bin\R.exe CMD INSTALL MOFAdata_1.7.0.zip && rm MOFAdata_1.7.0.tar.gz MOFAdata_1.7.0.zip
StartedAt: 2021-01-14 09:57:30 -0500 (Thu, 14 Jan 2021)
EndedAt: 2021-01-14 10:00:20 -0500 (Thu, 14 Jan 2021)
EllapsedTime: 170.3 seconds
RetCode: 0
Status:  OK  

Command output

##############################################################################
##############################################################################
###
### Running command:
###
###   C:\cygwin\bin\curl.exe -O http://172.29.0.4/BBS/3.13/data-experiment/src/contrib/MOFAdata_1.7.0.tar.gz && rm -rf MOFAdata.buildbin-libdir && mkdir MOFAdata.buildbin-libdir && D:\biocbuild\bbs-3.13-bioc\R\bin\R.exe CMD INSTALL --merge-multiarch --build --library=MOFAdata.buildbin-libdir MOFAdata_1.7.0.tar.gz && D:\biocbuild\bbs-3.13-bioc\R\bin\R.exe CMD INSTALL MOFAdata_1.7.0.zip && rm MOFAdata_1.7.0.tar.gz MOFAdata_1.7.0.zip
###
##############################################################################
##############################################################################


  % Total    % Received % Xferd  Average Speed   Time    Time     Time  Current
                                 Dload  Upload   Total   Spent    Left  Speed

  0     0    0     0    0     0      0      0 --:--:-- --:--:-- --:--:--     0
  0 44.1M    0  4133    0     0  25831      0  0:29:51 --:--:--  0:29:51 25670
 36 44.1M   36 16.1M    0     0  14.5M      0  0:00:03  0:00:01  0:00:02 14.5M
100 44.1M  100 44.1M    0     0  29.5M      0  0:00:01  0:00:01 --:--:-- 29.4M

install for i386

* installing *source* package 'MOFAdata' ...
** using staged installation
** R
** data
** inst
** byte-compile and prepare package for lazy loading
** help
*** installing help indices
  converting help for package 'MOFAdata'
    finding HTML links ... done
    CLL_covariates                          html  
REDIRECT:topic	 CLL_covariates -> CLL_covariates.html [ SUCCESS ]
    CLL_data                                html  
REDIRECT:topic	 CLL_data -> CLL_data.html [ SUCCESS ]
    MOFAdata                                html  
REDIRECT:topic	 MOFAdata -> MOFAdata.html [ SUCCESS ]
REDIRECT:topic	 MOFAdata-package -> MOFAdata.html [ SUCCESS ]
    MSigDB_v6.0_C2_human                    html  
REDIRECT:topic	 MSigDB_v6.0_C2_human -> MSigDB_v6.0_C2_human.html [ SUCCESS ]
    MSigDB_v6.0_C2_mouse                    html  
REDIRECT:topic	 MSigDB_v6.0_C2_mouse -> MSigDB_v6.0_C2_mouse.html [ SUCCESS ]
    MSigDB_v6.0_C5_human                    html  
REDIRECT:topic	 MSigDB_v6.0_C5_human -> MSigDB_v6.0_C5_human.html [ SUCCESS ]
    MSigDB_v6.0_C5_mouse                    html  
REDIRECT:topic	 MSigDB_v6.0_C5_mouse -> MSigDB_v6.0_C5_mouse.html [ SUCCESS ]
    reactomeGS                              html  
REDIRECT:topic	 reactomeGS -> reactomeGS.html [ SUCCESS ]
    scMT_data                               html  
REDIRECT:topic	 scMT_data -> scMT_data.html [ SUCCESS ]
** building package indices
** installing vignettes
** testing if installed package can be loaded from temporary location
** testing if installed package can be loaded from final location
** testing if installed package keeps a record of temporary installation path

install for x64

* installing *source* package 'MOFAdata' ...
** testing if installed package can be loaded
* MD5 sums
packaged installation of 'MOFAdata' as MOFAdata_1.7.0.zip
* DONE (MOFAdata)
* installing to library 'D:/biocbuild/bbs-3.13-bioc/R/library'
package 'MOFAdata' successfully unpacked and MD5 sums checked