Back to Multiple platform build/check report for BioC 3.13 experimental data
ABCDEFGHIJKL[M]NOPQRSTUVWXYZ

CHECK report for MOFAdata on riesling1

This page was generated on 2021-01-21 16:01:31 -0500 (Thu, 21 Jan 2021).

TO THE DEVELOPERS/MAINTAINERS OF THE MOFAdata PACKAGE: Please make sure to use the following settings in order to reproduce any error or warning you see on this page.
Package 231/386HostnameOS / ArchINSTALLBUILDCHECK
MOFAdata 1.7.0
Britta Velten
Snapshot Date: 2021-01-21 09:00:14 -0500 (Thu, 21 Jan 2021)
URL: https://git.bioconductor.org/packages/MOFAdata
Branch: master
Last Commit: 4f579fc
Last Changed Date: 2020-10-27 10:29:48 -0500 (Tue, 27 Oct 2020)
malbec2 Linux (Ubuntu 20.04.1 LTS) / x86_64  OK  OK  OK UNNEEDED, same version exists in internal repository
riesling1 Windows Server 2019 Standard / x64  OK  OK [ OK ]

Summary

Package: MOFAdata
Version: 1.7.0
Command: D:\biocbuild\bbs-3.13-bioc\R\bin\R.exe CMD check --force-multiarch --install=check:MOFAdata.install-out.txt --library=D:\biocbuild\bbs-3.13-bioc\R\library --no-vignettes --timings MOFAdata_1.7.0.tar.gz
StartedAt: 2021-01-21 11:34:24 -0500 (Thu, 21 Jan 2021)
EndedAt: 2021-01-21 11:37:02 -0500 (Thu, 21 Jan 2021)
EllapsedTime: 157.2 seconds
RetCode: 0
Status:  OK  
CheckDir: MOFAdata.Rcheck
Warnings: 0

Command output

##############################################################################
##############################################################################
###
### Running command:
###
###   D:\biocbuild\bbs-3.13-bioc\R\bin\R.exe CMD check --force-multiarch --install=check:MOFAdata.install-out.txt --library=D:\biocbuild\bbs-3.13-bioc\R\library --no-vignettes --timings MOFAdata_1.7.0.tar.gz
###
##############################################################################
##############################################################################


* using log directory 'D:/biocbuild/bbs-3.13-data-experiment/meat/MOFAdata.Rcheck'
* using R Under development (unstable) (2020-12-30 r79736)
* using platform: x86_64-w64-mingw32 (64-bit)
* using session charset: ISO8859-1
* using option '--no-vignettes'
* checking for file 'MOFAdata/DESCRIPTION' ... OK
* checking extension type ... Package
* this is package 'MOFAdata' version '1.7.0'
* package encoding: UTF-8
* checking package namespace information ... OK
* checking package dependencies ... OK
* checking if this is a source package ... OK
* checking if there is a namespace ... OK
* checking for hidden files and directories ... OK
* checking for portable file names ... OK
* checking whether package 'MOFAdata' can be installed ... OK
* checking installed package size ... NOTE
  installed size is 69.7Mb
  sub-directories of 1Mb or more:
    data     16.1Mb
    extdata  53.5Mb
* checking package directory ... OK
* checking 'build' directory ... OK
* checking DESCRIPTION meta-information ... OK
* checking top-level files ... OK
* checking for left-over files ... OK
* checking index information ... OK
* checking package subdirectories ... OK
* checking R files for non-ASCII characters ... OK
* checking R files for syntax errors ... OK
* loading checks for arch 'i386'
** checking whether the package can be loaded ... OK
** checking whether the package can be loaded with stated dependencies ... OK
** checking whether the package can be unloaded cleanly ... OK
** checking whether the namespace can be loaded with stated dependencies ... OK
** checking whether the namespace can be unloaded cleanly ... OK
* loading checks for arch 'x64'
** checking whether the package can be loaded ... OK
** checking whether the package can be loaded with stated dependencies ... OK
** checking whether the package can be unloaded cleanly ... OK
** checking whether the namespace can be loaded with stated dependencies ... OK
** checking whether the namespace can be unloaded cleanly ... OK
* checking dependencies in R code ... OK
* checking S3 generic/method consistency ... OK
* checking replacement functions ... OK
* checking foreign function calls ... OK
* checking R code for possible problems ... OK
* checking Rd files ... OK
* checking Rd metadata ... OK
* checking Rd cross-references ... OK
* checking for missing documentation entries ... OK
* checking for code/documentation mismatches ... OK
* checking Rd \usage sections ... OK
* checking Rd contents ... OK
* checking for unstated dependencies in examples ... OK
* checking contents of 'data' directory ... OK
* checking data for non-ASCII characters ... OK
* checking data for ASCII and uncompressed saves ... OK
* checking files in 'vignettes' ... OK
* checking examples ... NONE
* checking for unstated dependencies in vignettes ... OK
* checking package vignettes in 'inst/doc' ... OK
* checking running R code from vignettes ... SKIPPED
* checking re-building of vignette outputs ... SKIPPED
* checking PDF version of manual ... OK
* DONE

Status: 1 NOTE
See
  'D:/biocbuild/bbs-3.13-data-experiment/meat/MOFAdata.Rcheck/00check.log'
for details.



Installation output

MOFAdata.Rcheck/00install.out

##############################################################################
##############################################################################
###
### Running command:
###
###   C:\cygwin\bin\curl.exe -O http://172.29.0.4/BBS/3.13/data-experiment/src/contrib/MOFAdata_1.7.0.tar.gz && rm -rf MOFAdata.buildbin-libdir && mkdir MOFAdata.buildbin-libdir && D:\biocbuild\bbs-3.13-bioc\R\bin\R.exe CMD INSTALL --merge-multiarch --build --library=MOFAdata.buildbin-libdir MOFAdata_1.7.0.tar.gz && D:\biocbuild\bbs-3.13-bioc\R\bin\R.exe CMD INSTALL MOFAdata_1.7.0.zip && rm MOFAdata_1.7.0.tar.gz MOFAdata_1.7.0.zip
###
##############################################################################
##############################################################################


  % Total    % Received % Xferd  Average Speed   Time    Time     Time  Current
                                 Dload  Upload   Total   Spent    Left  Speed

  0     0    0     0    0     0      0      0 --:--:-- --:--:-- --:--:--     0
  0 44.1M    0 77133    0     0   225k      0  0:03:20 --:--:--  0:03:20  225k
100 44.1M  100 44.1M    0     0  40.5M      0  0:00:01  0:00:01 --:--:-- 40.5M

install for i386

* installing *source* package 'MOFAdata' ...
** using staged installation
** R
** data
** inst
** byte-compile and prepare package for lazy loading
** help
*** installing help indices
  converting help for package 'MOFAdata'
    finding HTML links ... done
    CLL_covariates                          html  
REDIRECT:topic	 CLL_covariates -> CLL_covariates.html [ SUCCESS ]
    CLL_data                                html  
REDIRECT:topic	 CLL_data -> CLL_data.html [ SUCCESS ]
    MOFAdata                                html  
REDIRECT:topic	 MOFAdata -> MOFAdata.html [ SUCCESS ]
REDIRECT:topic	 MOFAdata-package -> MOFAdata.html [ SUCCESS ]
    MSigDB_v6.0_C2_human                    html  
REDIRECT:topic	 MSigDB_v6.0_C2_human -> MSigDB_v6.0_C2_human.html [ SUCCESS ]
    MSigDB_v6.0_C2_mouse                    html  
REDIRECT:topic	 MSigDB_v6.0_C2_mouse -> MSigDB_v6.0_C2_mouse.html [ SUCCESS ]
    MSigDB_v6.0_C5_human                    html  
REDIRECT:topic	 MSigDB_v6.0_C5_human -> MSigDB_v6.0_C5_human.html [ SUCCESS ]
    MSigDB_v6.0_C5_mouse                    html  
REDIRECT:topic	 MSigDB_v6.0_C5_mouse -> MSigDB_v6.0_C5_mouse.html [ SUCCESS ]
    reactomeGS                              html  
REDIRECT:topic	 reactomeGS -> reactomeGS.html [ SUCCESS ]
    scMT_data                               html  
REDIRECT:topic	 scMT_data -> scMT_data.html [ SUCCESS ]
** building package indices
** installing vignettes
** testing if installed package can be loaded from temporary location
** testing if installed package can be loaded from final location
** testing if installed package keeps a record of temporary installation path

install for x64

* installing *source* package 'MOFAdata' ...
** testing if installed package can be loaded
* MD5 sums
packaged installation of 'MOFAdata' as MOFAdata_1.7.0.zip
* DONE (MOFAdata)
* installing to library 'D:/biocbuild/bbs-3.13-bioc/R/library'
package 'MOFAdata' successfully unpacked and MD5 sums checked

Tests output


Example timings