Back to Multiple platform build/check report for BioC 3.13 experimental data
ABCDEFGHIJKL[M]NOPQRSTUVWXYZ

BUILD report for MOFAdata on riesling1

This page was generated on 2021-01-21 16:01:31 -0500 (Thu, 21 Jan 2021).

TO THE DEVELOPERS/MAINTAINERS OF THE MOFAdata PACKAGE: Please make sure to use the following settings in order to reproduce any error or warning you see on this page.
Package 231/386HostnameOS / ArchINSTALLBUILDCHECK
MOFAdata 1.7.0
Britta Velten
Snapshot Date: 2021-01-21 09:00:14 -0500 (Thu, 21 Jan 2021)
URL: https://git.bioconductor.org/packages/MOFAdata
Branch: master
Last Commit: 4f579fc
Last Changed Date: 2020-10-27 10:29:48 -0500 (Tue, 27 Oct 2020)
malbec2 Linux (Ubuntu 20.04.1 LTS) / x86_64  OK  OK  OK UNNEEDED, same version exists in internal repository
riesling1 Windows Server 2019 Standard / x64  OK [ OK ] OK 

Summary

Package: MOFAdata
Version: 1.7.0
Command: chmod a+r MOFAdata -R && D:\biocbuild\bbs-3.13-bioc\R\bin\R.exe CMD build --keep-empty-dirs --no-resave-data MOFAdata
StartedAt: 2021-01-21 10:51:13 -0500 (Thu, 21 Jan 2021)
EndedAt: 2021-01-21 10:51:51 -0500 (Thu, 21 Jan 2021)
EllapsedTime: 38.2 seconds
RetCode: 0
Status:  OK  
PackageFile: MOFAdata_1.7.0.tar.gz
PackageFileSize: 44.23 MiB

Command output

##############################################################################
##############################################################################
###
### Running command:
###
###   chmod a+r MOFAdata -R && D:\biocbuild\bbs-3.13-bioc\R\bin\R.exe CMD build --keep-empty-dirs --no-resave-data MOFAdata
###
##############################################################################
##############################################################################


* checking for file 'MOFAdata/DESCRIPTION' ... OK
* preparing 'MOFAdata':
* checking DESCRIPTION meta-information ... OK
* installing the package to build vignettes
* creating vignettes ... OK
* checking for LF line-endings in source and make files and shell scripts
* checking for empty or unneeded directories
* looking to see if a 'data/datalist' file should be added
* building 'MOFAdata_1.7.0.tar.gz'