Back to Multiple platform build/check report for BioC 3.13 experimental data
ABCDEFGHIJKL[M]NOPQRSTUVWXYZ

INSTALL report for MMAPPR2data on riesling1

This page was generated on 2021-01-21 16:01:31 -0500 (Thu, 21 Jan 2021).

TO THE DEVELOPERS/MAINTAINERS OF THE MMAPPR2data PACKAGE: Please make sure to use the following settings in order to reproduce any error or warning you see on this page.
Package 229/386HostnameOS / ArchINSTALLBUILDCHECK
MMAPPR2data 1.5.0
Jonathon Hill
Snapshot Date: 2021-01-21 09:00:14 -0500 (Thu, 21 Jan 2021)
URL: https://git.bioconductor.org/packages/MMAPPR2data
Branch: master
Last Commit: c8ef69f
Last Changed Date: 2020-10-27 10:30:27 -0500 (Tue, 27 Oct 2020)
malbec2 Linux (Ubuntu 20.04.1 LTS) / x86_64  OK  OK  OK UNNEEDED, same version exists in internal repository
riesling1 Windows Server 2019 Standard / x64 [ OK ] OK  OK 

Summary

Package: MMAPPR2data
Version: 1.5.0
Command: C:\cygwin\bin\curl.exe -O http://172.29.0.4/BBS/3.13/data-experiment/src/contrib/MMAPPR2data_1.5.0.tar.gz && rm -rf MMAPPR2data.buildbin-libdir && mkdir MMAPPR2data.buildbin-libdir && D:\biocbuild\bbs-3.13-bioc\R\bin\R.exe CMD INSTALL --merge-multiarch --build --library=MMAPPR2data.buildbin-libdir MMAPPR2data_1.5.0.tar.gz && D:\biocbuild\bbs-3.13-bioc\R\bin\R.exe CMD INSTALL MMAPPR2data_1.5.0.zip && rm MMAPPR2data_1.5.0.tar.gz MMAPPR2data_1.5.0.zip
StartedAt: 2021-01-21 10:09:34 -0500 (Thu, 21 Jan 2021)
EndedAt: 2021-01-21 10:09:40 -0500 (Thu, 21 Jan 2021)
EllapsedTime: 6.1 seconds
RetCode: 0
Status:  OK  

Command output

##############################################################################
##############################################################################
###
### Running command:
###
###   C:\cygwin\bin\curl.exe -O http://172.29.0.4/BBS/3.13/data-experiment/src/contrib/MMAPPR2data_1.5.0.tar.gz && rm -rf MMAPPR2data.buildbin-libdir && mkdir MMAPPR2data.buildbin-libdir && D:\biocbuild\bbs-3.13-bioc\R\bin\R.exe CMD INSTALL --merge-multiarch --build --library=MMAPPR2data.buildbin-libdir MMAPPR2data_1.5.0.tar.gz && D:\biocbuild\bbs-3.13-bioc\R\bin\R.exe CMD INSTALL MMAPPR2data_1.5.0.zip && rm MMAPPR2data_1.5.0.tar.gz MMAPPR2data_1.5.0.zip
###
##############################################################################
##############################################################################


  % Total    % Received % Xferd  Average Speed   Time    Time     Time  Current
                                 Dload  Upload   Total   Spent    Left  Speed

  0     0    0     0    0     0      0      0 --:--:-- --:--:-- --:--:--     0
100  289k  100  289k    0     0  14.8M      0 --:--:-- --:--:-- --:--:-- 14.8M

install for i386

* installing *source* package 'MMAPPR2data' ...
** using staged installation
** R
** inst
** byte-compile and prepare package for lazy loading
** help
*** installing help indices
  converting help for package 'MMAPPR2data'
    finding HTML links ... done
    MMAPPR2data                             html  
REDIRECT:topic	 MMAPPR2data -> MMAPPR2data.html [ SUCCESS ]
REDIRECT:topic	 MMAPPR2data-package -> MMAPPR2data.html [ SUCCESS ]
REDIRECT:topic	 exampleMutBam -> MMAPPR2data.html [ SUCCESS ]
REDIRECT:topic	 exampleWTbam -> MMAPPR2data.html [ SUCCESS ]
REDIRECT:topic	 goldenFasta -> MMAPPR2data.html [ SUCCESS ]
REDIRECT:topic	 goldenGFF -> MMAPPR2data.html [ SUCCESS ]
** building package indices
** installing vignettes
** testing if installed package can be loaded from temporary location
** testing if installed package can be loaded from final location
** testing if installed package keeps a record of temporary installation path

install for x64

* installing *source* package 'MMAPPR2data' ...
** testing if installed package can be loaded
* MD5 sums
packaged installation of 'MMAPPR2data' as MMAPPR2data_1.5.0.zip
* DONE (MMAPPR2data)
* installing to library 'D:/biocbuild/bbs-3.13-bioc/R/library'
package 'MMAPPR2data' successfully unpacked and MD5 sums checked