Back to Multiple platform build/check report for BioC 3.13 experimental data
ABCDEFGHIJKL[M]NOPQRSTUVWXYZ

BUILD report for MIGSAdata on riesling1

This page was generated on 2021-01-21 16:01:31 -0500 (Thu, 21 Jan 2021).

TO THE DEVELOPERS/MAINTAINERS OF THE MIGSAdata PACKAGE: Please make sure to use the following settings in order to reproduce any error or warning you see on this page.
Package 223/386HostnameOS / ArchINSTALLBUILDCHECK
MIGSAdata 1.15.0
Juan C. Rodriguez
Snapshot Date: 2021-01-21 09:00:14 -0500 (Thu, 21 Jan 2021)
URL: https://git.bioconductor.org/packages/MIGSAdata
Branch: master
Last Commit: f10eae5
Last Changed Date: 2020-10-27 10:22:40 -0500 (Tue, 27 Oct 2020)
malbec2 Linux (Ubuntu 20.04.1 LTS) / x86_64  OK  OK  OK UNNEEDED, same version exists in internal repository
riesling1 Windows Server 2019 Standard / x64  OK [ OK ] OK 

Summary

Package: MIGSAdata
Version: 1.15.0
Command: chmod a+r MIGSAdata -R && D:\biocbuild\bbs-3.13-bioc\R\bin\R.exe CMD build --keep-empty-dirs --no-resave-data MIGSAdata
StartedAt: 2021-01-21 10:50:49 -0500 (Thu, 21 Jan 2021)
EndedAt: 2021-01-21 10:51:03 -0500 (Thu, 21 Jan 2021)
EllapsedTime: 14.2 seconds
RetCode: 0
Status:  OK  
PackageFile: MIGSAdata_1.15.0.tar.gz
PackageFileSize: 80.42 MiB

Command output

##############################################################################
##############################################################################
###
### Running command:
###
###   chmod a+r MIGSAdata -R && D:\biocbuild\bbs-3.13-bioc\R\bin\R.exe CMD build --keep-empty-dirs --no-resave-data MIGSAdata
###
##############################################################################
##############################################################################


* checking for file 'MIGSAdata/DESCRIPTION' ... OK
* preparing 'MIGSAdata':
* checking DESCRIPTION meta-information ... OK
* checking for LF line-endings in source and make files and shell scripts
* checking for empty or unneeded directories
* looking to see if a 'data/datalist' file should be added
* building 'MIGSAdata_1.15.0.tar.gz'