Back to Multiple platform build/check report for BioC 3.13 experimental data
ABCDEFGHIJKL[M]NOPQRSTUVWXYZ

INSTALL report for MEEBOdata on riesling1

This page was generated on 2021-01-14 15:59:09 -0500 (Thu, 14 Jan 2021).

TO THE DEVELOPERS/MAINTAINERS OF THE MEEBOdata PACKAGE: Please make sure to use the following settings in order to reproduce any error or warning you see on this page.
Package 215/385HostnameOS / ArchINSTALLBUILDCHECK
MEEBOdata 1.29.0
Agnes Paquet
Snapshot Date: 2021-01-14 09:00:13 -0500 (Thu, 14 Jan 2021)
URL: https://git.bioconductor.org/packages/MEEBOdata
Branch: master
Last Commit: 217f6d7
Last Changed Date: 2020-10-27 09:46:47 -0500 (Tue, 27 Oct 2020)
malbec2 Linux (Ubuntu 20.04.1 LTS) / x86_64  OK  OK  WARNINGS UNNEEDED, same version exists in internal repository
riesling1 Windows Server 2019 Standard / x64 [ OK ] OK  WARNINGS 

Summary

Package: MEEBOdata
Version: 1.29.0
Command: C:\cygwin\bin\curl.exe -O http://172.29.0.4/BBS/3.13/data-experiment/src/contrib/MEEBOdata_1.29.0.tar.gz && rm -rf MEEBOdata.buildbin-libdir && mkdir MEEBOdata.buildbin-libdir && D:\biocbuild\bbs-3.13-bioc\R\bin\R.exe CMD INSTALL --merge-multiarch --build --library=MEEBOdata.buildbin-libdir MEEBOdata_1.29.0.tar.gz && D:\biocbuild\bbs-3.13-bioc\R\bin\R.exe CMD INSTALL MEEBOdata_1.29.0.zip && rm MEEBOdata_1.29.0.tar.gz MEEBOdata_1.29.0.zip
StartedAt: 2021-01-14 09:48:36 -0500 (Thu, 14 Jan 2021)
EndedAt: 2021-01-14 09:48:46 -0500 (Thu, 14 Jan 2021)
EllapsedTime: 10.0 seconds
RetCode: 0
Status:  OK  

Command output

##############################################################################
##############################################################################
###
### Running command:
###
###   C:\cygwin\bin\curl.exe -O http://172.29.0.4/BBS/3.13/data-experiment/src/contrib/MEEBOdata_1.29.0.tar.gz && rm -rf MEEBOdata.buildbin-libdir && mkdir MEEBOdata.buildbin-libdir && D:\biocbuild\bbs-3.13-bioc\R\bin\R.exe CMD INSTALL --merge-multiarch --build --library=MEEBOdata.buildbin-libdir MEEBOdata_1.29.0.tar.gz && D:\biocbuild\bbs-3.13-bioc\R\bin\R.exe CMD INSTALL MEEBOdata_1.29.0.zip && rm MEEBOdata_1.29.0.tar.gz MEEBOdata_1.29.0.zip
###
##############################################################################
##############################################################################


  % Total    % Received % Xferd  Average Speed   Time    Time     Time  Current
                                 Dload  Upload   Total   Spent    Left  Speed

  0     0    0     0    0     0      0      0 --:--:-- --:--:-- --:--:--     0
  0 7061k    0 23115    0     0  62642      0  0:01:55 --:--:--  0:01:55 62472
 19 7061k   19 1374k    0     0  1014k      0  0:00:06  0:00:01  0:00:05 1014k
 34 7061k   34 2456k    0     0  1043k      0  0:00:06  0:00:02  0:00:04 1043k
 80 7061k   80 5657k    0     0  1645k      0  0:00:04  0:00:03  0:00:01 1645k
100 7061k  100 7061k    0     0  2029k      0  0:00:03  0:00:03 --:--:-- 2029k

install for i386

* installing *source* package 'MEEBOdata' ...
** using staged installation
** data
** inst
** help
*** installing help indices
  converting help for package 'MEEBOdata'
    finding HTML links ... done
    MEEBOdata                               html  
REDIRECT:topic	 MEEBO -> MEEBOdata.html [ SUCCESS ]
REDIRECT:topic	 MEEBOset -> MEEBOdata.html [ SUCCESS ]
REDIRECT:topic	 MEEBOctrl -> MEEBOdata.html [ SUCCESS ]
REDIRECT:topic	 MEEBOtilingres -> MEEBOdata.html [ SUCCESS ]
REDIRECT:file	 MEEBOdata.html -> MEEBOdata.html [ SUCCESS ]
    StanfordExampleData                     html  
REDIRECT:topic	 RDI108\_n.gpr -> StanfordExampleData.html [ FAIL ]
REDIRECT:topic	 StanfordDCV1.7complete.txt -> StanfordExampleData.html [ SUCCESS ]
REDIRECT:file	 StanfordExampleData.html -> StanfordExampleData.html [ SUCCESS ]
Rd warning: cannot open file 'D:/biocbuild/bbs-3.13-data-experiment/meat/MEEBOdata.buildbin-libdir/00LOCK-MEEBOdata/00new/MEEBOdata/help/RDI108\_n.gpr.html': No such file or directory
** building package indices
** testing if installed package can be loaded from temporary location
** testing if installed package can be loaded from final location
** testing if installed package keeps a record of temporary installation path

install for x64

* installing *source* package 'MEEBOdata' ...
** testing if installed package can be loaded
* MD5 sums
packaged installation of 'MEEBOdata' as MEEBOdata_1.29.0.zip
* DONE (MEEBOdata)
* installing to library 'D:/biocbuild/bbs-3.13-bioc/R/library'
package 'MEEBOdata' successfully unpacked and MD5 sums checked