Back to Multiple platform build/check report for BioC 3.13 experimental data
ABCDEFGHIJKL[M]NOPQRSTUVWXYZ

INSTALL report for MEDIPSData on riesling1

This page was generated on 2021-01-21 16:01:31 -0500 (Thu, 21 Jan 2021).

TO THE DEVELOPERS/MAINTAINERS OF THE MEDIPSData PACKAGE: Please make sure to use the following settings in order to reproduce any error or warning you see on this page.
Package 214/386HostnameOS / ArchINSTALLBUILDCHECK
MEDIPSData 1.27.0
Lukas Chavez
Snapshot Date: 2021-01-21 09:00:14 -0500 (Thu, 21 Jan 2021)
URL: https://git.bioconductor.org/packages/MEDIPSData
Branch: master
Last Commit: 77e3a9b
Last Changed Date: 2020-10-27 09:56:26 -0500 (Tue, 27 Oct 2020)
malbec2 Linux (Ubuntu 20.04.1 LTS) / x86_64  OK  OK  WARNINGS UNNEEDED, same version exists in internal repository
riesling1 Windows Server 2019 Standard / x64 [ OK ] OK  WARNINGS 

Summary

Package: MEDIPSData
Version: 1.27.0
Command: C:\cygwin\bin\curl.exe -O http://172.29.0.4/BBS/3.13/data-experiment/src/contrib/MEDIPSData_1.27.0.tar.gz && rm -rf MEDIPSData.buildbin-libdir && mkdir MEDIPSData.buildbin-libdir && D:\biocbuild\bbs-3.13-bioc\R\bin\R.exe CMD INSTALL --merge-multiarch --build --library=MEDIPSData.buildbin-libdir MEDIPSData_1.27.0.tar.gz && D:\biocbuild\bbs-3.13-bioc\R\bin\R.exe CMD INSTALL MEDIPSData_1.27.0.zip && rm MEDIPSData_1.27.0.tar.gz MEDIPSData_1.27.0.zip
StartedAt: 2021-01-21 09:48:58 -0500 (Thu, 21 Jan 2021)
EndedAt: 2021-01-21 09:49:35 -0500 (Thu, 21 Jan 2021)
EllapsedTime: 37.0 seconds
RetCode: 0
Status:  OK  

Command output

##############################################################################
##############################################################################
###
### Running command:
###
###   C:\cygwin\bin\curl.exe -O http://172.29.0.4/BBS/3.13/data-experiment/src/contrib/MEDIPSData_1.27.0.tar.gz && rm -rf MEDIPSData.buildbin-libdir && mkdir MEDIPSData.buildbin-libdir && D:\biocbuild\bbs-3.13-bioc\R\bin\R.exe CMD INSTALL --merge-multiarch --build --library=MEDIPSData.buildbin-libdir MEDIPSData_1.27.0.tar.gz && D:\biocbuild\bbs-3.13-bioc\R\bin\R.exe CMD INSTALL MEDIPSData_1.27.0.zip && rm MEDIPSData_1.27.0.tar.gz MEDIPSData_1.27.0.zip
###
##############################################################################
##############################################################################


  % Total    % Received % Xferd  Average Speed   Time    Time     Time  Current
                                 Dload  Upload   Total   Spent    Left  Speed

  0     0    0     0    0     0      0      0 --:--:-- --:--:-- --:--:--     0
  0  163M    0 14352    0     0  71402      0  0:39:55 --:--:--  0:39:55 71049
 29  163M   29 48.3M    0     0  42.2M      0  0:00:03  0:00:01  0:00:02 42.1M
 61  163M   61  100M    0     0  44.9M      0  0:00:03  0:00:02  0:00:01 44.9M
 67  163M   67  110M    0     0  33.2M      0  0:00:04  0:00:03  0:00:01 33.2M
 91  163M   91  150M    0     0  34.4M      0  0:00:04  0:00:04 --:--:-- 34.4M
100  163M  100  163M    0     0  36.5M      0  0:00:04  0:00:04 --:--:-- 38.2M

install for i386

* installing *source* package 'MEDIPSData' ...
** using staged installation
** data
** inst
** help
*** installing help indices
  converting help for package 'MEDIPSData'
    finding HTML links ... done
    CS                                      html  
REDIRECT:topic	 CS -> CS.html [ SUCCESS ]
    DE_Input                                html  
REDIRECT:topic	 DE_Input -> DE_Input.html [ SUCCESS ]
    DE_MeDIP                                html  
REDIRECT:topic	 DE_MeDIP -> DE_MeDIP.html [ SUCCESS ]
    NSCLC_dataset                           html  
REDIRECT:topic	 NSCLC_dataset -> NSCLC_dataset.html [ SUCCESS ]
    annotation                              html  
REDIRECT:topic	 annotation -> annotation.html [ SUCCESS ]
    hESCs_Input                             html  
REDIRECT:topic	 hESCs_Input -> hESCs_Input.html [ SUCCESS ]
    hESCs_MeDIP                             html  
REDIRECT:topic	 hESCs_MeDIP -> hESCs_MeDIP.html [ SUCCESS ]
    mart_gene                               html  
REDIRECT:topic	 mart_gene -> mart_gene.html [ SUCCESS ]
    resultTable                             html  
REDIRECT:topic	 resultTable -> resultTable.html [ SUCCESS ]
    samplesNSCLC                            html  
REDIRECT:topic	 samplesNSCLC -> samplesNSCLC.html [ SUCCESS ]
    tcga_luad_lusc_450kmeth                 html  
REDIRECT:topic	 tcga_luad_lusc_450kmeth -> tcga_luad_lusc_450kmeth.html [ SUCCESS ]
** building package indices
** testing if installed package can be loaded from temporary location
** testing if installed package can be loaded from final location
** testing if installed package keeps a record of temporary installation path

install for x64

* installing *source* package 'MEDIPSData' ...
** testing if installed package can be loaded
* MD5 sums
packaged installation of 'MEDIPSData' as MEDIPSData_1.27.0.zip
* DONE (MEDIPSData)
* installing to library 'D:/biocbuild/bbs-3.13-bioc/R/library'
package 'MEDIPSData' successfully unpacked and MD5 sums checked