Back to Multiple platform build/check report for BioC 3.13 experimental data
ABCDEFGHIJKL[M]NOPQRSTUVWXYZ

INSTALL report for MAQCsubsetILM on riesling1

This page was generated on 2021-01-11 15:59:31 -0500 (Mon, 11 Jan 2021).

TO THE DEVELOPERS/MAINTAINERS OF THE MAQCsubsetILM PACKAGE: Please make sure to use the following settings in order to reproduce any error or warning you see on this page.
Package 211/385HostnameOS / ArchINSTALLBUILDCHECK
MAQCsubsetILM 1.29.0
Laurent Gatto
Snapshot Date: 2021-01-11 09:00:09 -0500 (Mon, 11 Jan 2021)
URL: https://git.bioconductor.org/packages/MAQCsubsetILM
Branch: master
Last Commit: 45311a6
Last Changed Date: 2020-10-27 09:49:35 -0500 (Tue, 27 Oct 2020)
malbec2 Linux (Ubuntu 20.04.1 LTS) / x86_64  OK  OK  OK UNNEEDED, same version exists in internal repository
riesling1 Windows Server 2019 Standard / x64 [ OK ] OK  OK 

Summary

Package: MAQCsubsetILM
Version: 1.29.0
Command: C:\cygwin\bin\curl.exe -O http://172.29.0.4/BBS/3.13/data-experiment/src/contrib/MAQCsubsetILM_1.29.0.tar.gz && rm -rf MAQCsubsetILM.buildbin-libdir && mkdir MAQCsubsetILM.buildbin-libdir && D:\biocbuild\bbs-3.13-bioc\R\bin\R.exe CMD INSTALL --merge-multiarch --build --library=MAQCsubsetILM.buildbin-libdir MAQCsubsetILM_1.29.0.tar.gz && D:\biocbuild\bbs-3.13-bioc\R\bin\R.exe CMD INSTALL MAQCsubsetILM_1.29.0.zip && rm MAQCsubsetILM_1.29.0.tar.gz MAQCsubsetILM_1.29.0.zip
StartedAt: 2021-01-11 10:18:59 -0500 (Mon, 11 Jan 2021)
EndedAt: 2021-01-11 10:19:40 -0500 (Mon, 11 Jan 2021)
EllapsedTime: 40.4 seconds
RetCode: 0
Status:  OK  

Command output

##############################################################################
##############################################################################
###
### Running command:
###
###   C:\cygwin\bin\curl.exe -O http://172.29.0.4/BBS/3.13/data-experiment/src/contrib/MAQCsubsetILM_1.29.0.tar.gz && rm -rf MAQCsubsetILM.buildbin-libdir && mkdir MAQCsubsetILM.buildbin-libdir && D:\biocbuild\bbs-3.13-bioc\R\bin\R.exe CMD INSTALL --merge-multiarch --build --library=MAQCsubsetILM.buildbin-libdir MAQCsubsetILM_1.29.0.tar.gz && D:\biocbuild\bbs-3.13-bioc\R\bin\R.exe CMD INSTALL MAQCsubsetILM_1.29.0.zip && rm MAQCsubsetILM_1.29.0.tar.gz MAQCsubsetILM_1.29.0.zip
###
##############################################################################
##############################################################################


  % Total    % Received % Xferd  Average Speed   Time    Time     Time  Current
                                 Dload  Upload   Total   Spent    Left  Speed

  0     0    0     0    0     0      0      0 --:--:-- --:--:-- --:--:--     0
100 2827k  100 2827k    0     0  34.0M      0 --:--:-- --:--:-- --:--:-- 34.0M

install for i386

* installing *source* package 'MAQCsubsetILM' ...
** using staged installation
** data
** help
*** installing help indices
  converting help for package 'MAQCsubsetILM'
    finding HTML links ... done
    refA                                    html  
REDIRECT:topic	 refA -> refA.html [ SUCCESS ]
    refB                                    html  
REDIRECT:topic	 refB -> refB.html [ SUCCESS ]
    refC                                    html  
REDIRECT:topic	 refC -> refC.html [ SUCCESS ]
    refD                                    html  
REDIRECT:topic	 refD -> refD.html [ SUCCESS ]
** building package indices
** installing vignettes
** testing if installed package can be loaded from temporary location
No methods found in package 'RSQLite' for request: 'dbListFields' when loading 'lumi'
** testing if installed package can be loaded from final location
No methods found in package 'RSQLite' for request: 'dbListFields' when loading 'lumi'
** testing if installed package keeps a record of temporary installation path

install for x64

* installing *source* package 'MAQCsubsetILM' ...
** testing if installed package can be loaded
No methods found in package 'RSQLite' for request: 'dbListFields' when loading 'lumi'
* MD5 sums
packaged installation of 'MAQCsubsetILM' as MAQCsubsetILM_1.29.0.zip
* DONE (MAQCsubsetILM)
* installing to library 'D:/biocbuild/bbs-3.13-bioc/R/library'
package 'MAQCsubsetILM' successfully unpacked and MD5 sums checked