Back to Multiple platform build/check report for BioC 3.13 experimental data
ABCDEFGHIJKL[M]NOPQRSTUVWXYZ

CHECK report for MAQCsubsetILM on riesling1

This page was generated on 2021-01-18 15:58:48 -0500 (Mon, 18 Jan 2021).

TO THE DEVELOPERS/MAINTAINERS OF THE MAQCsubsetILM PACKAGE: Please make sure to use the following settings in order to reproduce any error or warning you see on this page.
Package 211/385HostnameOS / ArchINSTALLBUILDCHECK
MAQCsubsetILM 1.29.0
Laurent Gatto
Snapshot Date: 2021-01-18 09:00:15 -0500 (Mon, 18 Jan 2021)
URL: https://git.bioconductor.org/packages/MAQCsubsetILM
Branch: master
Last Commit: 45311a6
Last Changed Date: 2020-10-27 09:49:35 -0500 (Tue, 27 Oct 2020)
malbec2 Linux (Ubuntu 20.04.1 LTS) / x86_64  OK  OK  OK UNNEEDED, same version exists in internal repository
riesling1 Windows Server 2019 Standard / x64  OK  OK [ OK ]

Summary

Package: MAQCsubsetILM
Version: 1.29.0
Command: D:\biocbuild\bbs-3.13-bioc\R\bin\R.exe CMD check --force-multiarch --install=check:MAQCsubsetILM.install-out.txt --library=D:\biocbuild\bbs-3.13-bioc\R\library --no-vignettes --timings MAQCsubsetILM_1.29.0.tar.gz
StartedAt: 2021-01-18 11:30:37 -0500 (Mon, 18 Jan 2021)
EndedAt: 2021-01-18 11:32:32 -0500 (Mon, 18 Jan 2021)
EllapsedTime: 115.5 seconds
RetCode: 0
Status:  OK  
CheckDir: MAQCsubsetILM.Rcheck
Warnings: 0

Command output

##############################################################################
##############################################################################
###
### Running command:
###
###   D:\biocbuild\bbs-3.13-bioc\R\bin\R.exe CMD check --force-multiarch --install=check:MAQCsubsetILM.install-out.txt --library=D:\biocbuild\bbs-3.13-bioc\R\library --no-vignettes --timings MAQCsubsetILM_1.29.0.tar.gz
###
##############################################################################
##############################################################################


* using log directory 'D:/biocbuild/bbs-3.13-data-experiment/meat/MAQCsubsetILM.Rcheck'
* using R Under development (unstable) (2020-12-30 r79736)
* using platform: x86_64-w64-mingw32 (64-bit)
* using session charset: ISO8859-1
* using option '--no-vignettes'
* checking for file 'MAQCsubsetILM/DESCRIPTION' ... OK
* this is package 'MAQCsubsetILM' version '1.29.0'
* checking package namespace information ... OK
* checking package dependencies ... OK
* checking if this is a source package ... OK
* checking if there is a namespace ... OK
* checking for hidden files and directories ... OK
* checking for portable file names ... OK
* checking whether package 'MAQCsubsetILM' can be installed ... OK
* checking installed package size ... OK
* checking package directory ... OK
* checking 'build' directory ... OK
* checking DESCRIPTION meta-information ... NOTE
Malformed Description field: should contain one or more complete sentences.
* checking top-level files ... OK
* checking for left-over files ... OK
* checking index information ... OK
* checking package subdirectories ... OK
* loading checks for arch 'i386'
** checking whether the package can be loaded ... OK
** checking whether the package can be loaded with stated dependencies ... OK
** checking whether the package can be unloaded cleanly ... OK
** checking whether the namespace can be loaded with stated dependencies ... OK
** checking whether the namespace can be unloaded cleanly ... OK
* loading checks for arch 'x64'
** checking whether the package can be loaded ... OK
** checking whether the package can be loaded with stated dependencies ... OK
** checking whether the package can be unloaded cleanly ... OK
** checking whether the namespace can be loaded with stated dependencies ... OK
** checking whether the namespace can be unloaded cleanly ... OK
* checking Rd files ... OK
* checking Rd metadata ... OK
* checking Rd cross-references ... OK
* checking for missing documentation entries ... OK
* checking for code/documentation mismatches ... OK
* checking Rd \usage sections ... OK
* checking Rd contents ... OK
* checking for unstated dependencies in examples ... OK
* checking contents of 'data' directory ... OK
* checking data for non-ASCII characters ... OK
* checking data for ASCII and uncompressed saves ... OK
* checking files in 'vignettes' ... OK
* checking examples ... NONE
* checking for unstated dependencies in vignettes ... OK
* checking package vignettes in 'inst/doc' ... OK
* checking running R code from vignettes ... SKIPPED
* checking re-building of vignette outputs ... SKIPPED
* checking PDF version of manual ... OK
* DONE

Status: 1 NOTE
See
  'D:/biocbuild/bbs-3.13-data-experiment/meat/MAQCsubsetILM.Rcheck/00check.log'
for details.



Installation output

MAQCsubsetILM.Rcheck/00install.out

##############################################################################
##############################################################################
###
### Running command:
###
###   C:\cygwin\bin\curl.exe -O http://172.29.0.4/BBS/3.13/data-experiment/src/contrib/MAQCsubsetILM_1.29.0.tar.gz && rm -rf MAQCsubsetILM.buildbin-libdir && mkdir MAQCsubsetILM.buildbin-libdir && D:\biocbuild\bbs-3.13-bioc\R\bin\R.exe CMD INSTALL --merge-multiarch --build --library=MAQCsubsetILM.buildbin-libdir MAQCsubsetILM_1.29.0.tar.gz && D:\biocbuild\bbs-3.13-bioc\R\bin\R.exe CMD INSTALL MAQCsubsetILM_1.29.0.zip && rm MAQCsubsetILM_1.29.0.tar.gz MAQCsubsetILM_1.29.0.zip
###
##############################################################################
##############################################################################


  % Total    % Received % Xferd  Average Speed   Time    Time     Time  Current
                                 Dload  Upload   Total   Spent    Left  Speed

  0     0    0     0    0     0      0      0 --:--:-- --:--:-- --:--:--     0
 10 2827k   10  292k    0     0  1397k      0  0:00:02 --:--:--  0:00:02 1390k
100 2827k  100 2827k    0     0  9884k      0 --:--:-- --:--:-- --:--:-- 9850k

install for i386

* installing *source* package 'MAQCsubsetILM' ...
** using staged installation
** data
** help
*** installing help indices
  converting help for package 'MAQCsubsetILM'
    finding HTML links ... done
    refA                                    html  
REDIRECT:topic	 refA -> refA.html [ SUCCESS ]
    refB                                    html  
REDIRECT:topic	 refB -> refB.html [ SUCCESS ]
    refC                                    html  
REDIRECT:topic	 refC -> refC.html [ SUCCESS ]
    refD                                    html  
REDIRECT:topic	 refD -> refD.html [ SUCCESS ]
** building package indices
** installing vignettes
** testing if installed package can be loaded from temporary location
No methods found in package 'RSQLite' for request: 'dbListFields' when loading 'lumi'
** testing if installed package can be loaded from final location
No methods found in package 'RSQLite' for request: 'dbListFields' when loading 'lumi'
** testing if installed package keeps a record of temporary installation path

install for x64

* installing *source* package 'MAQCsubsetILM' ...
** testing if installed package can be loaded
No methods found in package 'RSQLite' for request: 'dbListFields' when loading 'lumi'
* MD5 sums
packaged installation of 'MAQCsubsetILM' as MAQCsubsetILM_1.29.0.zip
* DONE (MAQCsubsetILM)
* installing to library 'D:/biocbuild/bbs-3.13-bioc/R/library'
package 'MAQCsubsetILM' successfully unpacked and MD5 sums checked

Tests output


Example timings