Back to Multiple platform build/check report for BioC 3.13 experimental data
ABCDEFGHIJKL[M]NOPQRSTUVWXYZ

INSTALL report for MAQCsubsetAFX on riesling1

This page was generated on 2021-01-21 16:01:31 -0500 (Thu, 21 Jan 2021).

TO THE DEVELOPERS/MAINTAINERS OF THE MAQCsubsetAFX PACKAGE: Please make sure to use the following settings in order to reproduce any error or warning you see on this page.
Package 210/386HostnameOS / ArchINSTALLBUILDCHECK
MAQCsubsetAFX 1.29.0
Laurent Gatto
Snapshot Date: 2021-01-21 09:00:14 -0500 (Thu, 21 Jan 2021)
URL: https://git.bioconductor.org/packages/MAQCsubsetAFX
Branch: master
Last Commit: 22e5aaa
Last Changed Date: 2020-10-27 09:48:37 -0500 (Tue, 27 Oct 2020)
malbec2 Linux (Ubuntu 20.04.1 LTS) / x86_64  OK  OK  OK UNNEEDED, same version exists in internal repository
riesling1 Windows Server 2019 Standard / x64 [ OK ] OK  OK 

Summary

Package: MAQCsubsetAFX
Version: 1.29.0
Command: C:\cygwin\bin\curl.exe -O http://172.29.0.4/BBS/3.13/data-experiment/src/contrib/MAQCsubsetAFX_1.29.0.tar.gz && rm -rf MAQCsubsetAFX.buildbin-libdir && mkdir MAQCsubsetAFX.buildbin-libdir && D:\biocbuild\bbs-3.13-bioc\R\bin\R.exe CMD INSTALL --merge-multiarch --build --library=MAQCsubsetAFX.buildbin-libdir MAQCsubsetAFX_1.29.0.tar.gz && D:\biocbuild\bbs-3.13-bioc\R\bin\R.exe CMD INSTALL MAQCsubsetAFX_1.29.0.zip && rm MAQCsubsetAFX_1.29.0.tar.gz MAQCsubsetAFX_1.29.0.zip
StartedAt: 2021-01-21 10:04:27 -0500 (Thu, 21 Jan 2021)
EndedAt: 2021-01-21 10:04:48 -0500 (Thu, 21 Jan 2021)
EllapsedTime: 21.2 seconds
RetCode: 0
Status:  OK  

Command output

##############################################################################
##############################################################################
###
### Running command:
###
###   C:\cygwin\bin\curl.exe -O http://172.29.0.4/BBS/3.13/data-experiment/src/contrib/MAQCsubsetAFX_1.29.0.tar.gz && rm -rf MAQCsubsetAFX.buildbin-libdir && mkdir MAQCsubsetAFX.buildbin-libdir && D:\biocbuild\bbs-3.13-bioc\R\bin\R.exe CMD INSTALL --merge-multiarch --build --library=MAQCsubsetAFX.buildbin-libdir MAQCsubsetAFX_1.29.0.tar.gz && D:\biocbuild\bbs-3.13-bioc\R\bin\R.exe CMD INSTALL MAQCsubsetAFX_1.29.0.zip && rm MAQCsubsetAFX_1.29.0.tar.gz MAQCsubsetAFX_1.29.0.zip
###
##############################################################################
##############################################################################


  % Total    % Received % Xferd  Average Speed   Time    Time     Time  Current
                                 Dload  Upload   Total   Spent    Left  Speed

  0     0    0     0    0     0      0      0 --:--:-- --:--:-- --:--:--     0
 20 38.7M   20 8108k    0     0  10.8M      0  0:00:03 --:--:--  0:00:03 10.8M
100 38.7M  100 38.7M    0     0  34.3M      0  0:00:01  0:00:01 --:--:-- 34.3M

install for i386

* installing *source* package 'MAQCsubsetAFX' ...
** using staged installation
** data
** help
*** installing help indices
  converting help for package 'MAQCsubsetAFX'
    finding HTML links ... done
    refA                                    html  
REDIRECT:topic	 refA -> refA.html [ SUCCESS ]
    refB                                    html  
REDIRECT:topic	 refB -> refB.html [ SUCCESS ]
    refC                                    html  
REDIRECT:topic	 refC -> refC.html [ SUCCESS ]
    refD                                    html  
REDIRECT:topic	 refD -> refD.html [ SUCCESS ]
** building package indices
** installing vignettes
** testing if installed package can be loaded from temporary location
** testing if installed package can be loaded from final location
** testing if installed package keeps a record of temporary installation path

install for x64

* installing *source* package 'MAQCsubsetAFX' ...
** testing if installed package can be loaded
* MD5 sums
packaged installation of 'MAQCsubsetAFX' as MAQCsubsetAFX_1.29.0.zip
* DONE (MAQCsubsetAFX)
* installing to library 'D:/biocbuild/bbs-3.13-bioc/R/library'
package 'MAQCsubsetAFX' successfully unpacked and MD5 sums checked