Back to Multiple platform build/check report for BioC 3.13 experimental data
ABCDEFGHIJKL[M]NOPQRSTUVWXYZ

INSTALL report for MAQCsubset on riesling1

This page was generated on 2021-01-21 16:01:31 -0500 (Thu, 21 Jan 2021).

TO THE DEVELOPERS/MAINTAINERS OF THE MAQCsubset PACKAGE: Please make sure to use the following settings in order to reproduce any error or warning you see on this page.
Package 209/386HostnameOS / ArchINSTALLBUILDCHECK
MAQCsubset 1.29.0
VJ Carey
Snapshot Date: 2021-01-21 09:00:14 -0500 (Thu, 21 Jan 2021)
URL: https://git.bioconductor.org/packages/MAQCsubset
Branch: master
Last Commit: 9b3813f
Last Changed Date: 2020-10-27 09:46:43 -0500 (Tue, 27 Oct 2020)
malbec2 Linux (Ubuntu 20.04.1 LTS) / x86_64  OK  OK  OK UNNEEDED, same version exists in internal repository
riesling1 Windows Server 2019 Standard / x64 [ OK ] OK  OK 

Summary

Package: MAQCsubset
Version: 1.29.0
Command: C:\cygwin\bin\curl.exe -O http://172.29.0.4/BBS/3.13/data-experiment/src/contrib/MAQCsubset_1.29.0.tar.gz && rm -rf MAQCsubset.buildbin-libdir && mkdir MAQCsubset.buildbin-libdir && D:\biocbuild\bbs-3.13-bioc\R\bin\R.exe CMD INSTALL --merge-multiarch --build --library=MAQCsubset.buildbin-libdir MAQCsubset_1.29.0.tar.gz && D:\biocbuild\bbs-3.13-bioc\R\bin\R.exe CMD INSTALL MAQCsubset_1.29.0.zip && rm MAQCsubset_1.29.0.tar.gz MAQCsubset_1.29.0.zip
StartedAt: 2021-01-21 10:19:55 -0500 (Thu, 21 Jan 2021)
EndedAt: 2021-01-21 10:21:50 -0500 (Thu, 21 Jan 2021)
EllapsedTime: 115.6 seconds
RetCode: 0
Status:  OK  

Command output

##############################################################################
##############################################################################
###
### Running command:
###
###   C:\cygwin\bin\curl.exe -O http://172.29.0.4/BBS/3.13/data-experiment/src/contrib/MAQCsubset_1.29.0.tar.gz && rm -rf MAQCsubset.buildbin-libdir && mkdir MAQCsubset.buildbin-libdir && D:\biocbuild\bbs-3.13-bioc\R\bin\R.exe CMD INSTALL --merge-multiarch --build --library=MAQCsubset.buildbin-libdir MAQCsubset_1.29.0.tar.gz && D:\biocbuild\bbs-3.13-bioc\R\bin\R.exe CMD INSTALL MAQCsubset_1.29.0.zip && rm MAQCsubset_1.29.0.tar.gz MAQCsubset_1.29.0.zip
###
##############################################################################
##############################################################################


  % Total    % Received % Xferd  Average Speed   Time    Time     Time  Current
                                 Dload  Upload   Total   Spent    Left  Speed

  0     0    0     0    0     0      0      0 --:--:-- --:--:-- --:--:--     0
 82 64.6M   82 53.6M    0     0  36.3M      0  0:00:01  0:00:01 --:--:-- 36.3M
 95 64.6M   95 61.9M    0     0  31.8M      0  0:00:02  0:00:01  0:00:01 31.7M
100 64.6M  100 64.6M    0     0  32.8M      0  0:00:01  0:00:01 --:--:-- 32.7M

install for i386

* installing *source* package 'MAQCsubset' ...
** using staged installation
** R
** data
** byte-compile and prepare package for lazy loading
No methods found in package 'RSQLite' for request: 'dbListFields' when loading 'lumi'
** help
*** installing help indices
  converting help for package 'MAQCsubset'
    finding HTML links ... done
    MAQCsubset                              html  
REDIRECT:topic	 afxsubRMAES -> MAQCsubset.html [ SUCCESS ]
REDIRECT:topic	 afxsubRMA -> MAQCsubset.html [ SUCCESS ]
REDIRECT:topic	 ilmMAQCsubR -> MAQCsubset.html [ SUCCESS ]
REDIRECT:topic	 afxsub -> MAQCsubset.html [ SUCCESS ]
REDIRECT:topic	 MAQCsubset -> MAQCsubset.html [ SUCCESS ]
    gehMAQCsubDef                           html  
REDIRECT:topic	 gehMAQCsubDef -> gehMAQCsubDef.html [ SUCCESS ]
REDIRECT:topic	 gehSubRaw -> gehMAQCsubDef.html [ SUCCESS ]
    gnfCerebHi                              html  
REDIRECT:topic	 gnfCerebHi -> gnfCerebHi.html [ SUCCESS ]
REDIRECT:topic	 gnfCerebLow -> gnfCerebHi.html [ SUCCESS ]
    proboStruct-class                       html  
REDIRECT:topic	 proboStruct-class -> proboStruct-class.html [ SUCCESS ]
REDIRECT:topic	 lines,proboStruct-method -> proboStruct-class.html [ SUCCESS ]
REDIRECT:topic	 plot,proboStruct-method -> proboStruct-class.html [ SUCCESS ]
REDIRECT:topic	 plot,proboStruct,ANY-method -> proboStruct-class.html [ SUCCESS ]
REDIRECT:topic	 show,proboStruct-method -> proboStruct-class.html [ SUCCESS ]
    proboscis                               html  
REDIRECT:topic	 proboscis -> proboscis.html [ SUCCESS ]
** building package indices
** installing vignettes
** testing if installed package can be loaded from temporary location
No methods found in package 'RSQLite' for request: 'dbListFields' when loading 'lumi'
** testing if installed package can be loaded from final location
No methods found in package 'RSQLite' for request: 'dbListFields' when loading 'lumi'
** testing if installed package keeps a record of temporary installation path

install for x64

* installing *source* package 'MAQCsubset' ...
** testing if installed package can be loaded
No methods found in package 'RSQLite' for request: 'dbListFields' when loading 'lumi'
* MD5 sums
packaged installation of 'MAQCsubset' as MAQCsubset_1.29.0.zip
* DONE (MAQCsubset)
* installing to library 'D:/biocbuild/bbs-3.13-bioc/R/library'
package 'MAQCsubset' successfully unpacked and MD5 sums checked