Back to Multiple platform build/check report for BioC 3.13 experimental data
ABCDEFGHIJKL[M]NOPQRSTUVWXYZ

BUILD report for MAQCsubset on riesling1

This page was generated on 2021-01-14 15:59:09 -0500 (Thu, 14 Jan 2021).

TO THE DEVELOPERS/MAINTAINERS OF THE MAQCsubset PACKAGE: Please make sure to use the following settings in order to reproduce any error or warning you see on this page.
Package 209/385HostnameOS / ArchINSTALLBUILDCHECK
MAQCsubset 1.29.0
VJ Carey
Snapshot Date: 2021-01-14 09:00:13 -0500 (Thu, 14 Jan 2021)
URL: https://git.bioconductor.org/packages/MAQCsubset
Branch: master
Last Commit: 9b3813f
Last Changed Date: 2020-10-27 09:46:43 -0500 (Tue, 27 Oct 2020)
malbec2 Linux (Ubuntu 20.04.1 LTS) / x86_64  OK  OK  OK UNNEEDED, same version exists in internal repository
riesling1 Windows Server 2019 Standard / x64  OK [ OK ] OK 

Summary

Package: MAQCsubset
Version: 1.29.0
Command: chmod a+r MAQCsubset -R && D:\biocbuild\bbs-3.13-bioc\R\bin\R.exe CMD build --keep-empty-dirs --no-resave-data MAQCsubset
StartedAt: 2021-01-14 10:43:49 -0500 (Thu, 14 Jan 2021)
EndedAt: 2021-01-14 10:45:17 -0500 (Thu, 14 Jan 2021)
EllapsedTime: 88.8 seconds
RetCode: 0
Status:  OK  
PackageFile: MAQCsubset_1.29.0.tar.gz
PackageFileSize: 64.81 MiB

Command output

##############################################################################
##############################################################################
###
### Running command:
###
###   chmod a+r MAQCsubset -R && D:\biocbuild\bbs-3.13-bioc\R\bin\R.exe CMD build --keep-empty-dirs --no-resave-data MAQCsubset
###
##############################################################################
##############################################################################


* checking for file 'MAQCsubset/DESCRIPTION' ... OK
* preparing 'MAQCsubset':
* checking DESCRIPTION meta-information ... OK
* installing the package to build vignettes
* creating vignettes ... OK
* checking for LF line-endings in source and make files and shell scripts
* checking for empty or unneeded directories
* looking to see if a 'data/datalist' file should be added
* building 'MAQCsubset_1.29.0.tar.gz'