Back to Multiple platform build/check report for BioC 3.13 experimental data
ABCDEFGHIJKL[M]NOPQRSTUVWXYZ

BUILD report for M3DExampleData on riesling1

This page was generated on 2021-01-21 16:01:31 -0500 (Thu, 21 Jan 2021).

TO THE DEVELOPERS/MAINTAINERS OF THE M3DExampleData PACKAGE: Please make sure to use the following settings in order to reproduce any error or warning you see on this page.
Package 204/386HostnameOS / ArchINSTALLBUILDCHECK
M3DExampleData 1.17.0
Tallulah Andrews
Snapshot Date: 2021-01-21 09:00:14 -0500 (Thu, 21 Jan 2021)
URL: https://git.bioconductor.org/packages/M3DExampleData
Branch: master
Last Commit: 4b93228
Last Changed Date: 2020-10-27 10:21:41 -0500 (Tue, 27 Oct 2020)
malbec2 Linux (Ubuntu 20.04.1 LTS) / x86_64  OK  OK  WARNINGS UNNEEDED, same version exists in internal repository
riesling1 Windows Server 2019 Standard / x64  OK [ OK ] WARNINGS 

Summary

Package: M3DExampleData
Version: 1.17.0
Command: chmod a+r M3DExampleData -R && D:\biocbuild\bbs-3.13-bioc\R\bin\R.exe CMD build --keep-empty-dirs --no-resave-data M3DExampleData
StartedAt: 2021-01-21 10:47:42 -0500 (Thu, 21 Jan 2021)
EndedAt: 2021-01-21 10:47:53 -0500 (Thu, 21 Jan 2021)
EllapsedTime: 11.1 seconds
RetCode: 0
Status:  OK  
PackageFile: M3DExampleData_1.17.0.tar.gz
PackageFileSize: 2.05 MiB

Command output

##############################################################################
##############################################################################
###
### Running command:
###
###   chmod a+r M3DExampleData -R && D:\biocbuild\bbs-3.13-bioc\R\bin\R.exe CMD build --keep-empty-dirs --no-resave-data M3DExampleData
###
##############################################################################
##############################################################################


* checking for file 'M3DExampleData/DESCRIPTION' ... OK
* preparing 'M3DExampleData':
* checking DESCRIPTION meta-information ... OK
* checking for LF line-endings in source and make files and shell scripts
* checking for empty or unneeded directories
* building 'M3DExampleData_1.17.0.tar.gz'