Back to Multiple platform build/check report for BioC 3.13 experimental data
ABCDEFGHIJK[L]MNOPQRSTUVWXYZ

BUILD report for LungCancerLines on riesling1

This page was generated on 2021-01-14 15:59:08 -0500 (Thu, 14 Jan 2021).

TO THE DEVELOPERS/MAINTAINERS OF THE LungCancerLines PACKAGE: Please make sure to use the following settings in order to reproduce any error or warning you see on this page.
Package 201/385HostnameOS / ArchINSTALLBUILDCHECK
LungCancerLines 0.29.0
Cory Barr
Snapshot Date: 2021-01-14 09:00:13 -0500 (Thu, 14 Jan 2021)
URL: https://git.bioconductor.org/packages/LungCancerLines
Branch: master
Last Commit: d457e3e
Last Changed Date: 2020-10-27 10:00:08 -0500 (Tue, 27 Oct 2020)
malbec2 Linux (Ubuntu 20.04.1 LTS) / x86_64  OK  OK  OK UNNEEDED, same version exists in internal repository
riesling1 Windows Server 2019 Standard / x64  OK [ OK ] OK 

Summary

Package: LungCancerLines
Version: 0.29.0
Command: chmod a+r LungCancerLines -R && D:\biocbuild\bbs-3.13-bioc\R\bin\R.exe CMD build --keep-empty-dirs --no-resave-data LungCancerLines
StartedAt: 2021-01-14 10:43:12 -0500 (Thu, 14 Jan 2021)
EndedAt: 2021-01-14 10:43:16 -0500 (Thu, 14 Jan 2021)
EllapsedTime: 3.4 seconds
RetCode: 0
Status:  OK  
PackageFile: LungCancerLines_0.29.0.tar.gz
PackageFileSize: 1.608 MiB

Command output

##############################################################################
##############################################################################
###
### Running command:
###
###   chmod a+r LungCancerLines -R && D:\biocbuild\bbs-3.13-bioc\R\bin\R.exe CMD build --keep-empty-dirs --no-resave-data LungCancerLines
###
##############################################################################
##############################################################################


* checking for file 'LungCancerLines/DESCRIPTION' ... OK
* preparing 'LungCancerLines':
* checking DESCRIPTION meta-information ... OK
* checking for LF line-endings in source and make files and shell scripts
* checking for empty or unneeded directories
* building 'LungCancerLines_0.29.0.tar.gz'