Back to Multiple platform build/check report for BioC 3.13 experimental data
ABCDEFGHIJK[L]MNOPQRSTUVWXYZ

INSTALL report for LungCancerACvsSCCGEO on riesling1

This page was generated on 2021-01-14 15:59:08 -0500 (Thu, 14 Jan 2021).

TO THE DEVELOPERS/MAINTAINERS OF THE LungCancerACvsSCCGEO PACKAGE: Please make sure to use the following settings in order to reproduce any error or warning you see on this page.
Package 200/385HostnameOS / ArchINSTALLBUILDCHECK
LungCancerACvsSCCGEO 1.27.0
Adi Laurentiu Tarca
Snapshot Date: 2021-01-14 09:00:13 -0500 (Thu, 14 Jan 2021)
URL: https://git.bioconductor.org/packages/LungCancerACvsSCCGEO
Branch: master
Last Commit: a8931b1
Last Changed Date: 2020-10-27 10:04:23 -0500 (Tue, 27 Oct 2020)
malbec2 Linux (Ubuntu 20.04.1 LTS) / x86_64  OK  OK  OK UNNEEDED, same version exists in internal repository
riesling1 Windows Server 2019 Standard / x64 [ OK ] OK  OK 

Summary

Package: LungCancerACvsSCCGEO
Version: 1.27.0
Command: C:\cygwin\bin\curl.exe -O http://172.29.0.4/BBS/3.13/data-experiment/src/contrib/LungCancerACvsSCCGEO_1.27.0.tar.gz && rm -rf LungCancerACvsSCCGEO.buildbin-libdir && mkdir LungCancerACvsSCCGEO.buildbin-libdir && D:\biocbuild\bbs-3.13-bioc\R\bin\R.exe CMD INSTALL --merge-multiarch --build --library=LungCancerACvsSCCGEO.buildbin-libdir LungCancerACvsSCCGEO_1.27.0.tar.gz && D:\biocbuild\bbs-3.13-bioc\R\bin\R.exe CMD INSTALL LungCancerACvsSCCGEO_1.27.0.zip && rm LungCancerACvsSCCGEO_1.27.0.tar.gz LungCancerACvsSCCGEO_1.27.0.zip
StartedAt: 2021-01-14 09:48:32 -0500 (Thu, 14 Jan 2021)
EndedAt: 2021-01-14 09:51:25 -0500 (Thu, 14 Jan 2021)
EllapsedTime: 173.3 seconds
RetCode: 0
Status:  OK  

Command output

##############################################################################
##############################################################################
###
### Running command:
###
###   C:\cygwin\bin\curl.exe -O http://172.29.0.4/BBS/3.13/data-experiment/src/contrib/LungCancerACvsSCCGEO_1.27.0.tar.gz && rm -rf LungCancerACvsSCCGEO.buildbin-libdir && mkdir LungCancerACvsSCCGEO.buildbin-libdir && D:\biocbuild\bbs-3.13-bioc\R\bin\R.exe CMD INSTALL --merge-multiarch --build --library=LungCancerACvsSCCGEO.buildbin-libdir LungCancerACvsSCCGEO_1.27.0.tar.gz && D:\biocbuild\bbs-3.13-bioc\R\bin\R.exe CMD INSTALL LungCancerACvsSCCGEO_1.27.0.zip && rm LungCancerACvsSCCGEO_1.27.0.tar.gz LungCancerACvsSCCGEO_1.27.0.zip
###
##############################################################################
##############################################################################


  % Total    % Received % Xferd  Average Speed   Time    Time     Time  Current
                                 Dload  Upload   Total   Spent    Left  Speed

  0     0    0     0    0     0      0      0 --:--:-- --:--:-- --:--:--     0
  0  142M    0 15812    0     0  98825      0  0:25:11 --:--:--  0:25:11 98211
  1  142M    1 2245k    0     0  2048k      0  0:01:11  0:00:01  0:01:10 2046k
 21  142M   21 30.9M    0     0  14.9M      0  0:00:09  0:00:02  0:00:07 14.9M
 49  142M   49 70.7M    0     0  23.0M      0  0:00:06  0:00:03  0:00:03 23.0M
 84  142M   84  120M    0     0  29.6M      0  0:00:04  0:00:04 --:--:-- 29.6M
100  142M  100  142M    0     0  31.4M      0  0:00:04  0:00:04 --:--:-- 32.6M

install for i386

* installing *source* package 'LungCancerACvsSCCGEO' ...
** using staged installation
** data
** inst
** help
*** installing help indices
  converting help for package 'LungCancerACvsSCCGEO'
    finding HTML links ... done
    LungCancerACvsSCCGEO                    html  
REDIRECT:topic	 LungCancerACvsSCCGEO -> LungCancerACvsSCCGEO.html [ SUCCESS ]
REDIRECT:topic	 anoLC -> LungCancerACvsSCCGEO.html [ SUCCESS ]
REDIRECT:topic	 gsLC -> LungCancerACvsSCCGEO.html [ SUCCESS ]
** building package indices
** testing if installed package can be loaded from temporary location
** testing if installed package can be loaded from final location
** testing if installed package keeps a record of temporary installation path

install for x64

* installing *source* package 'LungCancerACvsSCCGEO' ...
** testing if installed package can be loaded
* MD5 sums
packaged installation of 'LungCancerACvsSCCGEO' as LungCancerACvsSCCGEO_1.27.0.zip
* DONE (LungCancerACvsSCCGEO)
* installing to library 'D:/biocbuild/bbs-3.13-bioc/R/library'
package 'LungCancerACvsSCCGEO' successfully unpacked and MD5 sums checked