Back to Multiple platform build/check report for BioC 3.13 experimental data
ABCDEFGHIJK[L]MNOPQRSTUVWXYZ

INSTALL report for ListerEtAlBSseq on riesling1

This page was generated on 2021-01-21 16:01:31 -0500 (Thu, 21 Jan 2021).

TO THE DEVELOPERS/MAINTAINERS OF THE ListerEtAlBSseq PACKAGE: Please make sure to use the following settings in order to reproduce any error or warning you see on this page.
Package 198/386HostnameOS / ArchINSTALLBUILDCHECK
ListerEtAlBSseq 1.23.0
Kamal Kishore
Snapshot Date: 2021-01-21 09:00:14 -0500 (Thu, 21 Jan 2021)
URL: https://git.bioconductor.org/packages/ListerEtAlBSseq
Branch: master
Last Commit: cd9fe96
Last Changed Date: 2020-10-27 10:10:02 -0500 (Tue, 27 Oct 2020)
malbec2 Linux (Ubuntu 20.04.1 LTS) / x86_64  OK  OK  WARNINGS UNNEEDED, same version exists in internal repository
riesling1 Windows Server 2019 Standard / x64 [ OK ] OK  WARNINGS 

Summary

Package: ListerEtAlBSseq
Version: 1.23.0
Command: C:\cygwin\bin\curl.exe -O http://172.29.0.4/BBS/3.13/data-experiment/src/contrib/ListerEtAlBSseq_1.23.0.tar.gz && rm -rf ListerEtAlBSseq.buildbin-libdir && mkdir ListerEtAlBSseq.buildbin-libdir && D:\biocbuild\bbs-3.13-bioc\R\bin\R.exe CMD INSTALL --merge-multiarch --build --library=ListerEtAlBSseq.buildbin-libdir ListerEtAlBSseq_1.23.0.tar.gz && D:\biocbuild\bbs-3.13-bioc\R\bin\R.exe CMD INSTALL ListerEtAlBSseq_1.23.0.zip && rm ListerEtAlBSseq_1.23.0.tar.gz ListerEtAlBSseq_1.23.0.zip
StartedAt: 2021-01-21 10:18:16 -0500 (Thu, 21 Jan 2021)
EndedAt: 2021-01-21 10:20:49 -0500 (Thu, 21 Jan 2021)
EllapsedTime: 152.9 seconds
RetCode: 0
Status:  OK  

Command output

##############################################################################
##############################################################################
###
### Running command:
###
###   C:\cygwin\bin\curl.exe -O http://172.29.0.4/BBS/3.13/data-experiment/src/contrib/ListerEtAlBSseq_1.23.0.tar.gz && rm -rf ListerEtAlBSseq.buildbin-libdir && mkdir ListerEtAlBSseq.buildbin-libdir && D:\biocbuild\bbs-3.13-bioc\R\bin\R.exe CMD INSTALL --merge-multiarch --build --library=ListerEtAlBSseq.buildbin-libdir ListerEtAlBSseq_1.23.0.tar.gz && D:\biocbuild\bbs-3.13-bioc\R\bin\R.exe CMD INSTALL ListerEtAlBSseq_1.23.0.zip && rm ListerEtAlBSseq_1.23.0.tar.gz ListerEtAlBSseq_1.23.0.zip
###
##############################################################################
##############################################################################


  % Total    % Received % Xferd  Average Speed   Time    Time     Time  Current
                                 Dload  Upload   Total   Spent    Left  Speed

  0     0    0     0    0     0      0      0 --:--:-- --:--:-- --:--:--     0
  0  658M    0  705k    0     0  1896k      0  0:05:55 --:--:--  0:05:55 1891k
  8  658M    8 57.7M    0     0  46.7M      0  0:00:14  0:00:01  0:00:13 46.7M
 18  658M   18  118M    0     0  53.2M      0  0:00:12  0:00:02  0:00:10 53.2M
 25  658M   25  165M    0     0  51.0M      0  0:00:12  0:00:03  0:00:09 51.0M
 36  658M   36  239M    0     0  56.4M      0  0:00:11  0:00:04  0:00:07 56.4M
 46  658M   46  303M    0     0  57.9M      0  0:00:11  0:00:05  0:00:06 62.2M
 57  658M   57  378M    0     0  60.6M      0  0:00:10  0:00:06  0:00:04 64.1M
 65  658M   65  428M    0     0  59.2M      0  0:00:11  0:00:07  0:00:04 61.9M
 68  658M   68  453M    0     0  55.0M      0  0:00:11  0:00:08  0:00:03 57.7M
 75  658M   75  495M    0     0  53.7M      0  0:00:12  0:00:09  0:00:03 51.3M
 78  658M   78  516M    0     0  49.9M      0  0:00:13  0:00:10  0:00:03 41.6M
 87  658M   87  574M    0     0  51.1M      0  0:00:12  0:00:11  0:00:01 39.2M
 99  658M   99  657M    0     0  53.7M      0  0:00:12  0:00:12 --:--:-- 45.8M
100  658M  100  658M    0     0  53.7M      0  0:00:12  0:00:12 --:--:-- 51.1M

install for i386

* installing *source* package 'ListerEtAlBSseq' ...
** using staged installation
** data
** inst
** help
*** installing help indices
  converting help for package 'ListerEtAlBSseq'
    finding HTML links ... done
    H1.WGBS                                 html  
REDIRECT:topic	 H1.WGBS -> H1.WGBS.html [ SUCCESS ]
    IMR90.WGBS                              html  
REDIRECT:topic	 IMR90.WGBS -> IMR90.WGBS.html [ SUCCESS ]
** building package indices
** installing vignettes
** testing if installed package can be loaded from temporary location
** testing if installed package can be loaded from final location
** testing if installed package keeps a record of temporary installation path

install for x64

* installing *source* package 'ListerEtAlBSseq' ...
** testing if installed package can be loaded
* MD5 sums
packaged installation of 'ListerEtAlBSseq' as ListerEtAlBSseq_1.23.0.zip
* DONE (ListerEtAlBSseq)
* installing to library 'D:/biocbuild/bbs-3.13-bioc/R/library'
package 'ListerEtAlBSseq' successfully unpacked and MD5 sums checked