Back to Multiple platform build/check report for BioC 3.13 experimental data
ABCDEFGHIJK[L]MNOPQRSTUVWXYZ

BUILD report for ListerEtAlBSseq on riesling1

This page was generated on 2021-01-14 15:59:08 -0500 (Thu, 14 Jan 2021).

TO THE DEVELOPERS/MAINTAINERS OF THE ListerEtAlBSseq PACKAGE: Please make sure to use the following settings in order to reproduce any error or warning you see on this page.
Package 198/385HostnameOS / ArchINSTALLBUILDCHECK
ListerEtAlBSseq 1.23.0
Kamal Kishore
Snapshot Date: 2021-01-14 09:00:13 -0500 (Thu, 14 Jan 2021)
URL: https://git.bioconductor.org/packages/ListerEtAlBSseq
Branch: master
Last Commit: cd9fe96
Last Changed Date: 2020-10-27 10:10:02 -0500 (Tue, 27 Oct 2020)
malbec2 Linux (Ubuntu 20.04.1 LTS) / x86_64  OK  OK  WARNINGS UNNEEDED, same version exists in internal repository
riesling1 Windows Server 2019 Standard / x64  OK [ OK ] WARNINGS 

Summary

Package: ListerEtAlBSseq
Version: 1.23.0
Command: chmod a+r ListerEtAlBSseq -R && D:\biocbuild\bbs-3.13-bioc\R\bin\R.exe CMD build --keep-empty-dirs --no-resave-data ListerEtAlBSseq
StartedAt: 2021-01-14 10:43:03 -0500 (Thu, 14 Jan 2021)
EndedAt: 2021-01-14 10:44:23 -0500 (Thu, 14 Jan 2021)
EllapsedTime: 80.1 seconds
RetCode: 0
Status:  OK  
PackageFile: ListerEtAlBSseq_1.23.0.tar.gz
PackageFileSize: 658.7 MiB

Command output

##############################################################################
##############################################################################
###
### Running command:
###
###   chmod a+r ListerEtAlBSseq -R && D:\biocbuild\bbs-3.13-bioc\R\bin\R.exe CMD build --keep-empty-dirs --no-resave-data ListerEtAlBSseq
###
##############################################################################
##############################################################################


* checking for file 'ListerEtAlBSseq/DESCRIPTION' ... OK
* preparing 'ListerEtAlBSseq':
* checking DESCRIPTION meta-information ... OK
* checking for LF line-endings in source and make files and shell scripts
* checking for empty or unneeded directories
* looking to see if a 'data/datalist' file should be added
* building 'ListerEtAlBSseq_1.23.0.tar.gz'