Back to Multiple platform build/check report for BioC 3.13 experimental data
ABCDEFGHIJ[K]LMNOPQRSTUVWXYZ

INSTALL report for KOdata on riesling1

This page was generated on 2021-01-14 15:59:08 -0500 (Thu, 14 Jan 2021).

TO THE DEVELOPERS/MAINTAINERS OF THE KOdata PACKAGE: Please make sure to use the following settings in order to reproduce any error or warning you see on this page.
Package 194/385HostnameOS / ArchINSTALLBUILDCHECK
KOdata 1.17.0
Shana White
Snapshot Date: 2021-01-14 09:00:13 -0500 (Thu, 14 Jan 2021)
URL: https://git.bioconductor.org/packages/KOdata
Branch: master
Last Commit: aff2ad8
Last Changed Date: 2020-10-27 10:21:44 -0500 (Tue, 27 Oct 2020)
malbec2 Linux (Ubuntu 20.04.1 LTS) / x86_64  OK  OK  OK UNNEEDED, same version exists in internal repository
riesling1 Windows Server 2019 Standard / x64 [ OK ] OK  OK 

Summary

Package: KOdata
Version: 1.17.0
Command: C:\cygwin\bin\curl.exe -O http://172.29.0.4/BBS/3.13/data-experiment/src/contrib/KOdata_1.17.0.tar.gz && rm -rf KOdata.buildbin-libdir && mkdir KOdata.buildbin-libdir && D:\biocbuild\bbs-3.13-bioc\R\bin\R.exe CMD INSTALL --merge-multiarch --build --library=KOdata.buildbin-libdir KOdata_1.17.0.tar.gz && D:\biocbuild\bbs-3.13-bioc\R\bin\R.exe CMD INSTALL KOdata_1.17.0.zip && rm KOdata_1.17.0.tar.gz KOdata_1.17.0.zip
StartedAt: 2021-01-14 09:51:55 -0500 (Thu, 14 Jan 2021)
EndedAt: 2021-01-14 09:52:32 -0500 (Thu, 14 Jan 2021)
EllapsedTime: 37.7 seconds
RetCode: 0
Status:  OK  

Command output

##############################################################################
##############################################################################
###
### Running command:
###
###   C:\cygwin\bin\curl.exe -O http://172.29.0.4/BBS/3.13/data-experiment/src/contrib/KOdata_1.17.0.tar.gz && rm -rf KOdata.buildbin-libdir && mkdir KOdata.buildbin-libdir && D:\biocbuild\bbs-3.13-bioc\R\bin\R.exe CMD INSTALL --merge-multiarch --build --library=KOdata.buildbin-libdir KOdata_1.17.0.tar.gz && D:\biocbuild\bbs-3.13-bioc\R\bin\R.exe CMD INSTALL KOdata_1.17.0.zip && rm KOdata_1.17.0.tar.gz KOdata_1.17.0.zip
###
##############################################################################
##############################################################################


  % Total    % Received % Xferd  Average Speed   Time    Time     Time  Current
                                 Dload  Upload   Total   Spent    Left  Speed

  0     0    0     0    0     0      0      0 --:--:-- --:--:-- --:--:--     0
  0 31.7M    0  9973    0     0  15390      0  0:36:04 --:--:--  0:36:04 15366
 92 31.7M   92 29.5M    0     0  14.6M      0  0:00:02  0:00:02 --:--:-- 14.6M
100 31.7M  100 31.7M    0     0  15.5M      0  0:00:02  0:00:02 --:--:-- 15.5M

install for i386

* installing *source* package 'KOdata' ...
** using staged installation
** data
*** moving datasets to lazyload DB
** help
*** installing help indices
  converting help for package 'KOdata'
    finding HTML links ... done
    KO_data                                 html  
REDIRECT:topic	 KO_data -> KO_data.html [ SUCCESS ]
    KOdata                                  html  
REDIRECT:topic	 KOdata -> KOdata.html [ SUCCESS ]
REDIRECT:topic	 KOdata-package -> KOdata.html [ SUCCESS ]
    gene_cell_info                          html  
REDIRECT:topic	 gene_cell_info -> gene_cell_info.html [ SUCCESS ]
** building package indices
** testing if installed package can be loaded from temporary location
** testing if installed package can be loaded from final location
** testing if installed package keeps a record of temporary installation path

install for x64

* installing *source* package 'KOdata' ...
** testing if installed package can be loaded
* MD5 sums
packaged installation of 'KOdata' as KOdata_1.17.0.zip
* DONE (KOdata)
* installing to library 'D:/biocbuild/bbs-3.13-bioc/R/library'
package 'KOdata' successfully unpacked and MD5 sums checked