Back to Multiple platform build/check report for BioC 3.13 experimental data
ABCDEFGHIJ[K]LMNOPQRSTUVWXYZ

INSTALL report for KEGGdzPathwaysGEO on riesling1

This page was generated on 2021-01-18 15:58:48 -0500 (Mon, 18 Jan 2021).

TO THE DEVELOPERS/MAINTAINERS OF THE KEGGdzPathwaysGEO PACKAGE: Please make sure to use the following settings in order to reproduce any error or warning you see on this page.
Package 192/385HostnameOS / ArchINSTALLBUILDCHECK
KEGGdzPathwaysGEO 1.29.0
Gaurav Bhatti
Snapshot Date: 2021-01-18 09:00:15 -0500 (Mon, 18 Jan 2021)
URL: https://git.bioconductor.org/packages/KEGGdzPathwaysGEO
Branch: master
Last Commit: 71b93f9
Last Changed Date: 2020-10-27 09:56:50 -0500 (Tue, 27 Oct 2020)
malbec2 Linux (Ubuntu 20.04.1 LTS) / x86_64  OK  OK  OK UNNEEDED, same version exists in internal repository
riesling1 Windows Server 2019 Standard / x64 [ OK ] OK  OK 

Summary

Package: KEGGdzPathwaysGEO
Version: 1.29.0
Command: C:\cygwin\bin\curl.exe -O http://172.29.0.4/BBS/3.13/data-experiment/src/contrib/KEGGdzPathwaysGEO_1.29.0.tar.gz && rm -rf KEGGdzPathwaysGEO.buildbin-libdir && mkdir KEGGdzPathwaysGEO.buildbin-libdir && D:\biocbuild\bbs-3.13-bioc\R\bin\R.exe CMD INSTALL --merge-multiarch --build --library=KEGGdzPathwaysGEO.buildbin-libdir KEGGdzPathwaysGEO_1.29.0.tar.gz && D:\biocbuild\bbs-3.13-bioc\R\bin\R.exe CMD INSTALL KEGGdzPathwaysGEO_1.29.0.zip && rm KEGGdzPathwaysGEO_1.29.0.tar.gz KEGGdzPathwaysGEO_1.29.0.zip
StartedAt: 2021-01-18 10:06:48 -0500 (Mon, 18 Jan 2021)
EndedAt: 2021-01-18 10:07:34 -0500 (Mon, 18 Jan 2021)
EllapsedTime: 45.1 seconds
RetCode: 0
Status:  OK  

Command output

##############################################################################
##############################################################################
###
### Running command:
###
###   C:\cygwin\bin\curl.exe -O http://172.29.0.4/BBS/3.13/data-experiment/src/contrib/KEGGdzPathwaysGEO_1.29.0.tar.gz && rm -rf KEGGdzPathwaysGEO.buildbin-libdir && mkdir KEGGdzPathwaysGEO.buildbin-libdir && D:\biocbuild\bbs-3.13-bioc\R\bin\R.exe CMD INSTALL --merge-multiarch --build --library=KEGGdzPathwaysGEO.buildbin-libdir KEGGdzPathwaysGEO_1.29.0.tar.gz && D:\biocbuild\bbs-3.13-bioc\R\bin\R.exe CMD INSTALL KEGGdzPathwaysGEO_1.29.0.zip && rm KEGGdzPathwaysGEO_1.29.0.tar.gz KEGGdzPathwaysGEO_1.29.0.zip
###
##############################################################################
##############################################################################


  % Total    % Received % Xferd  Average Speed   Time    Time     Time  Current
                                 Dload  Upload   Total   Spent    Left  Speed

  0     0    0     0    0     0      0      0 --:--:-- --:--:-- --:--:--     0
 18  300M   18 55.9M    0     0  74.9M      0  0:00:04 --:--:--  0:00:04 74.8M
 44  300M   44  133M    0     0  76.2M      0  0:00:03  0:00:01  0:00:02 76.2M
 65  300M   65  197M    0     0  72.0M      0  0:00:04  0:00:02  0:00:02 71.9M
 86  300M   86  260M    0     0  69.6M      0  0:00:04  0:00:03  0:00:01 69.6M
100  300M  100  300M    0     0  64.3M      0  0:00:04  0:00:04 --:--:-- 64.3M

install for i386

* installing *source* package 'KEGGdzPathwaysGEO' ...
** using staged installation
** R
** data
** byte-compile and prepare package for lazy loading
** help
*** installing help indices
  converting help for package 'KEGGdzPathwaysGEO'
    finding HTML links ... done
    GSE1297                                 html  
REDIRECT:topic	 GSE1297 -> GSE1297.html [ SUCCESS ]
    GSE14762                                html  
REDIRECT:topic	 GSE14762 -> GSE14762.html [ SUCCESS ]
    GSE15471                                html  
REDIRECT:topic	 GSE15471 -> GSE15471.html [ SUCCESS ]
    GSE16515                                html  
REDIRECT:topic	 GSE16515 -> GSE16515.html [ SUCCESS ]
    GSE18842                                html  
REDIRECT:topic	 GSE18842 -> GSE18842.html [ SUCCESS ]
    GSE19188                                html  
REDIRECT:topic	 GSE19188 -> GSE19188.html [ SUCCESS ]
    GSE19728                                html  
REDIRECT:topic	 GSE19728 -> GSE19728.html [ SUCCESS ]
    GSE20153                                html  
REDIRECT:topic	 GSE20153 -> GSE20153.html [ SUCCESS ]
    GSE20291                                html  
REDIRECT:topic	 GSE20291 -> GSE20291.html [ SUCCESS ]
    GSE21354                                html  
REDIRECT:topic	 GSE21354 -> GSE21354.html [ SUCCESS ]
    GSE3467                                 html  
REDIRECT:topic	 GSE3467 -> GSE3467.html [ SUCCESS ]
    GSE3585                                 html  
REDIRECT:topic	 GSE3585 -> GSE3585.html [ SUCCESS ]
    GSE3678                                 html  
REDIRECT:topic	 GSE3678 -> GSE3678.html [ SUCCESS ]
    GSE4107                                 html  
REDIRECT:topic	 GSE4107 -> GSE4107.html [ SUCCESS ]
    GSE5281_EC                              html  
REDIRECT:topic	 GSE5281_EC -> GSE5281_EC.html [ SUCCESS ]
    GSE5281_HIP                             html  
REDIRECT:topic	 GSE5281_HIP -> GSE5281_HIP.html [ SUCCESS ]
    GSE5281_VCX                             html  
REDIRECT:topic	 GSE5281_VCX -> GSE5281_VCX.html [ SUCCESS ]
    GSE6956AA                               html  
REDIRECT:topic	 GSE6956AA -> GSE6956AA.html [ SUCCESS ]
    GSE6956C                                html  
REDIRECT:topic	 GSE6956C -> GSE6956C.html [ SUCCESS ]
    GSE781                                  html  
REDIRECT:topic	 GSE781 -> GSE781.html [ SUCCESS ]
    GSE8671                                 html  
REDIRECT:topic	 GSE8671 -> GSE8671.html [ SUCCESS ]
    GSE8762                                 html  
REDIRECT:topic	 GSE8762 -> GSE8762.html [ SUCCESS ]
    GSE9348                                 html  
REDIRECT:topic	 GSE9348 -> GSE9348.html [ SUCCESS ]
    GSE9476                                 html  
REDIRECT:topic	 GSE9476 -> GSE9476.html [ SUCCESS ]
    KEGGdzPathwaysGEO-package               html  
REDIRECT:topic	 KEGGdzPathwaysGEO-package -> KEGGdzPathwaysGEO-package.html [ SUCCESS ]
REDIRECT:topic	 KEGGdzPathwaysGEO -> KEGGdzPathwaysGEO-package.html [ SUCCESS ]
** building package indices
** testing if installed package can be loaded from temporary location
** testing if installed package can be loaded from final location
** testing if installed package keeps a record of temporary installation path

install for x64

* installing *source* package 'KEGGdzPathwaysGEO' ...
** testing if installed package can be loaded
* MD5 sums
packaged installation of 'KEGGdzPathwaysGEO' as KEGGdzPathwaysGEO_1.29.0.zip
* DONE (KEGGdzPathwaysGEO)
* installing to library 'D:/biocbuild/bbs-3.13-bioc/R/library'
package 'KEGGdzPathwaysGEO' successfully unpacked and MD5 sums checked