Back to Multiple platform build/check report for BioC 3.13 experimental data
ABCDEFGHIJ[K]LMNOPQRSTUVWXYZ

INSTALL report for KEGGandMetacoreDzPathwaysGEO on riesling1

This page was generated on 2021-01-21 16:01:30 -0500 (Thu, 21 Jan 2021).

TO THE DEVELOPERS/MAINTAINERS OF THE KEGGandMetacoreDzPathwaysGEO PACKAGE: Please make sure to use the following settings in order to reproduce any error or warning you see on this page.
Package 191/386HostnameOS / ArchINSTALLBUILDCHECK
KEGGandMetacoreDzPathwaysGEO 1.11.0
Gaurav Bhatti
Snapshot Date: 2021-01-21 09:00:14 -0500 (Thu, 21 Jan 2021)
URL: https://git.bioconductor.org/packages/KEGGandMetacoreDzPathwaysGEO
Branch: master
Last Commit: 2a5f8a4
Last Changed Date: 2020-10-27 10:09:09 -0500 (Tue, 27 Oct 2020)
malbec2 Linux (Ubuntu 20.04.1 LTS) / x86_64  OK  OK  OK UNNEEDED, same version exists in internal repository
riesling1 Windows Server 2019 Standard / x64 [ OK ] OK  OK 

Summary

Package: KEGGandMetacoreDzPathwaysGEO
Version: 1.11.0
Command: C:\cygwin\bin\curl.exe -O http://172.29.0.4/BBS/3.13/data-experiment/src/contrib/KEGGandMetacoreDzPathwaysGEO_1.11.0.tar.gz && rm -rf KEGGandMetacoreDzPathwaysGEO.buildbin-libdir && mkdir KEGGandMetacoreDzPathwaysGEO.buildbin-libdir && D:\biocbuild\bbs-3.13-bioc\R\bin\R.exe CMD INSTALL --merge-multiarch --build --library=KEGGandMetacoreDzPathwaysGEO.buildbin-libdir KEGGandMetacoreDzPathwaysGEO_1.11.0.tar.gz && D:\biocbuild\bbs-3.13-bioc\R\bin\R.exe CMD INSTALL KEGGandMetacoreDzPathwaysGEO_1.11.0.zip && rm KEGGandMetacoreDzPathwaysGEO_1.11.0.tar.gz KEGGandMetacoreDzPathwaysGEO_1.11.0.zip
StartedAt: 2021-01-21 10:04:02 -0500 (Thu, 21 Jan 2021)
EndedAt: 2021-01-21 10:04:29 -0500 (Thu, 21 Jan 2021)
EllapsedTime: 26.7 seconds
RetCode: 0
Status:  OK  

Command output

##############################################################################
##############################################################################
###
### Running command:
###
###   C:\cygwin\bin\curl.exe -O http://172.29.0.4/BBS/3.13/data-experiment/src/contrib/KEGGandMetacoreDzPathwaysGEO_1.11.0.tar.gz && rm -rf KEGGandMetacoreDzPathwaysGEO.buildbin-libdir && mkdir KEGGandMetacoreDzPathwaysGEO.buildbin-libdir && D:\biocbuild\bbs-3.13-bioc\R\bin\R.exe CMD INSTALL --merge-multiarch --build --library=KEGGandMetacoreDzPathwaysGEO.buildbin-libdir KEGGandMetacoreDzPathwaysGEO_1.11.0.tar.gz && D:\biocbuild\bbs-3.13-bioc\R\bin\R.exe CMD INSTALL KEGGandMetacoreDzPathwaysGEO_1.11.0.zip && rm KEGGandMetacoreDzPathwaysGEO_1.11.0.tar.gz KEGGandMetacoreDzPathwaysGEO_1.11.0.zip
###
##############################################################################
##############################################################################


  % Total    % Received % Xferd  Average Speed   Time    Time     Time  Current
                                 Dload  Upload   Total   Spent    Left  Speed

  0     0    0     0    0     0      0      0 --:--:-- --:--:-- --:--:--     0
 44 98.5M   44 43.3M    0     0  63.7M      0  0:00:01 --:--:--  0:00:01 63.6M
100 98.5M  100 98.5M    0     0  76.7M      0  0:00:01  0:00:01 --:--:-- 76.8M

install for i386

* installing *source* package 'KEGGandMetacoreDzPathwaysGEO' ...
** using staged installation
** data
** help
*** installing help indices
  converting help for package 'KEGGandMetacoreDzPathwaysGEO'
    finding HTML links ... done
    GSE1145                                 html  
REDIRECT:topic	 GSE1145 -> GSE1145.html [ SUCCESS ]
    GSE11906                                html  
REDIRECT:topic	 GSE11906 -> GSE11906.html [ SUCCESS ]
    GSE14924_CD4                            html  
REDIRECT:topic	 GSE14924_CD4 -> GSE14924_CD4.html [ SUCCESS ]
    GSE14924_CD8                            html  
REDIRECT:topic	 GSE14924_CD8 -> GSE14924_CD8.html [ SUCCESS ]
    GSE16759                                html  
REDIRECT:topic	 GSE16759 -> GSE16759.html [ SUCCESS ]
    GSE19420                                html  
REDIRECT:topic	 GSE19420 -> GSE19420.html [ SUCCESS ]
    GSE20164                                html  
REDIRECT:topic	 GSE20164 -> GSE20164.html [ SUCCESS ]
    GSE22780                                html  
REDIRECT:topic	 GSE22780 -> GSE22780.html [ SUCCESS ]
    GSE23878                                html  
REDIRECT:topic	 GSE23878 -> GSE23878.html [ SUCCESS ]
    GSE24739_G0                             html  
REDIRECT:topic	 GSE24739_G0 -> GSE24739_G0.html [ SUCCESS ]
    GSE24739_G1                             html  
REDIRECT:topic	 GSE24739_G1 -> GSE24739_G1.html [ SUCCESS ]
    GSE30153                                html  
REDIRECT:topic	 GSE30153 -> GSE30153.html [ SUCCESS ]
    GSE32676                                html  
REDIRECT:topic	 GSE32676 -> GSE32676.html [ SUCCESS ]
    GSE38666_epithelia                      html  
REDIRECT:topic	 GSE38666_epithelia -> GSE38666_epithelia.html [ SUCCESS ]
    GSE38666_stroma                         html  
REDIRECT:topic	 GSE38666_stroma -> GSE38666_stroma.html [ SUCCESS ]
    GSE4183                                 html  
REDIRECT:topic	 GSE4183 -> GSE4183.html [ SUCCESS ]
    GSE42057                                html  
REDIRECT:topic	 GSE42057 -> GSE42057.html [ SUCCESS ]
    GSE7305                                 html  
REDIRECT:topic	 GSE7305 -> GSE7305.html [ SUCCESS ]
    KEGGandMetacoreDzPathwaysGEO-package    html  
REDIRECT:topic	 KEGGandMetacoreDzPathwaysGEO-package -> KEGGandMetacoreDzPathwaysGEO-package.html [ SUCCESS ]
REDIRECT:topic	 KEGGandMetacoreDzPathwaysGEO -> KEGGandMetacoreDzPathwaysGEO-package.html [ SUCCESS ]
** building package indices
** installing vignettes
** testing if installed package can be loaded from temporary location
** testing if installed package can be loaded from final location
** testing if installed package keeps a record of temporary installation path

install for x64

* installing *source* package 'KEGGandMetacoreDzPathwaysGEO' ...
** testing if installed package can be loaded
* MD5 sums
packaged installation of 'KEGGandMetacoreDzPathwaysGEO' as KEGGandMetacoreDzPathwaysGEO_1.11.0.zip
* DONE (KEGGandMetacoreDzPathwaysGEO)
* installing to library 'D:/biocbuild/bbs-3.13-bioc/R/library'
package 'KEGGandMetacoreDzPathwaysGEO' successfully unpacked and MD5 sums checked