Back to Multiple platform build/check report for BioC 3.13 experimental data
ABCDEFGHIJ[K]LMNOPQRSTUVWXYZ

BUILD report for KEGGandMetacoreDzPathwaysGEO on riesling1

This page was generated on 2021-01-14 15:59:08 -0500 (Thu, 14 Jan 2021).

TO THE DEVELOPERS/MAINTAINERS OF THE KEGGandMetacoreDzPathwaysGEO PACKAGE: Please make sure to use the following settings in order to reproduce any error or warning you see on this page.
Package 191/385HostnameOS / ArchINSTALLBUILDCHECK
KEGGandMetacoreDzPathwaysGEO 1.11.0
Gaurav Bhatti
Snapshot Date: 2021-01-14 09:00:13 -0500 (Thu, 14 Jan 2021)
URL: https://git.bioconductor.org/packages/KEGGandMetacoreDzPathwaysGEO
Branch: master
Last Commit: 2a5f8a4
Last Changed Date: 2020-10-27 10:09:09 -0500 (Tue, 27 Oct 2020)
malbec2 Linux (Ubuntu 20.04.1 LTS) / x86_64  OK  OK  OK UNNEEDED, same version exists in internal repository
riesling1 Windows Server 2019 Standard / x64  OK [ OK ] OK 

Summary

Package: KEGGandMetacoreDzPathwaysGEO
Version: 1.11.0
Command: chmod a+r KEGGandMetacoreDzPathwaysGEO -R && D:\biocbuild\bbs-3.13-bioc\R\bin\R.exe CMD build --keep-empty-dirs --no-resave-data KEGGandMetacoreDzPathwaysGEO
StartedAt: 2021-01-14 10:42:40 -0500 (Thu, 14 Jan 2021)
EndedAt: 2021-01-14 10:42:53 -0500 (Thu, 14 Jan 2021)
EllapsedTime: 13.5 seconds
RetCode: 0
Status:  OK  
PackageFile: KEGGandMetacoreDzPathwaysGEO_1.11.0.tar.gz
PackageFileSize: 98.6 MiB

Command output

##############################################################################
##############################################################################
###
### Running command:
###
###   chmod a+r KEGGandMetacoreDzPathwaysGEO -R && D:\biocbuild\bbs-3.13-bioc\R\bin\R.exe CMD build --keep-empty-dirs --no-resave-data KEGGandMetacoreDzPathwaysGEO
###
##############################################################################
##############################################################################


* checking for file 'KEGGandMetacoreDzPathwaysGEO/DESCRIPTION' ... OK
* preparing 'KEGGandMetacoreDzPathwaysGEO':
* checking DESCRIPTION meta-information ... OK
* installing the package to build vignettes
* creating vignettes ... OK
* checking for LF line-endings in source and make files and shell scripts
* checking for empty or unneeded directories
* looking to see if a 'data/datalist' file should be added
* building 'KEGGandMetacoreDzPathwaysGEO_1.11.0.tar.gz'