Back to Multiple platform build/check report for BioC 3.13 experimental data |
|
This page was generated on 2021-01-14 15:59:08 -0500 (Thu, 14 Jan 2021).
TO THE DEVELOPERS/MAINTAINERS OF THE JctSeqData PACKAGE: Please make sure to use the following settings in order to reproduce any error or warning you see on this page. |
Package 190/385 | Hostname | OS / Arch | INSTALL | BUILD | CHECK | ||||||
Stephen Hartley
| malbec2 | Linux (Ubuntu 20.04.1 LTS) / x86_64 | OK | OK | ERROR | ||||||
riesling1 | Windows Server 2019 Standard / x64 | OK | [ OK ] | ERROR |
Package: JctSeqData |
Version: 1.21.1 |
Command: chmod a+r JctSeqData -R && D:\biocbuild\bbs-3.13-bioc\R\bin\R.exe CMD build --keep-empty-dirs --no-resave-data JctSeqData |
StartedAt: 2021-01-14 10:42:37 -0500 (Thu, 14 Jan 2021) |
EndedAt: 2021-01-14 10:42:56 -0500 (Thu, 14 Jan 2021) |
EllapsedTime: 18.2 seconds |
RetCode: 0 |
Status: OK |
PackageFile: JctSeqData_1.21.1.tar.gz |
PackageFileSize: 20.63 MiB |
############################################################################## ############################################################################## ### ### Running command: ### ### chmod a+r JctSeqData -R && D:\biocbuild\bbs-3.13-bioc\R\bin\R.exe CMD build --keep-empty-dirs --no-resave-data JctSeqData ### ############################################################################## ############################################################################## * checking for file 'JctSeqData/DESCRIPTION' ... OK * preparing 'JctSeqData': * checking DESCRIPTION meta-information ... OK * installing the package to build vignettes * creating vignettes ... OK * checking for LF line-endings in source and make files and shell scripts * checking for empty or unneeded directories * building 'JctSeqData_1.21.1.tar.gz'