Back to Multiple platform build/check report for BioC 3.13 experimental data
ABCDEFGHI[J]KLMNOPQRSTUVWXYZ

INSTALL report for JASPAR2016 on riesling1

This page was generated on 2021-01-14 15:59:08 -0500 (Thu, 14 Jan 2021).

TO THE DEVELOPERS/MAINTAINERS OF THE JASPAR2016 PACKAGE: Please make sure to use the following settings in order to reproduce any error or warning you see on this page.
Package 189/385HostnameOS / ArchINSTALLBUILDCHECK
JASPAR2016 1.19.0
Ge Tan
Snapshot Date: 2021-01-14 09:00:13 -0500 (Thu, 14 Jan 2021)
URL: https://git.bioconductor.org/packages/JASPAR2016
Branch: master
Last Commit: 15acfcf
Last Changed Date: 2020-10-27 10:15:45 -0500 (Tue, 27 Oct 2020)
malbec2 Linux (Ubuntu 20.04.1 LTS) / x86_64  OK  OK  OK UNNEEDED, same version exists in internal repository
riesling1 Windows Server 2019 Standard / x64 [ OK ] OK  OK 

Summary

Package: JASPAR2016
Version: 1.19.0
Command: C:\cygwin\bin\curl.exe -O http://172.29.0.4/BBS/3.13/data-experiment/src/contrib/JASPAR2016_1.19.0.tar.gz && rm -rf JASPAR2016.buildbin-libdir && mkdir JASPAR2016.buildbin-libdir && D:\biocbuild\bbs-3.13-bioc\R\bin\R.exe CMD INSTALL --merge-multiarch --build --library=JASPAR2016.buildbin-libdir JASPAR2016_1.19.0.tar.gz && D:\biocbuild\bbs-3.13-bioc\R\bin\R.exe CMD INSTALL JASPAR2016_1.19.0.zip && rm JASPAR2016_1.19.0.tar.gz JASPAR2016_1.19.0.zip
StartedAt: 2021-01-14 10:02:49 -0500 (Thu, 14 Jan 2021)
EndedAt: 2021-01-14 10:03:02 -0500 (Thu, 14 Jan 2021)
EllapsedTime: 12.1 seconds
RetCode: 0
Status:  OK  

Command output

##############################################################################
##############################################################################
###
### Running command:
###
###   C:\cygwin\bin\curl.exe -O http://172.29.0.4/BBS/3.13/data-experiment/src/contrib/JASPAR2016_1.19.0.tar.gz && rm -rf JASPAR2016.buildbin-libdir && mkdir JASPAR2016.buildbin-libdir && D:\biocbuild\bbs-3.13-bioc\R\bin\R.exe CMD INSTALL --merge-multiarch --build --library=JASPAR2016.buildbin-libdir JASPAR2016_1.19.0.tar.gz && D:\biocbuild\bbs-3.13-bioc\R\bin\R.exe CMD INSTALL JASPAR2016_1.19.0.zip && rm JASPAR2016_1.19.0.tar.gz JASPAR2016_1.19.0.zip
###
##############################################################################
##############################################################################


  % Total    % Received % Xferd  Average Speed   Time    Time     Time  Current
                                 Dload  Upload   Total   Spent    Left  Speed

  0     0    0     0    0     0      0      0 --:--:-- --:--:-- --:--:--     0
100 8934k  100 8934k    0     0  17.9M      0 --:--:-- --:--:-- --:--:-- 17.9M

install for i386

* installing *source* package 'JASPAR2016' ...
** using staged installation
** R
** inst
** byte-compile and prepare package for lazy loading
** help
*** installing help indices
  converting help for package 'JASPAR2016'
    finding HTML links ... done
    JASPAR2016-class                        html  
REDIRECT:topic	 JASPAR2016-class -> JASPAR2016-class.html [ SUCCESS ]
REDIRECT:topic	 JASPAR2016 -> JASPAR2016-class.html [ SUCCESS ]
** building package indices
** testing if installed package can be loaded from temporary location
** testing if installed package can be loaded from final location
** testing if installed package keeps a record of temporary installation path

install for x64

* installing *source* package 'JASPAR2016' ...
** testing if installed package can be loaded
* MD5 sums
packaged installation of 'JASPAR2016' as JASPAR2016_1.19.0.zip
* DONE (JASPAR2016)
* installing to library 'D:/biocbuild/bbs-3.13-bioc/R/library'
package 'JASPAR2016' successfully unpacked and MD5 sums checked