Back to Multiple platform build/check report for BioC 3.13 experimental data
ABCDEFGHI[J]KLMNOPQRSTUVWXYZ

BUILD report for JASPAR2016 on riesling1

This page was generated on 2021-01-14 15:59:08 -0500 (Thu, 14 Jan 2021).

TO THE DEVELOPERS/MAINTAINERS OF THE JASPAR2016 PACKAGE: Please make sure to use the following settings in order to reproduce any error or warning you see on this page.
Package 189/385HostnameOS / ArchINSTALLBUILDCHECK
JASPAR2016 1.19.0
Ge Tan
Snapshot Date: 2021-01-14 09:00:13 -0500 (Thu, 14 Jan 2021)
URL: https://git.bioconductor.org/packages/JASPAR2016
Branch: master
Last Commit: 15acfcf
Last Changed Date: 2020-10-27 10:15:45 -0500 (Tue, 27 Oct 2020)
malbec2 Linux (Ubuntu 20.04.1 LTS) / x86_64  OK  OK  OK UNNEEDED, same version exists in internal repository
riesling1 Windows Server 2019 Standard / x64  OK [ OK ] OK 

Summary

Package: JASPAR2016
Version: 1.19.0
Command: chmod a+r JASPAR2016 -R && D:\biocbuild\bbs-3.13-bioc\R\bin\R.exe CMD build --keep-empty-dirs --no-resave-data JASPAR2016
StartedAt: 2021-01-14 10:42:32 -0500 (Thu, 14 Jan 2021)
EndedAt: 2021-01-14 10:42:40 -0500 (Thu, 14 Jan 2021)
EllapsedTime: 7.9 seconds
RetCode: 0
Status:  OK  
PackageFile: JASPAR2016_1.19.0.tar.gz
PackageFileSize: 8.715 MiB

Command output

##############################################################################
##############################################################################
###
### Running command:
###
###   chmod a+r JASPAR2016 -R && D:\biocbuild\bbs-3.13-bioc\R\bin\R.exe CMD build --keep-empty-dirs --no-resave-data JASPAR2016
###
##############################################################################
##############################################################################


* checking for file 'JASPAR2016/DESCRIPTION' ... OK
* preparing 'JASPAR2016':
* checking DESCRIPTION meta-information ... OK
* checking for LF line-endings in source and make files and shell scripts
* checking for empty or unneeded directories
* building 'JASPAR2016_1.19.0.tar.gz'