Back to Multiple platform build/check report for BioC 3.13 experimental data
ABCDEFGHI[J]KLMNOPQRSTUVWXYZ

INSTALL report for JASPAR2014 on riesling1

This page was generated on 2021-01-14 15:59:08 -0500 (Thu, 14 Jan 2021).

TO THE DEVELOPERS/MAINTAINERS OF THE JASPAR2014 PACKAGE: Please make sure to use the following settings in order to reproduce any error or warning you see on this page.
Package 188/385HostnameOS / ArchINSTALLBUILDCHECK
JASPAR2014 1.27.0
Ge Tan
Snapshot Date: 2021-01-14 09:00:13 -0500 (Thu, 14 Jan 2021)
URL: https://git.bioconductor.org/packages/JASPAR2014
Branch: master
Last Commit: 005f946
Last Changed Date: 2020-10-27 10:05:53 -0500 (Tue, 27 Oct 2020)
malbec2 Linux (Ubuntu 20.04.1 LTS) / x86_64  OK  OK  OK UNNEEDED, same version exists in internal repository
riesling1 Windows Server 2019 Standard / x64 [ OK ] OK  OK 

Summary

Package: JASPAR2014
Version: 1.27.0
Command: C:\cygwin\bin\curl.exe -O http://172.29.0.4/BBS/3.13/data-experiment/src/contrib/JASPAR2014_1.27.0.tar.gz && rm -rf JASPAR2014.buildbin-libdir && mkdir JASPAR2014.buildbin-libdir && D:\biocbuild\bbs-3.13-bioc\R\bin\R.exe CMD INSTALL --merge-multiarch --build --library=JASPAR2014.buildbin-libdir JASPAR2014_1.27.0.tar.gz && D:\biocbuild\bbs-3.13-bioc\R\bin\R.exe CMD INSTALL JASPAR2014_1.27.0.zip && rm JASPAR2014_1.27.0.tar.gz JASPAR2014_1.27.0.zip
StartedAt: 2021-01-14 10:06:25 -0500 (Thu, 14 Jan 2021)
EndedAt: 2021-01-14 10:07:33 -0500 (Thu, 14 Jan 2021)
EllapsedTime: 68.2 seconds
RetCode: 0
Status:  OK  

Command output

##############################################################################
##############################################################################
###
### Running command:
###
###   C:\cygwin\bin\curl.exe -O http://172.29.0.4/BBS/3.13/data-experiment/src/contrib/JASPAR2014_1.27.0.tar.gz && rm -rf JASPAR2014.buildbin-libdir && mkdir JASPAR2014.buildbin-libdir && D:\biocbuild\bbs-3.13-bioc\R\bin\R.exe CMD INSTALL --merge-multiarch --build --library=JASPAR2014.buildbin-libdir JASPAR2014_1.27.0.tar.gz && D:\biocbuild\bbs-3.13-bioc\R\bin\R.exe CMD INSTALL JASPAR2014_1.27.0.zip && rm JASPAR2014_1.27.0.tar.gz JASPAR2014_1.27.0.zip
###
##############################################################################
##############################################################################


  % Total    % Received % Xferd  Average Speed   Time    Time     Time  Current
                                 Dload  Upload   Total   Spent    Left  Speed

  0     0    0     0    0     0      0      0 --:--:-- --:--:-- --:--:--     0
 57 42.8M   57 24.7M    0     0   105M      0 --:--:-- --:--:-- --:--:--  105M
100 42.8M  100 42.8M    0     0   106M      0 --:--:-- --:--:-- --:--:--  106M

install for i386

* installing *source* package 'JASPAR2014' ...
** using staged installation
** R
** data
*** moving datasets to lazyload DB
** inst
** byte-compile and prepare package for lazy loading
** help
*** installing help indices
  converting help for package 'JASPAR2014'
    finding HTML links ... done
    JASPAR2014-class                        html  
REDIRECT:topic	 JASPAR2014-class -> JASPAR2014-class.html [ SUCCESS ]
REDIRECT:topic	 JASPAR2014 -> JASPAR2014-class.html [ SUCCESS ]
    JASPAR2014-package                      html  
REDIRECT:topic	 JASPAR2014-package -> JASPAR2014-package.html [ SUCCESS ]
    JASPAR2014SitesSeqs                     html  
REDIRECT:topic	 JASPAR2014SitesSeqs -> JASPAR2014SitesSeqs.html [ SUCCESS ]
** building package indices
** testing if installed package can be loaded from temporary location
** testing if installed package can be loaded from final location
** testing if installed package keeps a record of temporary installation path

install for x64

* installing *source* package 'JASPAR2014' ...
** testing if installed package can be loaded
* MD5 sums
packaged installation of 'JASPAR2014' as JASPAR2014_1.27.0.zip
* DONE (JASPAR2014)
* installing to library 'D:/biocbuild/bbs-3.13-bioc/R/library'
package 'JASPAR2014' successfully unpacked and MD5 sums checked