Back to Multiple platform build/check report for BioC 3.13 experimental data
ABCDEFGH[I]JKLMNOPQRSTUVWXYZ

INSTALL report for Iyer517 on riesling1

This page was generated on 2021-01-14 15:59:08 -0500 (Thu, 14 Jan 2021).

TO THE DEVELOPERS/MAINTAINERS OF THE Iyer517 PACKAGE: Please make sure to use the following settings in order to reproduce any error or warning you see on this page.
Package 187/385HostnameOS / ArchINSTALLBUILDCHECK
Iyer517 1.33.0
Vince Carey
Snapshot Date: 2021-01-14 09:00:13 -0500 (Thu, 14 Jan 2021)
URL: https://git.bioconductor.org/packages/Iyer517
Branch: master
Last Commit: d489d50
Last Changed Date: 2020-10-27 09:46:37 -0500 (Tue, 27 Oct 2020)
malbec2 Linux (Ubuntu 20.04.1 LTS) / x86_64  OK  OK  OK UNNEEDED, same version exists in internal repository
riesling1 Windows Server 2019 Standard / x64 [ OK ] OK  OK 

Summary

Package: Iyer517
Version: 1.33.0
Command: C:\cygwin\bin\curl.exe -O http://172.29.0.4/BBS/3.13/data-experiment/src/contrib/Iyer517_1.33.0.tar.gz && rm -rf Iyer517.buildbin-libdir && mkdir Iyer517.buildbin-libdir && D:\biocbuild\bbs-3.13-bioc\R\bin\R.exe CMD INSTALL --merge-multiarch --build --library=Iyer517.buildbin-libdir Iyer517_1.33.0.tar.gz && D:\biocbuild\bbs-3.13-bioc\R\bin\R.exe CMD INSTALL Iyer517_1.33.0.zip && rm Iyer517_1.33.0.tar.gz Iyer517_1.33.0.zip
StartedAt: 2021-01-14 10:02:02 -0500 (Thu, 14 Jan 2021)
EndedAt: 2021-01-14 10:02:15 -0500 (Thu, 14 Jan 2021)
EllapsedTime: 13.2 seconds
RetCode: 0
Status:  OK  

Command output

##############################################################################
##############################################################################
###
### Running command:
###
###   C:\cygwin\bin\curl.exe -O http://172.29.0.4/BBS/3.13/data-experiment/src/contrib/Iyer517_1.33.0.tar.gz && rm -rf Iyer517.buildbin-libdir && mkdir Iyer517.buildbin-libdir && D:\biocbuild\bbs-3.13-bioc\R\bin\R.exe CMD INSTALL --merge-multiarch --build --library=Iyer517.buildbin-libdir Iyer517_1.33.0.tar.gz && D:\biocbuild\bbs-3.13-bioc\R\bin\R.exe CMD INSTALL Iyer517_1.33.0.zip && rm Iyer517_1.33.0.tar.gz Iyer517_1.33.0.zip
###
##############################################################################
##############################################################################


  % Total    % Received % Xferd  Average Speed   Time    Time     Time  Current
                                 Dload  Upload   Total   Spent    Left  Speed

  0     0    0     0    0     0      0      0 --:--:-- --:--:-- --:--:--     0
100  119k  100  119k    0     0  8505k      0 --:--:-- --:--:-- --:--:-- 8505k

install for i386

* installing *source* package 'Iyer517' ...
** using staged installation
** R
** data
** inst
** byte-compile and prepare package for lazy loading
** help
*** installing help indices
  converting help for package 'Iyer517'
    finding HTML links ... done
    Iyer517                                 html  
REDIRECT:topic	 Iyer517 -> Iyer517.html [ SUCCESS ]
    IyerAnnotated                           html  
REDIRECT:topic	 IyerAnnotated -> IyerAnnotated.html [ SUCCESS ]
REDIRECT:topic	 Iyer517GO -> IyerAnnotated.html [ SUCCESS ]
    get.dna2                                html  
REDIRECT:topic	 get.dna2 -> get.dna2.html [ SUCCESS ]
** building package indices
** installing vignettes
** testing if installed package can be loaded from temporary location
** testing if installed package can be loaded from final location
** testing if installed package keeps a record of temporary installation path

install for x64

* installing *source* package 'Iyer517' ...
** testing if installed package can be loaded
* MD5 sums
packaged installation of 'Iyer517' as Iyer517_1.33.0.zip
* DONE (Iyer517)
* installing to library 'D:/biocbuild/bbs-3.13-bioc/R/library'
package 'Iyer517' successfully unpacked and MD5 sums checked