Back to Multiple platform build/check report for BioC 3.13 experimental data
ABCDEFGH[I]JKLMNOPQRSTUVWXYZ

BUILD report for Iyer517 on riesling1

This page was generated on 2021-01-11 15:59:31 -0500 (Mon, 11 Jan 2021).

TO THE DEVELOPERS/MAINTAINERS OF THE Iyer517 PACKAGE: Please make sure to use the following settings in order to reproduce any error or warning you see on this page.
Package 187/385HostnameOS / ArchINSTALLBUILDCHECK
Iyer517 1.33.0
Vince Carey
Snapshot Date: 2021-01-11 09:00:09 -0500 (Mon, 11 Jan 2021)
URL: https://git.bioconductor.org/packages/Iyer517
Branch: master
Last Commit: d489d50
Last Changed Date: 2020-10-27 09:46:37 -0500 (Tue, 27 Oct 2020)
malbec2 Linux (Ubuntu 20.04.1 LTS) / x86_64  OK  OK  OK UNNEEDED, same version exists in internal repository
riesling1 Windows Server 2019 Standard / x64  OK [ OK ] OK 

Summary

Package: Iyer517
Version: 1.33.0
Command: chmod a+r Iyer517 -R && D:\biocbuild\bbs-3.13-bioc\R\bin\R.exe CMD build --keep-empty-dirs --no-resave-data Iyer517
StartedAt: 2021-01-11 10:49:32 -0500 (Mon, 11 Jan 2021)
EndedAt: 2021-01-11 10:49:54 -0500 (Mon, 11 Jan 2021)
EllapsedTime: 21.7 seconds
RetCode: 0
Status:  OK  
PackageFile: Iyer517_1.33.0.tar.gz
PackageFileSize: 249 KiB

Command output

##############################################################################
##############################################################################
###
### Running command:
###
###   chmod a+r Iyer517 -R && D:\biocbuild\bbs-3.13-bioc\R\bin\R.exe CMD build --keep-empty-dirs --no-resave-data Iyer517
###
##############################################################################
##############################################################################


* checking for file 'Iyer517/DESCRIPTION' ... OK
* preparing 'Iyer517':
* checking DESCRIPTION meta-information ... OK
* installing the package to build vignettes
* creating vignettes ... OK
* checking for LF line-endings in source and make files and shell scripts
* checking for empty or unneeded directories
* looking to see if a 'data/datalist' file should be added
* building 'Iyer517_1.33.0.tar.gz'