Back to Multiple platform build/check report for BioC 3.13 experimental data
ABCDEFGH[I]JKLMNOPQRSTUVWXYZ

INSTALL report for IlluminaDataTestFiles on riesling1

This page was generated on 2021-01-21 16:01:30 -0500 (Thu, 21 Jan 2021).

TO THE DEVELOPERS/MAINTAINERS OF THE IlluminaDataTestFiles PACKAGE: Please make sure to use the following settings in order to reproduce any error or warning you see on this page.
Package 185/386HostnameOS / ArchINSTALLBUILDCHECK
IlluminaDataTestFiles 1.29.0
Kasper Daniel Hansen
Snapshot Date: 2021-01-21 09:00:14 -0500 (Thu, 21 Jan 2021)
URL: https://git.bioconductor.org/packages/IlluminaDataTestFiles
Branch: master
Last Commit: 8f92bbf
Last Changed Date: 2020-10-27 10:04:40 -0500 (Tue, 27 Oct 2020)
malbec2 Linux (Ubuntu 20.04.1 LTS) / x86_64  OK  OK  OK UNNEEDED, same version exists in internal repository
riesling1 Windows Server 2019 Standard / x64 [ OK ] OK  OK 

Summary

Package: IlluminaDataTestFiles
Version: 1.29.0
Command: C:\cygwin\bin\curl.exe -O http://172.29.0.4/BBS/3.13/data-experiment/src/contrib/IlluminaDataTestFiles_1.29.0.tar.gz && rm -rf IlluminaDataTestFiles.buildbin-libdir && mkdir IlluminaDataTestFiles.buildbin-libdir && D:\biocbuild\bbs-3.13-bioc\R\bin\R.exe CMD INSTALL --merge-multiarch --build --library=IlluminaDataTestFiles.buildbin-libdir IlluminaDataTestFiles_1.29.0.tar.gz && D:\biocbuild\bbs-3.13-bioc\R\bin\R.exe CMD INSTALL IlluminaDataTestFiles_1.29.0.zip && rm IlluminaDataTestFiles_1.29.0.tar.gz IlluminaDataTestFiles_1.29.0.zip
StartedAt: 2021-01-21 09:48:40 -0500 (Thu, 21 Jan 2021)
EndedAt: 2021-01-21 09:48:57 -0500 (Thu, 21 Jan 2021)
EllapsedTime: 16.1 seconds
RetCode: 0
Status:  OK  

Command output

##############################################################################
##############################################################################
###
### Running command:
###
###   C:\cygwin\bin\curl.exe -O http://172.29.0.4/BBS/3.13/data-experiment/src/contrib/IlluminaDataTestFiles_1.29.0.tar.gz && rm -rf IlluminaDataTestFiles.buildbin-libdir && mkdir IlluminaDataTestFiles.buildbin-libdir && D:\biocbuild\bbs-3.13-bioc\R\bin\R.exe CMD INSTALL --merge-multiarch --build --library=IlluminaDataTestFiles.buildbin-libdir IlluminaDataTestFiles_1.29.0.tar.gz && D:\biocbuild\bbs-3.13-bioc\R\bin\R.exe CMD INSTALL IlluminaDataTestFiles_1.29.0.zip && rm IlluminaDataTestFiles_1.29.0.tar.gz IlluminaDataTestFiles_1.29.0.zip
###
##############################################################################
##############################################################################


  % Total    % Received % Xferd  Average Speed   Time    Time     Time  Current
                                 Dload  Upload   Total   Spent    Left  Speed

  0     0    0     0    0     0      0      0 --:--:-- --:--:-- --:--:--     0
  0     0    0     0    0     0      0      0 --:--:-- --:--:-- --:--:--     0
  2 23.6M    2  574k    0     0   534k      0  0:00:45  0:00:01  0:00:44  533k
  8 23.6M    8 1954k    0     0   899k      0  0:00:26  0:00:02  0:00:24  899k
 14 23.6M   14 3527k    0     0  1126k      0  0:00:21  0:00:03  0:00:18 1125k
 30 23.6M   30 7412k    0     0  1836k      0  0:00:13  0:00:04  0:00:09 1835k
 42 23.6M   42 10.1M    0     0  2002k      0  0:00:12  0:00:05  0:00:07 2085k
 53 23.6M   53 12.5M    0     0  2098k      0  0:00:11  0:00:06  0:00:05 2430k
100 23.6M  100 23.6M    0     0  3457k      0  0:00:07  0:00:07 --:--:-- 4606k

install for i386

* installing *source* package 'IlluminaDataTestFiles' ...
** using staged installation
** inst
** help
*** installing help indices
  converting help for package 'IlluminaDataTestFiles'
    finding HTML links ... done
    IlluminaDataTestFiles-package           html  
REDIRECT:topic	 IlluminaDataTestFiles-package -> IlluminaDataTestFiles-package.html [ SUCCESS ]
REDIRECT:topic	 IlluminaDataTestFiles -> IlluminaDataTestFiles-package.html [ SUCCESS ]
** building package indices
** testing if installed package can be loaded from temporary location
** testing if installed package can be loaded from final location
** testing if installed package keeps a record of temporary installation path

install for x64

* installing *source* package 'IlluminaDataTestFiles' ...
** testing if installed package can be loaded
* MD5 sums
packaged installation of 'IlluminaDataTestFiles' as IlluminaDataTestFiles_1.29.0.zip
* DONE (IlluminaDataTestFiles)
* installing to library 'D:/biocbuild/bbs-3.13-bioc/R/library'
package 'IlluminaDataTestFiles' successfully unpacked and MD5 sums checked