Back to Multiple platform build/check report for BioC 3.13 experimental data
ABCDEFGH[I]JKLMNOPQRSTUVWXYZ

INSTALL report for Illumina450ProbeVariants.db on riesling1

This page was generated on 2021-01-21 16:01:30 -0500 (Thu, 21 Jan 2021).

TO THE DEVELOPERS/MAINTAINERS OF THE Illumina450ProbeVariants.db PACKAGE: Please make sure to use the following settings in order to reproduce any error or warning you see on this page.
Package 184/386HostnameOS / ArchINSTALLBUILDCHECK
Illumina450ProbeVariants.db 1.27.0
Tiffany Morris
Snapshot Date: 2021-01-21 09:00:14 -0500 (Thu, 21 Jan 2021)
URL: https://git.bioconductor.org/packages/Illumina450ProbeVariants.db
Branch: master
Last Commit: c89f233
Last Changed Date: 2020-10-27 10:06:38 -0500 (Tue, 27 Oct 2020)
malbec2 Linux (Ubuntu 20.04.1 LTS) / x86_64  OK  OK  OK UNNEEDED, same version exists in internal repository
riesling1 Windows Server 2019 Standard / x64 [ OK ] OK  OK 

Summary

Package: Illumina450ProbeVariants.db
Version: 1.27.0
Command: C:\cygwin\bin\curl.exe -O http://172.29.0.4/BBS/3.13/data-experiment/src/contrib/Illumina450ProbeVariants.db_1.27.0.tar.gz && rm -rf Illumina450ProbeVariants.db.buildbin-libdir && mkdir Illumina450ProbeVariants.db.buildbin-libdir && D:\biocbuild\bbs-3.13-bioc\R\bin\R.exe CMD INSTALL --merge-multiarch --build --library=Illumina450ProbeVariants.db.buildbin-libdir Illumina450ProbeVariants.db_1.27.0.tar.gz && D:\biocbuild\bbs-3.13-bioc\R\bin\R.exe CMD INSTALL Illumina450ProbeVariants.db_1.27.0.zip && rm Illumina450ProbeVariants.db_1.27.0.tar.gz Illumina450ProbeVariants.db_1.27.0.zip
StartedAt: 2021-01-21 10:10:43 -0500 (Thu, 21 Jan 2021)
EndedAt: 2021-01-21 10:10:49 -0500 (Thu, 21 Jan 2021)
EllapsedTime: 6.0 seconds
RetCode: 0
Status:  OK  

Command output

##############################################################################
##############################################################################
###
### Running command:
###
###   C:\cygwin\bin\curl.exe -O http://172.29.0.4/BBS/3.13/data-experiment/src/contrib/Illumina450ProbeVariants.db_1.27.0.tar.gz && rm -rf Illumina450ProbeVariants.db.buildbin-libdir && mkdir Illumina450ProbeVariants.db.buildbin-libdir && D:\biocbuild\bbs-3.13-bioc\R\bin\R.exe CMD INSTALL --merge-multiarch --build --library=Illumina450ProbeVariants.db.buildbin-libdir Illumina450ProbeVariants.db_1.27.0.tar.gz && D:\biocbuild\bbs-3.13-bioc\R\bin\R.exe CMD INSTALL Illumina450ProbeVariants.db_1.27.0.zip && rm Illumina450ProbeVariants.db_1.27.0.tar.gz Illumina450ProbeVariants.db_1.27.0.zip
###
##############################################################################
##############################################################################


  % Total    % Received % Xferd  Average Speed   Time    Time     Time  Current
                                 Dload  Upload   Total   Spent    Left  Speed

  0     0    0     0    0     0      0      0 --:--:-- --:--:-- --:--:--     0
100 6567k  100 6567k    0     0  39.3M      0 --:--:-- --:--:-- --:--:-- 39.3M

install for i386

* installing *source* package 'Illumina450ProbeVariants.db' ...
** using staged installation
** data
** help
*** installing help indices
  converting help for package 'Illumina450ProbeVariants.db'
    finding HTML links ... done
    Illumina450ProbeVariants.db-package     html  
REDIRECT:topic	 Illumina450ProbeVariants.db-package -> Illumina450ProbeVariants.db-package.html [ SUCCESS ]
REDIRECT:topic	 Illumina450ProbeVariants.db -> Illumina450ProbeVariants.db-package.html [ SUCCESS ]
REDIRECT:topic	 450kProbeVariants -> Illumina450ProbeVariants.db-package.html [ SUCCESS ]
    probe.450K.VCs.af                       html  
REDIRECT:topic	 probe.450K.VCs.af -> probe.450K.VCs.af.html [ SUCCESS ]
** building package indices
** testing if installed package can be loaded from temporary location
** testing if installed package can be loaded from final location
** testing if installed package keeps a record of temporary installation path

install for x64

* installing *source* package 'Illumina450ProbeVariants.db' ...
** testing if installed package can be loaded
* MD5 sums
packaged installation of 'Illumina450ProbeVariants.db' as Illumina450ProbeVariants.db_1.27.0.zip
* DONE (Illumina450ProbeVariants.db)
* installing to library 'D:/biocbuild/bbs-3.13-bioc/R/library'
package 'Illumina450ProbeVariants.db' successfully unpacked and MD5 sums checked