Back to Multiple platform build/check report for BioC 3.13 experimental data |
|
This page was generated on 2021-01-14 15:59:08 -0500 (Thu, 14 Jan 2021).
TO THE DEVELOPERS/MAINTAINERS OF THE Illumina450ProbeVariants.db PACKAGE: Please make sure to use the following settings in order to reproduce any error or warning you see on this page. |
Package 184/385 | Hostname | OS / Arch | INSTALL | BUILD | CHECK | ||||||
Illumina450ProbeVariants.db 1.27.0 Tiffany Morris
| malbec2 | Linux (Ubuntu 20.04.1 LTS) / x86_64 | OK | OK | OK | ![]() | |||||
riesling1 | Windows Server 2019 Standard / x64 | OK | [ OK ] | OK |
Package: Illumina450ProbeVariants.db |
Version: 1.27.0 |
Command: chmod a+r Illumina450ProbeVariants.db -R && D:\biocbuild\bbs-3.13-bioc\R\bin\R.exe CMD build --keep-empty-dirs --no-resave-data Illumina450ProbeVariants.db |
StartedAt: 2021-01-14 10:42:05 -0500 (Thu, 14 Jan 2021) |
EndedAt: 2021-01-14 10:42:07 -0500 (Thu, 14 Jan 2021) |
EllapsedTime: 2.1 seconds |
RetCode: 0 |
Status: OK |
PackageFile: Illumina450ProbeVariants.db_1.27.0.tar.gz |
PackageFileSize: 6.414 MiB |
############################################################################## ############################################################################## ### ### Running command: ### ### chmod a+r Illumina450ProbeVariants.db -R && D:\biocbuild\bbs-3.13-bioc\R\bin\R.exe CMD build --keep-empty-dirs --no-resave-data Illumina450ProbeVariants.db ### ############################################################################## ############################################################################## * checking for file 'Illumina450ProbeVariants.db/DESCRIPTION' ... OK * preparing 'Illumina450ProbeVariants.db': * checking DESCRIPTION meta-information ... OK * checking for LF line-endings in source and make files and shell scripts * checking for empty or unneeded directories * looking to see if a 'data/datalist' file should be added * building 'Illumina450ProbeVariants.db_1.27.0.tar.gz'