Back to Multiple platform build/check report for BioC 3.13 experimental data
ABCDEFGH[I]JKLMNOPQRSTUVWXYZ

INSTALL report for ITALICSData on riesling1

This page was generated on 2021-01-14 15:59:08 -0500 (Thu, 14 Jan 2021).

TO THE DEVELOPERS/MAINTAINERS OF THE ITALICSData PACKAGE: Please make sure to use the following settings in order to reproduce any error or warning you see on this page.
Package 186/385HostnameOS / ArchINSTALLBUILDCHECK
ITALICSData 2.29.0
Guillem Rigaill
Snapshot Date: 2021-01-14 09:00:13 -0500 (Thu, 14 Jan 2021)
URL: https://git.bioconductor.org/packages/ITALICSData
Branch: master
Last Commit: 3b9d4f3
Last Changed Date: 2020-10-27 09:50:31 -0500 (Tue, 27 Oct 2020)
malbec2 Linux (Ubuntu 20.04.1 LTS) / x86_64  OK  OK  WARNINGS UNNEEDED, same version exists in internal repository
riesling1 Windows Server 2019 Standard / x64 [ OK ] OK  WARNINGS 

Summary

Package: ITALICSData
Version: 2.29.0
Command: C:\cygwin\bin\curl.exe -O http://172.29.0.4/BBS/3.13/data-experiment/src/contrib/ITALICSData_2.29.0.tar.gz && rm -rf ITALICSData.buildbin-libdir && mkdir ITALICSData.buildbin-libdir && D:\biocbuild\bbs-3.13-bioc\R\bin\R.exe CMD INSTALL --merge-multiarch --build --library=ITALICSData.buildbin-libdir ITALICSData_2.29.0.tar.gz && D:\biocbuild\bbs-3.13-bioc\R\bin\R.exe CMD INSTALL ITALICSData_2.29.0.zip && rm ITALICSData_2.29.0.tar.gz ITALICSData_2.29.0.zip
StartedAt: 2021-01-14 09:51:44 -0500 (Thu, 14 Jan 2021)
EndedAt: 2021-01-14 09:54:30 -0500 (Thu, 14 Jan 2021)
EllapsedTime: 165.2 seconds
RetCode: 0
Status:  OK  

Command output

##############################################################################
##############################################################################
###
### Running command:
###
###   C:\cygwin\bin\curl.exe -O http://172.29.0.4/BBS/3.13/data-experiment/src/contrib/ITALICSData_2.29.0.tar.gz && rm -rf ITALICSData.buildbin-libdir && mkdir ITALICSData.buildbin-libdir && D:\biocbuild\bbs-3.13-bioc\R\bin\R.exe CMD INSTALL --merge-multiarch --build --library=ITALICSData.buildbin-libdir ITALICSData_2.29.0.tar.gz && D:\biocbuild\bbs-3.13-bioc\R\bin\R.exe CMD INSTALL ITALICSData_2.29.0.zip && rm ITALICSData_2.29.0.tar.gz ITALICSData_2.29.0.zip
###
##############################################################################
##############################################################################


  % Total    % Received % Xferd  Average Speed   Time    Time     Time  Current
                                 Dload  Upload   Total   Spent    Left  Speed

  0     0    0     0    0     0      0      0 --:--:-- --:--:-- --:--:--     0
  2 84.0M    2 1870k    0     0  2517k      0  0:00:34 --:--:--  0:00:34 2517k
 41 84.0M   41 35.1M    0     0  20.8M      0  0:00:04  0:00:01  0:00:03 20.7M
 74 84.0M   74 62.8M    0     0  18.6M      0  0:00:04  0:00:03  0:00:01 18.6M
 81 84.0M   81 68.2M    0     0  18.1M      0  0:00:04  0:00:03  0:00:01 18.1M
100 84.0M  100 84.0M    0     0  20.7M      0  0:00:04  0:00:04 --:--:-- 20.7M

install for i386

* installing *source* package 'ITALICSData' ...
** using staged installation
** data
** inst
** help
*** installing help indices
  converting help for package 'ITALICSData'
    finding HTML links ... done
    Hind.QuartetEffect                      html  
REDIRECT:topic	 Hind.QuartetEffect -> Hind.QuartetEffect.html [ SUCCESS ]
REDIRECT:topic	 Hind.QuartetEffect -> Hind.QuartetEffect.html [ SUCCESS ]
Rd warning: Previous alias or file overwritten by alias: Hind.QuartetEffect
    Nsp.QuartetEffect                       html  
REDIRECT:topic	 Nsp.QuartetEffect -> Nsp.QuartetEffect.html [ SUCCESS ]
REDIRECT:topic	 Nsp.QuartetEffect -> Nsp.QuartetEffect.html [ SUCCESS ]
Rd warning: Previous alias or file overwritten by alias: Nsp.QuartetEffect
    Sty.QuartetEffect                       html  
REDIRECT:topic	 Sty.QuartetEffect -> Sty.QuartetEffect.html [ SUCCESS ]
REDIRECT:topic	 Sty.QuartetEffect -> Sty.QuartetEffect.html [ SUCCESS ]
Rd warning: Previous alias or file overwritten by alias: Sty.QuartetEffect
    Xba.QuartetEffect                       html  
REDIRECT:topic	 Xba.QuartetEffect -> Xba.QuartetEffect.html [ SUCCESS ]
REDIRECT:topic	 Xba.QuartetEffect -> Xba.QuartetEffect.html [ SUCCESS ]
Rd warning: Previous alias or file overwritten by alias: Xba.QuartetEffect
    quartetInfo                             html  
REDIRECT:topic	 quartet -> quartetInfo.html [ SUCCESS ]
REDIRECT:topic	 quartet -> quartetInfo.html [ SUCCESS ]
REDIRECT:file	 quartetInfo.html -> quartetInfo.html [ SUCCESS ]
Rd warning: Previous alias or file overwritten by alias: quartet
    snpInfo                                 html  
REDIRECT:topic	 snpInfo -> snpInfo.html [ SUCCESS ]
REDIRECT:topic	 snpInfo -> snpInfo.html [ SUCCESS ]
Rd warning: Previous alias or file overwritten by alias: snpInfo
** building package indices
** testing if installed package can be loaded from temporary location
** testing if installed package can be loaded from final location
** testing if installed package keeps a record of temporary installation path

install for x64

* installing *source* package 'ITALICSData' ...
** testing if installed package can be loaded
* MD5 sums
packaged installation of 'ITALICSData' as ITALICSData_2.29.0.zip
* DONE (ITALICSData)
* installing to library 'D:/biocbuild/bbs-3.13-bioc/R/library'
package 'ITALICSData' successfully unpacked and MD5 sums checked