Back to Multiple platform build/check report for BioC 3.13 experimental data
ABCDEFGH[I]JKLMNOPQRSTUVWXYZ

INSTALL report for IHWpaper on riesling1

This page was generated on 2021-01-14 15:59:08 -0500 (Thu, 14 Jan 2021).

TO THE DEVELOPERS/MAINTAINERS OF THE IHWpaper PACKAGE: Please make sure to use the following settings in order to reproduce any error or warning you see on this page.
Package 183/385HostnameOS / ArchINSTALLBUILDCHECK
IHWpaper 1.19.4
Nikos Ignatiadis
Snapshot Date: 2021-01-14 09:00:13 -0500 (Thu, 14 Jan 2021)
URL: https://git.bioconductor.org/packages/IHWpaper
Branch: master
Last Commit: 52253f5
Last Changed Date: 2021-01-11 23:43:33 -0500 (Mon, 11 Jan 2021)
malbec2 Linux (Ubuntu 20.04.1 LTS) / x86_64  OK  OK  OK YES, new version is higher than in internal repository
riesling1 Windows Server 2019 Standard / x64 [ OK ] ERROR  skipped 

Summary

Package: IHWpaper
Version: 1.19.4
Command: C:\cygwin\bin\curl.exe -O http://172.29.0.4/BBS/3.13/data-experiment/src/contrib/IHWpaper_1.19.4.tar.gz && rm -rf IHWpaper.buildbin-libdir && mkdir IHWpaper.buildbin-libdir && D:\biocbuild\bbs-3.13-bioc\R\bin\R.exe CMD INSTALL --merge-multiarch --build --library=IHWpaper.buildbin-libdir IHWpaper_1.19.4.tar.gz && D:\biocbuild\bbs-3.13-bioc\R\bin\R.exe CMD INSTALL IHWpaper_1.19.4.zip && rm IHWpaper_1.19.4.tar.gz IHWpaper_1.19.4.zip
StartedAt: 2021-01-14 10:18:43 -0500 (Thu, 14 Jan 2021)
EndedAt: 2021-01-14 10:20:03 -0500 (Thu, 14 Jan 2021)
EllapsedTime: 80.3 seconds
RetCode: 0
Status:  OK  

Command output

##############################################################################
##############################################################################
###
### Running command:
###
###   C:\cygwin\bin\curl.exe -O http://172.29.0.4/BBS/3.13/data-experiment/src/contrib/IHWpaper_1.19.4.tar.gz && rm -rf IHWpaper.buildbin-libdir && mkdir IHWpaper.buildbin-libdir && D:\biocbuild\bbs-3.13-bioc\R\bin\R.exe CMD INSTALL --merge-multiarch --build --library=IHWpaper.buildbin-libdir IHWpaper_1.19.4.tar.gz && D:\biocbuild\bbs-3.13-bioc\R\bin\R.exe CMD INSTALL IHWpaper_1.19.4.zip && rm IHWpaper_1.19.4.tar.gz IHWpaper_1.19.4.zip
###
##############################################################################
##############################################################################


  % Total    % Received % Xferd  Average Speed   Time    Time     Time  Current
                                 Dload  Upload   Total   Spent    Left  Speed

  0     0    0     0    0     0      0      0 --:--:-- --:--:-- --:--:--     0
 59 70.0M   59 41.6M    0     0   108M      0 --:--:-- --:--:-- --:--:--  108M
100 70.0M  100 70.0M    0     0   110M      0 --:--:-- --:--:-- --:--:--  110M

install for i386

* installing *source* package 'IHWpaper' ...
** using staged installation
** libs
"C:/rtools40/mingw32/bin/"g++ -std=gnu++11  -I"D:/biocbuild/bbs-3.13-bioc/R/include" -DNDEBUG  -I'D:/biocbuild/bbs-3.13-bioc/R/library/Rcpp/include'   -I"C:/extsoft/include"     -O2 -Wall  -mfpmath=sse -msse2 -mstackrealign  -c RcppExports.cpp -o RcppExports.o
"C:/rtools40/mingw32/bin/"g++ -std=gnu++11  -I"D:/biocbuild/bbs-3.13-bioc/R/include" -DNDEBUG  -I'D:/biocbuild/bbs-3.13-bioc/R/library/Rcpp/include'   -I"C:/extsoft/include"     -O2 -Wall  -mfpmath=sse -msse2 -mstackrealign  -c ddhf.cpp -o ddhf.o
C:/rtools40/mingw32/bin/g++ -std=gnu++11 -shared -s -static-libgcc -o IHWpaper.dll tmp.def RcppExports.o ddhf.o -LC:/extsoft/lib/i386 -LC:/extsoft/lib -LD:/biocbuild/bbs-3.13-bioc/R/bin/i386 -lR
installing to D:/biocbuild/bbs-3.13-data-experiment/meat/IHWpaper.buildbin-libdir/00LOCK-IHWpaper/00new/IHWpaper/libs/i386
** R
** inst
** byte-compile and prepare package for lazy loading
** help
*** installing help indices
  converting help for package 'IHWpaper'
    finding HTML links ... done
    analyze_dataset                         html  
REDIRECT:topic	 analyze_dataset -> analyze_dataset.html [ SUCCESS ]
    bh                                      html  
REDIRECT:topic	 bh -> bh.html [ SUCCESS ]
    bonf                                    html  
REDIRECT:topic	 bonf -> bonf.html [ SUCCESS ]
    clfdr                                   html  
REDIRECT:topic	 clfdr -> clfdr.html [ SUCCESS ]
    continuous_wrap                         html  
REDIRECT:topic	 continuous_wrap -> continuous_wrap.html [ SUCCESS ]
    ddhf                                    html  
REDIRECT:topic	 ddhf -> ddhf.html [ SUCCESS ]
    du_ttest_sim                            html  
REDIRECT:topic	 du_ttest_sim -> du_ttest_sim.html [ SUCCESS ]
REDIRECT:topic	 du_ttest_sim_fun -> du_ttest_sim.html [ SUCCESS ]
    gbh                                     html  
REDIRECT:topic	 gbh -> gbh.html [ SUCCESS ]
REDIRECT:topic	 tst_gbh -> gbh.html [ SUCCESS ]
REDIRECT:topic	 lsl_gbh -> gbh.html [ SUCCESS ]
    ihw_naive                               html  
REDIRECT:topic	 ihw_naive -> ihw_naive.html [ SUCCESS ]
REDIRECT:topic	 ihw_ecdf_5fold -> ihw_naive.html [ SUCCESS ]
REDIRECT:topic	 ihw_5fold -> ihw_naive.html [ SUCCESS ]
REDIRECT:topic	 ihw_5fold_reg -> ihw_naive.html [ SUCCESS ]
REDIRECT:topic	 ihw_bonf_5fold_reg -> ihw_naive.html [ SUCCESS ]
REDIRECT:topic	 ihw_storey_5fold -> ihw_naive.html [ SUCCESS ]
    lsl_pi0_est                             html  
REDIRECT:topic	 lsl_pi0_est -> lsl_pi0_est.html [ SUCCESS ]
    null_sim                                html  
REDIRECT:topic	 null_sim -> null_sim.html [ SUCCESS ]
REDIRECT:topic	 null_sim_fun -> null_sim.html [ SUCCESS ]
    pretty_legend                           html  
REDIRECT:topic	 pretty_legend -> pretty_legend.html [ SUCCESS ]
    run_evals                               html  
REDIRECT:topic	 run_evals -> run_evals.html [ SUCCESS ]
    scott_fdrreg                            html  
REDIRECT:topic	 scott_fdrreg -> scott_fdrreg.html [ SUCCESS ]
    storey_qvalue                           html  
REDIRECT:topic	 storey_qvalue -> storey_qvalue.html [ SUCCESS ]
    stratified_bh                           html  
REDIRECT:topic	 stratified_bh -> stratified_bh.html [ SUCCESS ]
    tst_pi0_est                             html  
REDIRECT:topic	 tst_pi0_est -> tst_pi0_est.html [ SUCCESS ]
    wasserman_normal_prds_sim               html  
REDIRECT:topic	 wasserman_normal_prds_sim -> wasserman_normal_prds_sim.html [ SUCCESS ]
REDIRECT:topic	 wasserman_normal_prds_sim_fun -> wasserman_normal_prds_sim.html [ SUCCESS ]
    wasserman_normal_sim                    html  
REDIRECT:topic	 wasserman_normal_sim -> wasserman_normal_sim.html [ SUCCESS ]
REDIRECT:topic	 wasserman_normal_sim_fun -> wasserman_normal_sim.html [ SUCCESS ]
** building package indices
** installing vignettes
** testing if installed package can be loaded from temporary location
** testing if installed package can be loaded from final location
** testing if installed package keeps a record of temporary installation path

install for x64

* installing *source* package 'IHWpaper' ...
** libs
"C:/rtools40/mingw64/bin/"g++ -std=gnu++11  -I"D:/biocbuild/bbs-3.13-bioc/R/include" -DNDEBUG  -I'D:/biocbuild/bbs-3.13-bioc/R/library/Rcpp/include'   -I"C:/extsoft/include"     -O2 -Wall  -mfpmath=sse -msse2 -mstackrealign  -c RcppExports.cpp -o RcppExports.o
"C:/rtools40/mingw64/bin/"g++ -std=gnu++11  -I"D:/biocbuild/bbs-3.13-bioc/R/include" -DNDEBUG  -I'D:/biocbuild/bbs-3.13-bioc/R/library/Rcpp/include'   -I"C:/extsoft/include"     -O2 -Wall  -mfpmath=sse -msse2 -mstackrealign  -c ddhf.cpp -o ddhf.o
C:/rtools40/mingw64/bin/g++ -std=gnu++11 -shared -s -static-libgcc -o IHWpaper.dll tmp.def RcppExports.o ddhf.o -LC:/extsoft/lib/x64 -LC:/extsoft/lib -LD:/biocbuild/bbs-3.13-bioc/R/bin/x64 -lR
installing to D:/biocbuild/bbs-3.13-data-experiment/meat/IHWpaper.buildbin-libdir/IHWpaper/libs/x64
** testing if installed package can be loaded
* MD5 sums
packaged installation of 'IHWpaper' as IHWpaper_1.19.4.zip
* DONE (IHWpaper)
* installing to library 'D:/biocbuild/bbs-3.13-bioc/R/library'
package 'IHWpaper' successfully unpacked and MD5 sums checked