Back to Multiple platform build/check report for BioC 3.13 experimental data |
|
This page was generated on 2021-01-14 15:59:08 -0500 (Thu, 14 Jan 2021).
TO THE DEVELOPERS/MAINTAINERS OF THE HighlyReplicatedRNASeq PACKAGE: Please make sure to use the following settings in order to reproduce any error or warning you see on this page. |
Package 174/385 | Hostname | OS / Arch | INSTALL | BUILD | CHECK | ||||||
HighlyReplicatedRNASeq 1.3.0 Constantin Ahlmann-Eltze
| malbec2 | Linux (Ubuntu 20.04.1 LTS) / x86_64 | OK | OK | OK | ![]() | |||||
riesling1 | Windows Server 2019 Standard / x64 | [ OK ] | OK | OK |
Package: HighlyReplicatedRNASeq |
Version: 1.3.0 |
Command: C:\cygwin\bin\curl.exe -O http://172.29.0.4/BBS/3.13/data-experiment/src/contrib/HighlyReplicatedRNASeq_1.3.0.tar.gz && rm -rf HighlyReplicatedRNASeq.buildbin-libdir && mkdir HighlyReplicatedRNASeq.buildbin-libdir && D:\biocbuild\bbs-3.13-bioc\R\bin\R.exe CMD INSTALL --merge-multiarch --build --library=HighlyReplicatedRNASeq.buildbin-libdir HighlyReplicatedRNASeq_1.3.0.tar.gz && D:\biocbuild\bbs-3.13-bioc\R\bin\R.exe CMD INSTALL HighlyReplicatedRNASeq_1.3.0.zip && rm HighlyReplicatedRNASeq_1.3.0.tar.gz HighlyReplicatedRNASeq_1.3.0.zip |
StartedAt: 2021-01-14 10:10:54 -0500 (Thu, 14 Jan 2021) |
EndedAt: 2021-01-14 10:11:56 -0500 (Thu, 14 Jan 2021) |
EllapsedTime: 61.6 seconds |
RetCode: 0 |
Status: OK |
############################################################################## ############################################################################## ### ### Running command: ### ### C:\cygwin\bin\curl.exe -O http://172.29.0.4/BBS/3.13/data-experiment/src/contrib/HighlyReplicatedRNASeq_1.3.0.tar.gz && rm -rf HighlyReplicatedRNASeq.buildbin-libdir && mkdir HighlyReplicatedRNASeq.buildbin-libdir && D:\biocbuild\bbs-3.13-bioc\R\bin\R.exe CMD INSTALL --merge-multiarch --build --library=HighlyReplicatedRNASeq.buildbin-libdir HighlyReplicatedRNASeq_1.3.0.tar.gz && D:\biocbuild\bbs-3.13-bioc\R\bin\R.exe CMD INSTALL HighlyReplicatedRNASeq_1.3.0.zip && rm HighlyReplicatedRNASeq_1.3.0.tar.gz HighlyReplicatedRNASeq_1.3.0.zip ### ############################################################################## ############################################################################## % Total % Received % Xferd Average Speed Time Time Time Current Dload Upload Total Spent Left Speed 0 0 0 0 0 0 0 0 --:--:-- --:--:-- --:--:-- 0 91 7744 91 7060 0 0 56935 0 --:--:-- --:--:-- --:--:-- 56480 100 7744 100 7744 0 0 62451 0 --:--:-- --:--:-- --:--:-- 61952 install for i386 * installing *source* package 'HighlyReplicatedRNASeq' ... ** using staged installation ** R ** inst ** byte-compile and prepare package for lazy loading ** help *** installing help indices converting help for package 'HighlyReplicatedRNASeq' finding HTML links ... done HighlyReplicatedRNASeq html REDIRECT:topic HighlyReplicatedRNASeq -> HighlyReplicatedRNASeq.html [ SUCCESS ] Schurch16 html REDIRECT:topic Schurch16 -> Schurch16.html [ SUCCESS ] REDIRECT:topic Schurch16_metadata -> Schurch16.html [ SUCCESS ] finding level-2 HTML links ... done ** building package indices ** installing vignettes ** testing if installed package can be loaded from temporary location ** testing if installed package can be loaded from final location ** testing if installed package keeps a record of temporary installation path install for x64 * installing *source* package 'HighlyReplicatedRNASeq' ... ** testing if installed package can be loaded * MD5 sums packaged installation of 'HighlyReplicatedRNASeq' as HighlyReplicatedRNASeq_1.3.0.zip * DONE (HighlyReplicatedRNASeq) * installing to library 'D:/biocbuild/bbs-3.13-bioc/R/library' package 'HighlyReplicatedRNASeq' successfully unpacked and MD5 sums checked