Back to Multiple platform build/check report for BioC 3.13 experimental data
ABCDEFG[H]IJKLMNOPQRSTUVWXYZ

BUILD report for HighlyReplicatedRNASeq on riesling1

This page was generated on 2021-01-21 16:01:30 -0500 (Thu, 21 Jan 2021).

TO THE DEVELOPERS/MAINTAINERS OF THE HighlyReplicatedRNASeq PACKAGE: Please make sure to use the following settings in order to reproduce any error or warning you see on this page.
Package 174/386HostnameOS / ArchINSTALLBUILDCHECK
HighlyReplicatedRNASeq 1.3.0
Constantin Ahlmann-Eltze
Snapshot Date: 2021-01-21 09:00:14 -0500 (Thu, 21 Jan 2021)
URL: https://git.bioconductor.org/packages/HighlyReplicatedRNASeq
Branch: master
Last Commit: 5365b41
Last Changed Date: 2020-10-27 10:31:22 -0500 (Tue, 27 Oct 2020)
malbec2 Linux (Ubuntu 20.04.1 LTS) / x86_64  OK  OK  OK UNNEEDED, same version exists in internal repository
riesling1 Windows Server 2019 Standard / x64  OK [ OK ] OK 

Summary

Package: HighlyReplicatedRNASeq
Version: 1.3.0
Command: chmod a+r HighlyReplicatedRNASeq -R && D:\biocbuild\bbs-3.13-bioc\R\bin\R.exe CMD build --keep-empty-dirs --no-resave-data HighlyReplicatedRNASeq
StartedAt: 2021-01-21 10:44:42 -0500 (Thu, 21 Jan 2021)
EndedAt: 2021-01-21 10:45:25 -0500 (Thu, 21 Jan 2021)
EllapsedTime: 43.1 seconds
RetCode: 0
Status:  OK  
PackageFile: HighlyReplicatedRNASeq_1.3.0.tar.gz
PackageFileSize: 349.8 KiB

Command output

##############################################################################
##############################################################################
###
### Running command:
###
###   chmod a+r HighlyReplicatedRNASeq -R && D:\biocbuild\bbs-3.13-bioc\R\bin\R.exe CMD build --keep-empty-dirs --no-resave-data HighlyReplicatedRNASeq
###
##############################################################################
##############################################################################


* checking for file 'HighlyReplicatedRNASeq/DESCRIPTION' ... OK
* preparing 'HighlyReplicatedRNASeq':
* checking DESCRIPTION meta-information ... OK
* installing the package to build vignettes
* creating vignettes ... OK
* checking for LF line-endings in source and make files and shell scripts
* checking for empty or unneeded directories
* building 'HighlyReplicatedRNASeq_1.3.0.tar.gz'