Back to Multiple platform build/check report for BioC 3.13 experimental data
ABCDEFG[H]IJKLMNOPQRSTUVWXYZ

INSTALL report for HiCDataLymphoblast on riesling1

This page was generated on 2021-01-18 15:58:48 -0500 (Mon, 18 Jan 2021).

TO THE DEVELOPERS/MAINTAINERS OF THE HiCDataLymphoblast PACKAGE: Please make sure to use the following settings in order to reproduce any error or warning you see on this page.
Package 173/385HostnameOS / ArchINSTALLBUILDCHECK
HiCDataLymphoblast 1.27.0
Borbala Mifsud
Snapshot Date: 2021-01-18 09:00:15 -0500 (Mon, 18 Jan 2021)
URL: https://git.bioconductor.org/packages/HiCDataLymphoblast
Branch: master
Last Commit: e992ed9
Last Changed Date: 2020-10-27 10:07:01 -0500 (Tue, 27 Oct 2020)
malbec2 Linux (Ubuntu 20.04.1 LTS) / x86_64  OK  OK  OK UNNEEDED, same version exists in internal repository
riesling1 Windows Server 2019 Standard / x64 [ OK ] OK  OK 

Summary

Package: HiCDataLymphoblast
Version: 1.27.0
Command: C:\cygwin\bin\curl.exe -O http://172.29.0.4/BBS/3.13/data-experiment/src/contrib/HiCDataLymphoblast_1.27.0.tar.gz && rm -rf HiCDataLymphoblast.buildbin-libdir && mkdir HiCDataLymphoblast.buildbin-libdir && D:\biocbuild\bbs-3.13-bioc\R\bin\R.exe CMD INSTALL --merge-multiarch --build --library=HiCDataLymphoblast.buildbin-libdir HiCDataLymphoblast_1.27.0.tar.gz && D:\biocbuild\bbs-3.13-bioc\R\bin\R.exe CMD INSTALL HiCDataLymphoblast_1.27.0.zip && rm HiCDataLymphoblast_1.27.0.tar.gz HiCDataLymphoblast_1.27.0.zip
StartedAt: 2021-01-18 09:53:18 -0500 (Mon, 18 Jan 2021)
EndedAt: 2021-01-18 09:53:43 -0500 (Mon, 18 Jan 2021)
EllapsedTime: 24.9 seconds
RetCode: 0
Status:  OK  

Command output

##############################################################################
##############################################################################
###
### Running command:
###
###   C:\cygwin\bin\curl.exe -O http://172.29.0.4/BBS/3.13/data-experiment/src/contrib/HiCDataLymphoblast_1.27.0.tar.gz && rm -rf HiCDataLymphoblast.buildbin-libdir && mkdir HiCDataLymphoblast.buildbin-libdir && D:\biocbuild\bbs-3.13-bioc\R\bin\R.exe CMD INSTALL --merge-multiarch --build --library=HiCDataLymphoblast.buildbin-libdir HiCDataLymphoblast_1.27.0.tar.gz && D:\biocbuild\bbs-3.13-bioc\R\bin\R.exe CMD INSTALL HiCDataLymphoblast_1.27.0.zip && rm HiCDataLymphoblast_1.27.0.tar.gz HiCDataLymphoblast_1.27.0.zip
###
##############################################################################
##############################################################################


  % Total    % Received % Xferd  Average Speed   Time    Time     Time  Current
                                 Dload  Upload   Total   Spent    Left  Speed

  0     0    0     0    0     0      0      0 --:--:-- --:--:-- --:--:--     0
  4 16.3M    4  695k    0     0  2318k      0  0:00:07 --:--:--  0:00:07 2310k
100 16.3M  100 16.3M    0     0  21.2M      0 --:--:-- --:--:-- --:--:-- 21.1M

install for i386

* installing *source* package 'HiCDataLymphoblast' ...
** using staged installation
** inst
** help
No man pages found in package  'HiCDataLymphoblast' 
*** installing help indices
** building package indices
** installing vignettes
** testing if installed package can be loaded from temporary location
** testing if installed package can be loaded from final location
** testing if installed package keeps a record of temporary installation path

install for x64

* installing *source* package 'HiCDataLymphoblast' ...
** testing if installed package can be loaded
* MD5 sums
packaged installation of 'HiCDataLymphoblast' as HiCDataLymphoblast_1.27.0.zip
* DONE (HiCDataLymphoblast)
* installing to library 'D:/biocbuild/bbs-3.13-bioc/R/library'
package 'HiCDataLymphoblast' successfully unpacked and MD5 sums checked