Back to Multiple platform build/check report for BioC 3.13 experimental data
ABCDEFG[H]IJKLMNOPQRSTUVWXYZ

CHECK report for HiCDataLymphoblast on riesling1

This page was generated on 2021-01-14 15:59:08 -0500 (Thu, 14 Jan 2021).

TO THE DEVELOPERS/MAINTAINERS OF THE HiCDataLymphoblast PACKAGE: Please make sure to use the following settings in order to reproduce any error or warning you see on this page.
Package 173/385HostnameOS / ArchINSTALLBUILDCHECK
HiCDataLymphoblast 1.27.0
Borbala Mifsud
Snapshot Date: 2021-01-14 09:00:13 -0500 (Thu, 14 Jan 2021)
URL: https://git.bioconductor.org/packages/HiCDataLymphoblast
Branch: master
Last Commit: e992ed9
Last Changed Date: 2020-10-27 10:07:01 -0500 (Tue, 27 Oct 2020)
malbec2 Linux (Ubuntu 20.04.1 LTS) / x86_64  OK  OK  OK UNNEEDED, same version exists in internal repository
riesling1 Windows Server 2019 Standard / x64  OK  OK [ OK ]

Summary

Package: HiCDataLymphoblast
Version: 1.27.0
Command: D:\biocbuild\bbs-3.13-bioc\R\bin\R.exe CMD check --force-multiarch --install=check:HiCDataLymphoblast.install-out.txt --library=D:\biocbuild\bbs-3.13-bioc\R\library --no-vignettes --timings HiCDataLymphoblast_1.27.0.tar.gz
StartedAt: 2021-01-14 11:23:06 -0500 (Thu, 14 Jan 2021)
EndedAt: 2021-01-14 11:23:18 -0500 (Thu, 14 Jan 2021)
EllapsedTime: 11.9 seconds
RetCode: 0
Status:  OK  
CheckDir: HiCDataLymphoblast.Rcheck
Warnings: 0

Command output

##############################################################################
##############################################################################
###
### Running command:
###
###   D:\biocbuild\bbs-3.13-bioc\R\bin\R.exe CMD check --force-multiarch --install=check:HiCDataLymphoblast.install-out.txt --library=D:\biocbuild\bbs-3.13-bioc\R\library --no-vignettes --timings HiCDataLymphoblast_1.27.0.tar.gz
###
##############################################################################
##############################################################################


* using log directory 'D:/biocbuild/bbs-3.13-data-experiment/meat/HiCDataLymphoblast.Rcheck'
* using R Under development (unstable) (2020-12-30 r79736)
* using platform: x86_64-w64-mingw32 (64-bit)
* using session charset: ISO8859-1
* using option '--no-vignettes'
* checking for file 'HiCDataLymphoblast/DESCRIPTION' ... OK
* this is package 'HiCDataLymphoblast' version '1.27.0'
* checking package namespace information ... OK
* checking package dependencies ... OK
* checking if this is a source package ... OK
* checking if there is a namespace ... OK
* checking for hidden files and directories ... OK
* checking for portable file names ... OK
* checking whether package 'HiCDataLymphoblast' can be installed ... OK
* checking installed package size ... NOTE
  installed size is 58.1Mb
  sub-directories of 1Mb or more:
    extdata  58.1Mb
* checking package directory ... OK
* checking 'build' directory ... OK
* checking DESCRIPTION meta-information ... OK
* checking top-level files ... OK
* checking for left-over files ... OK
* checking index information ... OK
* checking package subdirectories ... OK
* loading checks for arch 'i386'
** checking whether the package can be loaded ... OK
** checking whether the package can be loaded with stated dependencies ... OK
** checking whether the package can be unloaded cleanly ... OK
** checking whether the namespace can be loaded with stated dependencies ... OK
** checking whether the namespace can be unloaded cleanly ... OK
* loading checks for arch 'x64'
** checking whether the package can be loaded ... OK
** checking whether the package can be loaded with stated dependencies ... OK
** checking whether the package can be unloaded cleanly ... OK
** checking whether the namespace can be loaded with stated dependencies ... OK
** checking whether the namespace can be unloaded cleanly ... OK
* checking files in 'vignettes' ... OK
* checking examples ... NONE
* checking for unstated dependencies in vignettes ... OK
* checking package vignettes in 'inst/doc' ... OK
* checking running R code from vignettes ... SKIPPED
* checking re-building of vignette outputs ... SKIPPED
* checking PDF version of manual ... OK
* DONE

Status: 1 NOTE
See
  'D:/biocbuild/bbs-3.13-data-experiment/meat/HiCDataLymphoblast.Rcheck/00check.log'
for details.



Installation output

HiCDataLymphoblast.Rcheck/00install.out

##############################################################################
##############################################################################
###
### Running command:
###
###   C:\cygwin\bin\curl.exe -O http://172.29.0.4/BBS/3.13/data-experiment/src/contrib/HiCDataLymphoblast_1.27.0.tar.gz && rm -rf HiCDataLymphoblast.buildbin-libdir && mkdir HiCDataLymphoblast.buildbin-libdir && D:\biocbuild\bbs-3.13-bioc\R\bin\R.exe CMD INSTALL --merge-multiarch --build --library=HiCDataLymphoblast.buildbin-libdir HiCDataLymphoblast_1.27.0.tar.gz && D:\biocbuild\bbs-3.13-bioc\R\bin\R.exe CMD INSTALL HiCDataLymphoblast_1.27.0.zip && rm HiCDataLymphoblast_1.27.0.tar.gz HiCDataLymphoblast_1.27.0.zip
###
##############################################################################
##############################################################################


  % Total    % Received % Xferd  Average Speed   Time    Time     Time  Current
                                 Dload  Upload   Total   Spent    Left  Speed

  0     0    0     0    0     0      0      0 --:--:-- --:--:-- --:--:--     0
  0 16.3M    0 69833    0     0   320k      0  0:00:52 --:--:--  0:00:52  318k
100 16.3M  100 16.3M    0     0  19.1M      0 --:--:-- --:--:-- --:--:-- 19.1M

install for i386

* installing *source* package 'HiCDataLymphoblast' ...
** using staged installation
** inst
** help
No man pages found in package  'HiCDataLymphoblast' 
*** installing help indices
** building package indices
** installing vignettes
** testing if installed package can be loaded from temporary location
** testing if installed package can be loaded from final location
** testing if installed package keeps a record of temporary installation path

install for x64

* installing *source* package 'HiCDataLymphoblast' ...
** testing if installed package can be loaded
* MD5 sums
packaged installation of 'HiCDataLymphoblast' as HiCDataLymphoblast_1.27.0.zip
* DONE (HiCDataLymphoblast)
* installing to library 'D:/biocbuild/bbs-3.13-bioc/R/library'
package 'HiCDataLymphoblast' successfully unpacked and MD5 sums checked

Tests output


Example timings